BEGIN:VCALENDAR
PRODID:-//nuDatenautomaten//framework iCal4j //DE
VERSION:2.0
CALSCALE:GREGORIAN
BEGIN:VTIMEZONE
TZID:Europe/Berlin
LAST-MODIFIED:20260306T231828Z
TZURL:https://www.tzurl.org/zoneinfo/Europe/Berlin
X-LIC-LOCATION:Europe/Berlin
X-PROLEPTIC-TZNAME:LMT
BEGIN:STANDARD
TZNAME:CET
TZOFFSETFROM:+005328
TZOFFSETTO:+0100
DTSTART:18930401T000000
END:STANDARD
BEGIN:DAYLIGHT
TZNAME:CEST
TZOFFSETFROM:+0100
TZOFFSETTO:+0200
DTSTART:19160430T230000
RDATE:19400401T020000
RDATE:19430329T020000
RDATE:19460414T020000
RDATE:19470406T030000
RDATE:19480418T020000
RDATE:19490410T020000
RDATE:19800406T020000
END:DAYLIGHT
BEGIN:STANDARD
TZNAME:CET
TZOFFSETFROM:+0200
TZOFFSETTO:+0100
DTSTART:19161001T010000
RDATE:19421102T030000
RDATE:19431004T030000
RDATE:19441002T030000
RDATE:19451118T030000
RDATE:19461007T030000
END:STANDARD
BEGIN:DAYLIGHT
TZNAME:CEST
TZOFFSETFROM:+0100
TZOFFSETTO:+0200
DTSTART:19170416T020000
RRULE:FREQ=YEARLY;UNTIL=19180415T010000Z;BYMONTH=4;BYDAY=3MO
END:DAYLIGHT
BEGIN:STANDARD
TZNAME:CET
TZOFFSETFROM:+0200
TZOFFSETTO:+0100
DTSTART:19170917T030000
RRULE:FREQ=YEARLY;UNTIL=19180916T010000Z;BYMONTH=9;BYDAY=3MO
END:STANDARD
BEGIN:DAYLIGHT
TZNAME:CEST
TZOFFSETFROM:+0100
TZOFFSETTO:+0200
DTSTART:19440403T020000
RRULE:FREQ=YEARLY;UNTIL=19450402T010000Z;BYMONTH=4;BYDAY=1MO
END:DAYLIGHT
BEGIN:DAYLIGHT
TZNAME:CEMT
TZOFFSETFROM:+0200
TZOFFSETTO:+0300
DTSTART:19450524T020000
RDATE:19470511T030000
END:DAYLIGHT
BEGIN:DAYLIGHT
TZNAME:CEST
TZOFFSETFROM:+0300
TZOFFSETTO:+0200
DTSTART:19450924T030000
RDATE:19470629T030000
END:DAYLIGHT
BEGIN:STANDARD
TZNAME:CET
TZOFFSETFROM:+0100
TZOFFSETTO:+0100
DTSTART:19460101T000000
RDATE:19800101T000000
END:STANDARD
BEGIN:STANDARD
TZNAME:CET
TZOFFSETFROM:+0200
TZOFFSETTO:+0100
DTSTART:19471005T030000
RRULE:FREQ=YEARLY;UNTIL=19491002T010000Z;BYMONTH=10;BYDAY=1SU
END:STANDARD
BEGIN:STANDARD
TZNAME:CET
TZOFFSETFROM:+0200
TZOFFSETTO:+0100
DTSTART:19800928T030000
RRULE:FREQ=YEARLY;UNTIL=19950924T010000Z;BYMONTH=9;BYDAY=-1SU
END:STANDARD
BEGIN:DAYLIGHT
TZNAME:CEST
TZOFFSETFROM:+0100
TZOFFSETTO:+0200
DTSTART:19810329T020000
RRULE:FREQ=YEARLY;BYMONTH=3;BYDAY=-1SU
END:DAYLIGHT
BEGIN:STANDARD
TZNAME:CET
TZOFFSETFROM:+0200
TZOFFSETTO:+0100
DTSTART:19961027T030000
RRULE:FREQ=YEARLY;BYMONTH=10;BYDAY=-1SU
END:STANDARD
END:VTIMEZONE
BEGIN:VEVENT
DTSTAMP:20260424T115111Z
DTSTART;TZID=Europe/Berlin:20250904T194500
DTEND;TZID=Europe/Berlin:20250904T224500
SUMMARY:ME L6 Gr 5\, Tours 1&2 Forward-Morges V vs Pully II (0)
UID:de891d01-3ecc-432d-9ae0-b5f961637914
STATUS:CONFIRMED
LAST-MODIFIED:20250904T215709Z
DESCRIPTION:6ème ligue Hommes Groupe 5\, Tours 1&2\nBegegnungs-Nr: 0\nHeim: Forward-Morges V\nGast: Pully II\n\nAdresse: Chemin de Tolochenaz\, 1110 Morges\n
LOCATION:Chemin de Tolochenaz\, 1110 Morges
CATEGORIES:Saison 2025/26
END:VEVENT
BEGIN:VEVENT
DTSTAMP:20260424T115111Z
DTSTART;TZID=Europe/Berlin:20250918T194500
DTEND;TZID=Europe/Berlin:20250918T224500
SUMMARY:ME L6 Gr 5\, Tours 1&2 Forward-Morges V vs Lausanne XIV (0)
UID:676c3ba2-5101-4f90-98d9-0430f414ed57
STATUS:CONFIRMED
LAST-MODIFIED:20250920T162445Z
DESCRIPTION:6ème ligue Hommes Groupe 5\, Tours 1&2\nBegegnungs-Nr: 0\nHeim: Forward-Morges V\nGast: Lausanne XIV\n\nAdresse: Chemin de Tolochenaz\, 1110 Morges\n
LOCATION:Chemin de Tolochenaz\, 1110 Morges
CATEGORIES:Saison 2025/26
END:VEVENT
BEGIN:VEVENT
DTSTAMP:20260424T115111Z
DTSTART;TZID=Europe/Berlin:20251009T194500
DTEND;TZID=Europe/Berlin:20251009T224500
SUMMARY:ME L6 Gr 5\, Tours 1&2 Forward-Morges V vs Mézières III (0)
UID:f1e07062-a53e-40a3-a989-1ed712fbf7f6
STATUS:CONFIRMED
LAST-MODIFIED:20251011T112500Z
DESCRIPTION:6ème ligue Hommes Groupe 5\, Tours 1&2\nBegegnungs-Nr: 0\nHeim: Forward-Morges V\nGast: Mézières III\n\nAdresse: Chemin de Tolochenaz\, 1110 Morges\n
LOCATION:Chemin de Tolochenaz\, 1110 Morges
CATEGORIES:Saison 2025/26
END:VEVENT
BEGIN:VEVENT
DTSTAMP:20260424T115111Z
DTSTART;TZID=Europe/Berlin:20251106T194500
DTEND;TZID=Europe/Berlin:20251106T224500
SUMMARY:ME L6 Gr 5\, Tours 1&2 Forward-Morges V vs Montriond-Ouchy  V (0)
UID:67163083-f075-4be1-bad7-454e018d5348
STATUS:CONFIRMED
LAST-MODIFIED:20251110T194842Z
DESCRIPTION:6ème ligue Hommes Groupe 5\, Tours 1&2\nBegegnungs-Nr: 0\nHeim: Forward-Morges V\nGast: Montriond-Ouchy  V\n\nAdresse: Chemin de Tolochenaz\, 1110 Morges\n
LOCATION:Chemin de Tolochenaz\, 1110 Morges
CATEGORIES:Saison 2025/26
END:VEVENT
BEGIN:VEVENT
DTSTAMP:20260424T115111Z
DTSTART;TZID=Europe/Berlin:20251127T194500
DTEND;TZID=Europe/Berlin:20251127T224500
SUMMARY:ME L6 Gr 5\, Tours 1&2 Forward-Morges V vs Lausanne XV (0)
UID:ef61e7e2-cb72-4ff9-ab76-07f40e107358
STATUS:CONFIRMED
LAST-MODIFIED:20251128T204111Z
DESCRIPTION:6ème ligue Hommes Groupe 5\, Tours 1&2\nBegegnungs-Nr: 0\nHeim: Forward-Morges V\nGast: Lausanne XV\n\nAdresse: Chemin de Tolochenaz\, 1110 Morges\n
LOCATION:Chemin de Tolochenaz\, 1110 Morges
CATEGORIES:Saison 2025/26
END:VEVENT
BEGIN:VEVENT
DTSTAMP:20260424T115111Z
DTSTART;TZID=Europe/Berlin:20260423T194500
DTEND;TZID=Europe/Berlin:20260423T224500
SUMMARY:ME L6 Gr 7\, Tours 3&4 Forward-Morges V vs Montriond-Ouchy  IV (0)
UID:53ecc28f-3b32-4c67-8ac5-b024c582c577
STATUS:CONFIRMED
DESCRIPTION:6ème ligue Hommes Groupe 7\, Tours 3&4\nBegegnungs-Nr: 0\nHeim: Forward-Morges V\nGast: Montriond-Ouchy  IV\n\nAdresse: Chemin de Tolochenaz\, 1110 Morges\n
LOCATION:Chemin de Tolochenaz\, 1110 Morges
CATEGORIES:Saison 2025/26
END:VEVENT
BEGIN:VEVENT
DTSTAMP:20260424T115111Z
DTSTART;TZID=Europe/Berlin:20260319T194500
DTEND;TZID=Europe/Berlin:20260319T224500
SUMMARY:ME L6 Gr 7\, Tours 3&4 Forward-Morges V vs Yvonand (0)
UID:627c2888-f7d1-493b-a2e6-287cac783c2b
STATUS:CONFIRMED
LAST-MODIFIED:20260321T102906Z
DESCRIPTION:6ème ligue Hommes Groupe 7\, Tours 3&4\nBegegnungs-Nr: 0\nHeim: Forward-Morges V\nGast: Yvonand\n\nAdresse: Chemin de Tolochenaz\, 1110 Morges\n
LOCATION:Chemin de Tolochenaz\, 1110 Morges
CATEGORIES:Saison 2025/26
END:VEVENT
BEGIN:VEVENT
DTSTAMP:20260424T115111Z
DTSTART;TZID=Europe/Berlin:20260226T194500
DTEND;TZID=Europe/Berlin:20260226T224500
SUMMARY:ME L6 Gr 7\, Tours 3&4 Forward-Morges V vs Penthalaz (0)
UID:65d0efa3-3477-4a74-9b9e-d351faf2f10a
STATUS:CONFIRMED
LAST-MODIFIED:20260301T135105Z
DESCRIPTION:6ème ligue Hommes Groupe 7\, Tours 3&4\nBegegnungs-Nr: 0\nHeim: Forward-Morges V\nGast: Penthalaz\n\nAdresse: Chemin de Tolochenaz\, 1110 Morges\n
LOCATION:Chemin de Tolochenaz\, 1110 Morges
CATEGORIES:Saison 2025/26
END:VEVENT
BEGIN:VEVENT
DTSTAMP:20260424T115111Z
DTSTART;TZID=Europe/Berlin:20260205T194500
DTEND;TZID=Europe/Berlin:20260205T224500
SUMMARY:ME L6 Gr 7\, Tours 3&4 Forward-Morges V vs Vaudoise-Assurances II (0)
UID:b46b956b-5d8b-4a01-b754-2b2ce23dccf7
STATUS:CONFIRMED
LAST-MODIFIED:20260206T184110Z
DESCRIPTION:6ème ligue Hommes Groupe 7\, Tours 3&4\nBegegnungs-Nr: 0\nHeim: Forward-Morges V\nGast: Vaudoise-Assurances II\n\nAdresse: Chemin de Tolochenaz\, 1110 Morges\n
LOCATION:Chemin de Tolochenaz\, 1110 Morges
CATEGORIES:Saison 2025/26
END:VEVENT
BEGIN:VEVENT
DTSTAMP:20260424T115111Z
DTSTART;TZID=Europe/Berlin:20260115T194500
DTEND;TZID=Europe/Berlin:20260115T224500
SUMMARY:ME L6 Gr 7\, Tours 3&4 Forward-Morges V vs Lausanne XI (0)
UID:9fc942df-d60e-4975-88ac-7754c26cdf2f
STATUS:CONFIRMED
LAST-MODIFIED:20260118T114450Z
DESCRIPTION:6ème ligue Hommes Groupe 7\, Tours 3&4\nBegegnungs-Nr: 0\nHeim: Forward-Morges V\nGast: Lausanne XI\n\nAdresse: Chemin de Tolochenaz\, 1110 Morges\n
LOCATION:Chemin de Tolochenaz\, 1110 Morges
CATEGORIES:Saison 2025/26
END:VEVENT
BEGIN:VEVENT
DTSTAMP:20260424T115111Z
DTSTART;TZID=Europe/Berlin:20250910T193000
DTEND;TZID=Europe/Berlin:20250910T223000
SUMMARY:ME L6 Gr 5\, Tours 1&2 Montriond-Ouchy  V vs Forward-Morges V (0)
UID:88ac2d37-a4eb-444e-8dd7-17c0d7a5cc2c
STATUS:CONFIRMED
LAST-MODIFIED:20250910T231204Z
DESCRIPTION:6ème ligue Hommes Groupe 5\, Tours 1&2\nBegegnungs-Nr: 0\nHeim: Montriond-Ouchy  V\nGast: Forward-Morges V\n\nAdresse: Avenue d'Ouchy 45\, 1006 Lausanne\n
LOCATION:Avenue d'Ouchy 45\, 1006 Lausanne
CATEGORIES:Saison 2025/26
END:VEVENT
BEGIN:VEVENT
DTSTAMP:20260424T115111Z
DTSTART;TZID=Europe/Berlin:20251004T110000
DTEND;TZID=Europe/Berlin:20251004T140000
SUMMARY:ME L6 Gr 5\, Tours 1&2 Lausanne XV vs Forward-Morges V (0)
UID:84d7c72e-bfbf-488a-ace0-2b5121e2ef39
STATUS:CONFIRMED
LAST-MODIFIED:20251005T195615Z
DESCRIPTION:6ème ligue Hommes Groupe 5\, Tours 1&2\nBegegnungs-Nr: 0\nHeim: Lausanne XV\nGast: Forward-Morges V\n\nAdresse: Vaudoise Aréna\, Ch. du Viaduc 14\, 1008 Prilly\n
LOCATION:Vaudoise Aréna\, Ch. du Viaduc 14\, 1008 Prilly
CATEGORIES:Saison 2025/26
END:VEVENT
BEGIN:VEVENT
DTSTAMP:20260424T115111Z
DTSTART;TZID=Europe/Berlin:20251030T193000
DTEND;TZID=Europe/Berlin:20251030T223000
SUMMARY:ME L6 Gr 5\, Tours 1&2 Pully II vs Forward-Morges V (0)
UID:0d88324c-7c0f-4ea6-91c9-c2a96d2f2e20
STATUS:CONFIRMED
LAST-MODIFIED:20251101T154257Z
DESCRIPTION:6ème ligue Hommes Groupe 5\, Tours 1&2\nBegegnungs-Nr: 0\nHeim: Pully II\nGast: Forward-Morges V\n\nAdresse: Av. de Belmont 4\, 1009 Pully\n
LOCATION:Av. de Belmont 4\, 1009 Pully
CATEGORIES:Saison 2025/26
END:VEVENT
BEGIN:VEVENT
DTSTAMP:20260424T115111Z
DTSTART;TZID=Europe/Berlin:20251122T110000
DTEND;TZID=Europe/Berlin:20251122T140000
SUMMARY:ME L6 Gr 5\, Tours 1&2 Lausanne XIV vs Forward-Morges V (0)
UID:36f70420-6abf-46f9-bc08-ff9335714ae1
STATUS:CONFIRMED
LAST-MODIFIED:20251123T122937Z
DESCRIPTION:6ème ligue Hommes Groupe 5\, Tours 1&2\nBegegnungs-Nr: 0\nHeim: Lausanne XIV\nGast: Forward-Morges V\n\nAdresse: Vaudoise Aréna\, Ch. du Viaduc 14\, 1008 Prilly\n
LOCATION:Vaudoise Aréna\, Ch. du Viaduc 14\, 1008 Prilly
CATEGORIES:Saison 2025/26
END:VEVENT
BEGIN:VEVENT
DTSTAMP:20260424T115111Z
DTSTART;TZID=Europe/Berlin:20251211T200000
DTEND;TZID=Europe/Berlin:20251211T230000
SUMMARY:ME L6 Gr 5\, Tours 1&2 Mézières III vs Forward-Morges V (0)
UID:c3e2729c-ecf5-4836-87ff-dd780fd25ac5
STATUS:CONFIRMED
LAST-MODIFIED:20251213T095227Z
DESCRIPTION:6ème ligue Hommes Groupe 5\, Tours 1&2\nBegegnungs-Nr: 0\nHeim: Mézières III\nGast: Forward-Morges V\n\nAdresse: -\, 1083 Mézières\n
LOCATION:-\, 1083 Mézières
CATEGORIES:Saison 2025/26
END:VEVENT
BEGIN:VEVENT
DTSTAMP:20260424T115111Z
DTSTART;TZID=Europe/Berlin:20260501T200000
DTEND;TZID=Europe/Berlin:20260501T230000
SUMMARY:ME L6 Gr 7\, Tours 3&4 Penthalaz vs Forward-Morges V (0)
UID:d535b96c-c46e-4647-ab89-91dbdec6dccf
STATUS:CONFIRMED
DESCRIPTION:6ème ligue Hommes Groupe 7\, Tours 3&4\nBegegnungs-Nr: 0\nHeim: Penthalaz\nGast: Forward-Morges V\n\nAdresse: Chemin du Collège 1\, 1305 Penthalaz\n
LOCATION:Chemin du Collège 1\, 1305 Penthalaz
CATEGORIES:Saison 2025/26
END:VEVENT
BEGIN:VEVENT
DTSTAMP:20260424T115111Z
DTSTART;TZID=Europe/Berlin:20260402T193000
DTEND;TZID=Europe/Berlin:20260402T223000
SUMMARY:ME L6 Gr 7\, Tours 3&4 Vaudoise-Assurances II vs Forward-Morges V (0)
UID:3446bd85-e79e-4800-ad9f-3e6dda46ab31
STATUS:CONFIRMED
LAST-MODIFIED:20260407T193701Z
DESCRIPTION:6ème ligue Hommes Groupe 7\, Tours 3&4\nBegegnungs-Nr: 0\nHeim: Vaudoise-Assurances II\nGast: Forward-Morges V\n\nAdresse: Ch de Bellerive 36\, 1007 Lausanne\n
LOCATION:Ch de Bellerive 36\, 1007 Lausanne
CATEGORIES:Saison 2025/26
END:VEVENT
BEGIN:VEVENT
DTSTAMP:20260424T115111Z
DTSTART;TZID=Europe/Berlin:20260309T200000
DTEND;TZID=Europe/Berlin:20260309T230000
SUMMARY:ME L6 Gr 7\, Tours 3&4 Lausanne XI vs Forward-Morges V (0)
UID:f1a36e62-687e-4589-8e82-ad5b50a300cb
STATUS:CONFIRMED
LAST-MODIFIED:20260310T110058Z
DESCRIPTION:6ème ligue Hommes Groupe 7\, Tours 3&4\nBegegnungs-Nr: 0\nHeim: Lausanne XI\nGast: Forward-Morges V\n\nAdresse: Vaudoise Aréna\, Ch. du Viaduc 14\, 1008 Prilly\n
LOCATION:Vaudoise Aréna\, Ch. du Viaduc 14\, 1008 Prilly
CATEGORIES:Saison 2025/26
END:VEVENT
BEGIN:VEVENT
DTSTAMP:20260424T115111Z
DTSTART;TZID=Europe/Berlin:20260212T193000
DTEND;TZID=Europe/Berlin:20260212T223000
SUMMARY:ME L6 Gr 7\, Tours 3&4 Montriond-Ouchy  IV vs Forward-Morges V (0)
UID:408f1649-b519-4e50-b318-75497b0ac773
STATUS:CONFIRMED
LAST-MODIFIED:20260214T170828Z
DESCRIPTION:6ème ligue Hommes Groupe 7\, Tours 3&4\nBegegnungs-Nr: 0\nHeim: Montriond-Ouchy  IV\nGast: Forward-Morges V\n\nAdresse: Avenue d'Ouchy 45\, 1006 Lausanne\n
LOCATION:Avenue d'Ouchy 45\, 1006 Lausanne
CATEGORIES:Saison 2025/26
END:VEVENT
BEGIN:VEVENT
DTSTAMP:20260424T115111Z
DTSTART;TZID=Europe/Berlin:20260128T193000
DTEND;TZID=Europe/Berlin:20260128T223000
SUMMARY:ME L6 Gr 7\, Tours 3&4 Yvonand vs Forward-Morges V (0)
UID:eefa0f0d-4a48-45d7-8b9f-bbc970cb5a53
STATUS:CONFIRMED
LAST-MODIFIED:20260130T173100Z
DESCRIPTION:6ème ligue Hommes Groupe 7\, Tours 3&4\nBegegnungs-Nr: 0\nHeim: Yvonand\nGast: Forward-Morges V\n\nAdresse: Salle de rythmique\, 1462 Yvonand\n
LOCATION:Salle de rythmique\, 1462 Yvonand
CATEGORIES:Saison 2025/26
END:VEVENT
END:VCALENDAR
