BEGIN:VCALENDAR
PRODID:-//nuDatenautomaten//framework iCal4j //DE
VERSION:2.0
CALSCALE:GREGORIAN
BEGIN:VTIMEZONE
TZID:Europe/Berlin
LAST-MODIFIED:20260306T231828Z
TZURL:https://www.tzurl.org/zoneinfo/Europe/Berlin
X-LIC-LOCATION:Europe/Berlin
X-PROLEPTIC-TZNAME:LMT
BEGIN:STANDARD
TZNAME:CET
TZOFFSETFROM:+005328
TZOFFSETTO:+0100
DTSTART:18930401T000000
END:STANDARD
BEGIN:DAYLIGHT
TZNAME:CEST
TZOFFSETFROM:+0100
TZOFFSETTO:+0200
DTSTART:19160430T230000
RDATE:19400401T020000
RDATE:19430329T020000
RDATE:19460414T020000
RDATE:19470406T030000
RDATE:19480418T020000
RDATE:19490410T020000
RDATE:19800406T020000
END:DAYLIGHT
BEGIN:STANDARD
TZNAME:CET
TZOFFSETFROM:+0200
TZOFFSETTO:+0100
DTSTART:19161001T010000
RDATE:19421102T030000
RDATE:19431004T030000
RDATE:19441002T030000
RDATE:19451118T030000
RDATE:19461007T030000
END:STANDARD
BEGIN:DAYLIGHT
TZNAME:CEST
TZOFFSETFROM:+0100
TZOFFSETTO:+0200
DTSTART:19170416T020000
RRULE:FREQ=YEARLY;UNTIL=19180415T010000Z;BYMONTH=4;BYDAY=3MO
END:DAYLIGHT
BEGIN:STANDARD
TZNAME:CET
TZOFFSETFROM:+0200
TZOFFSETTO:+0100
DTSTART:19170917T030000
RRULE:FREQ=YEARLY;UNTIL=19180916T010000Z;BYMONTH=9;BYDAY=3MO
END:STANDARD
BEGIN:DAYLIGHT
TZNAME:CEST
TZOFFSETFROM:+0100
TZOFFSETTO:+0200
DTSTART:19440403T020000
RRULE:FREQ=YEARLY;UNTIL=19450402T010000Z;BYMONTH=4;BYDAY=1MO
END:DAYLIGHT
BEGIN:DAYLIGHT
TZNAME:CEMT
TZOFFSETFROM:+0200
TZOFFSETTO:+0300
DTSTART:19450524T020000
RDATE:19470511T030000
END:DAYLIGHT
BEGIN:DAYLIGHT
TZNAME:CEST
TZOFFSETFROM:+0300
TZOFFSETTO:+0200
DTSTART:19450924T030000
RDATE:19470629T030000
END:DAYLIGHT
BEGIN:STANDARD
TZNAME:CET
TZOFFSETFROM:+0100
TZOFFSETTO:+0100
DTSTART:19460101T000000
RDATE:19800101T000000
END:STANDARD
BEGIN:STANDARD
TZNAME:CET
TZOFFSETFROM:+0200
TZOFFSETTO:+0100
DTSTART:19471005T030000
RRULE:FREQ=YEARLY;UNTIL=19491002T010000Z;BYMONTH=10;BYDAY=1SU
END:STANDARD
BEGIN:STANDARD
TZNAME:CET
TZOFFSETFROM:+0200
TZOFFSETTO:+0100
DTSTART:19800928T030000
RRULE:FREQ=YEARLY;UNTIL=19950924T010000Z;BYMONTH=9;BYDAY=-1SU
END:STANDARD
BEGIN:DAYLIGHT
TZNAME:CEST
TZOFFSETFROM:+0100
TZOFFSETTO:+0200
DTSTART:19810329T020000
RRULE:FREQ=YEARLY;BYMONTH=3;BYDAY=-1SU
END:DAYLIGHT
BEGIN:STANDARD
TZNAME:CET
TZOFFSETFROM:+0200
TZOFFSETTO:+0100
DTSTART:19961027T030000
RRULE:FREQ=YEARLY;BYMONTH=10;BYDAY=-1SU
END:STANDARD
END:VTIMEZONE
BEGIN:VEVENT
DTSTAMP:20260424T191213Z
DTSTART;TZID=Europe/Berlin:20251021T200000
DTEND;TZID=Europe/Berlin:20251021T230000
SUMMARY:HE 6. Liga Gr. 1 KV Liestal V vs Aesch V (null)
UID:473df1a8-51cb-4cc9-a5e8-7a6220985adf
STATUS:CONFIRMED
LAST-MODIFIED:20251022T114007Z
DESCRIPTION:6. Liga Herren Gruppe 1\nBegegnungs-Nr: null\nHeim: KV Liestal V\nGast: Aesch V\n\nAdresse: Büchelistrasse\, 4410 Liestal\n
LOCATION:Büchelistrasse\, 4410 Liestal
CATEGORIES:Saison 2025/26
END:VEVENT
BEGIN:VEVENT
DTSTAMP:20260424T191213Z
DTSTART;TZID=Europe/Berlin:20251014T200000
DTEND;TZID=Europe/Berlin:20251014T230000
SUMMARY:HE 6. Liga Gr. 1 KV Liestal V vs Old Boys Basel IV (null)
UID:ceebec82-69f4-4aed-bc86-1a71d7d0b3a0
STATUS:CONFIRMED
LAST-MODIFIED:20251016T145840Z
DESCRIPTION:6. Liga Herren Gruppe 1\nBegegnungs-Nr: null\nHeim: KV Liestal V\nGast: Old Boys Basel IV\n\nAdresse: Büchelistrasse\, 4410 Liestal\n
LOCATION:Büchelistrasse\, 4410 Liestal
CATEGORIES:Saison 2025/26
END:VEVENT
BEGIN:VEVENT
DTSTAMP:20260424T191213Z
DTSTART;TZID=Europe/Berlin:20251202T200000
DTEND;TZID=Europe/Berlin:20251202T230000
SUMMARY:HE 6. Liga Gr. 1 KV Liestal V vs Copains Birsfelden V (null)
UID:e28bb54d-accd-45a9-9cd9-6f0425788ecd
STATUS:CONFIRMED
LAST-MODIFIED:20251205T123414Z
DESCRIPTION:6. Liga Herren Gruppe 1\nBegegnungs-Nr: null\nHeim: KV Liestal V\nGast: Copains Birsfelden V\n\nAdresse: Büchelistrasse\, 4410 Liestal\n
LOCATION:Büchelistrasse\, 4410 Liestal
CATEGORIES:Saison 2025/26
END:VEVENT
BEGIN:VEVENT
DTSTAMP:20260424T191213Z
DTSTART;TZID=Europe/Berlin:20260129T200000
DTEND;TZID=Europe/Berlin:20260129T230000
SUMMARY:HE 6. Liga Gr. 1 KV Liestal V vs Oberwil VII (null)
UID:820c14c8-26a0-4b7a-bbf9-ae1bbfd3f233
STATUS:CONFIRMED
LAST-MODIFIED:20260130T133530Z
DESCRIPTION:6. Liga Herren Gruppe 1\nBegegnungs-Nr: null\nHeim: KV Liestal V\nGast: Oberwil VII\n\nAdresse: Büchelistrasse\, 4410 Liestal\n
LOCATION:Büchelistrasse\, 4410 Liestal
CATEGORIES:Saison 2025/26
END:VEVENT
BEGIN:VEVENT
DTSTAMP:20260424T191213Z
DTSTART;TZID=Europe/Berlin:20260108T200000
DTEND;TZID=Europe/Berlin:20260108T230000
SUMMARY:HE 6. Liga Gr. 1 KV Liestal V vs Allschwil (null)
UID:d7a9a8f6-d562-4a0c-8c97-983ad293dced
STATUS:CONFIRMED
LAST-MODIFIED:20260109T074443Z
DESCRIPTION:6. Liga Herren Gruppe 1\nBegegnungs-Nr: null\nHeim: KV Liestal V\nGast: Allschwil\n\nAdresse: Büchelistrasse\, 4410 Liestal\n
LOCATION:Büchelistrasse\, 4410 Liestal
CATEGORIES:Saison 2025/26
END:VEVENT
BEGIN:VEVENT
DTSTAMP:20260424T191213Z
DTSTART;TZID=Europe/Berlin:20260326T200000
DTEND;TZID=Europe/Berlin:20260326T230000
SUMMARY:HE 6. Liga Gr. 1 KV Liestal V vs Basel XII (null)
UID:e7c14fd8-3be6-4056-8994-c4d31fcf6b28
STATUS:CONFIRMED
LAST-MODIFIED:20260416T094324Z
DESCRIPTION:6. Liga Herren Gruppe 1\nBegegnungs-Nr: null\nHeim: KV Liestal V\nGast: Basel XII\n\nAdresse: Büchelistrasse\, 4410 Liestal\n
LOCATION:Büchelistrasse\, 4410 Liestal
CATEGORIES:Saison 2025/26
END:VEVENT
BEGIN:VEVENT
DTSTAMP:20260424T191213Z
DTSTART;TZID=Europe/Berlin:20260305T200000
DTEND;TZID=Europe/Berlin:20260305T230000
SUMMARY:HE 6. Liga Gr. 1 KV Liestal V vs Binningen IV (null)
UID:7e4458df-b695-481c-81df-a49e4eb32139
STATUS:CONFIRMED
LAST-MODIFIED:20260313T125724Z
DESCRIPTION:6. Liga Herren Gruppe 1\nBegegnungs-Nr: null\nHeim: KV Liestal V\nGast: Binningen IV\n\nAdresse: Büchelistrasse\, 4410 Liestal\n
LOCATION:Büchelistrasse\, 4410 Liestal
CATEGORIES:Saison 2025/26
END:VEVENT
BEGIN:VEVENT
DTSTAMP:20260424T191213Z
DTSTART;TZID=Europe/Berlin:20250829T193000
DTEND;TZID=Europe/Berlin:20250829T223000
SUMMARY:HE 6. Liga Gr. 1 Allschwil vs KV Liestal V (null)
UID:34cb7b00-6ce7-4ff6-8492-4d5500a02a05
STATUS:CONFIRMED
LAST-MODIFIED:20250905T121839Z
DESCRIPTION:6. Liga Herren Gruppe 1\nBegegnungs-Nr: null\nHeim: Allschwil\nGast: KV Liestal V\n\nAdresse: Schönenbuchstrasse 12\, 4123 Allschwil\n
LOCATION:Schönenbuchstrasse 12\, 4123 Allschwil
CATEGORIES:Saison 2025/26
END:VEVENT
BEGIN:VEVENT
DTSTAMP:20260424T191213Z
DTSTART;TZID=Europe/Berlin:20250926T194500
DTEND;TZID=Europe/Berlin:20250926T224500
SUMMARY:HE 6. Liga Gr. 1 Oberwil VII vs KV Liestal V (null)
UID:4212a79f-2155-414e-ad44-f1bce7f83acb
STATUS:CONFIRMED
LAST-MODIFIED:20250930T084842Z
DESCRIPTION:6. Liga Herren Gruppe 1\nBegegnungs-Nr: null\nHeim: Oberwil VII\nGast: KV Liestal V\n\nAdresse: Schulstrasse\, 4104 Oberwil\n
LOCATION:Schulstrasse\, 4104 Oberwil
CATEGORIES:Saison 2025/26
END:VEVENT
BEGIN:VEVENT
DTSTAMP:20260424T191213Z
DTSTART;TZID=Europe/Berlin:20251212T200000
DTEND;TZID=Europe/Berlin:20251212T230000
SUMMARY:HE 6. Liga Gr. 1 Basel XII vs KV Liestal V (null)
UID:a9a973a3-23d2-440a-8379-16ca765a3279
STATUS:CONFIRMED
LAST-MODIFIED:20251216T122308Z
DESCRIPTION:6. Liga Herren Gruppe 1\nBegegnungs-Nr: null\nHeim: Basel XII\nGast: KV Liestal V\n\nAdresse: Schwarzwaldallee 107\, 4058 Basel\n
LOCATION:Schwarzwaldallee 107\, 4058 Basel
CATEGORIES:Saison 2025/26
END:VEVENT
BEGIN:VEVENT
DTSTAMP:20260424T191213Z
DTSTART;TZID=Europe/Berlin:20251113T200000
DTEND;TZID=Europe/Berlin:20251113T230000
SUMMARY:HE 6. Liga Gr. 1 Binningen IV vs KV Liestal V (null)
UID:a3dc3aa2-d6ff-4ce6-8897-874c3118c559
STATUS:CONFIRMED
LAST-MODIFIED:20251119T123246Z
DESCRIPTION:6. Liga Herren Gruppe 1\nBegegnungs-Nr: null\nHeim: Binningen IV\nGast: KV Liestal V\n\nAdresse: Rottmannsbodenstr./Neusatzweg\, 4102 Binningen\n
LOCATION:Rottmannsbodenstr./Neusatzweg\, 4102 Binningen
CATEGORIES:Saison 2025/26
END:VEVENT
BEGIN:VEVENT
DTSTAMP:20260424T191213Z
DTSTART;TZID=Europe/Berlin:20260123T193000
DTEND;TZID=Europe/Berlin:20260123T223000
SUMMARY:HE 6. Liga Gr. 1 Aesch V vs KV Liestal V (null)
UID:c8898f15-c248-4079-b8dd-fa280859641f
STATUS:CONFIRMED
LAST-MODIFIED:20260130T133505Z
DESCRIPTION:6. Liga Herren Gruppe 1\nBegegnungs-Nr: null\nHeim: Aesch V\nGast: KV Liestal V\n\nAdresse: Dornacherstrasse\, 4147 Aesch\n
LOCATION:Dornacherstrasse\, 4147 Aesch
CATEGORIES:Saison 2025/26
END:VEVENT
BEGIN:VEVENT
DTSTAMP:20260424T191213Z
DTSTART;TZID=Europe/Berlin:20260204T194500
DTEND;TZID=Europe/Berlin:20260204T224500
SUMMARY:HE 6. Liga Gr. 1 Old Boys Basel IV vs KV Liestal V (null)
UID:7fe4bd53-33de-4e2f-ae80-8ce36a6f21ef
STATUS:CONFIRMED
LAST-MODIFIED:20260211T100420Z
DESCRIPTION:6. Liga Herren Gruppe 1\nBegegnungs-Nr: null\nHeim: Old Boys Basel IV\nGast: KV Liestal V\n\nAdresse: 5 Rue Saint-Exupéry\, \, 683020 St. Louis\n
LOCATION:5 Rue Saint-Exupéry\, \, 683020 St. Louis
CATEGORIES:Saison 2025/26
END:VEVENT
BEGIN:VEVENT
DTSTAMP:20260424T191213Z
DTSTART;TZID=Europe/Berlin:20260312T191500
DTEND;TZID=Europe/Berlin:20260312T221500
SUMMARY:HE 6. Liga Gr. 1 Copains Birsfelden V vs KV Liestal V (null)
UID:9db709eb-e98f-4f2f-82aa-b96b3b643e94
STATUS:CONFIRMED
LAST-MODIFIED:20260313T125756Z
DESCRIPTION:6. Liga Herren Gruppe 1\nBegegnungs-Nr: null\nHeim: Copains Birsfelden V\nGast: KV Liestal V\n\nAdresse: Wartenbergstrasse (Hintereingang)\, 4127 Birsfelden\n
LOCATION:Wartenbergstrasse (Hintereingang)\, 4127 Birsfelden
CATEGORIES:Saison 2025/26
END:VEVENT
END:VCALENDAR
