BEGIN:VCALENDAR
PRODID:-//nuDatenautomaten//framework iCal4j //DE
VERSION:2.0
CALSCALE:GREGORIAN
BEGIN:VTIMEZONE
TZID:Europe/Berlin
LAST-MODIFIED:20260306T231828Z
TZURL:https://www.tzurl.org/zoneinfo/Europe/Berlin
X-LIC-LOCATION:Europe/Berlin
X-PROLEPTIC-TZNAME:LMT
BEGIN:STANDARD
TZNAME:CET
TZOFFSETFROM:+005328
TZOFFSETTO:+0100
DTSTART:18930401T000000
END:STANDARD
BEGIN:DAYLIGHT
TZNAME:CEST
TZOFFSETFROM:+0100
TZOFFSETTO:+0200
DTSTART:19160430T230000
RDATE:19400401T020000
RDATE:19430329T020000
RDATE:19460414T020000
RDATE:19470406T030000
RDATE:19480418T020000
RDATE:19490410T020000
RDATE:19800406T020000
END:DAYLIGHT
BEGIN:STANDARD
TZNAME:CET
TZOFFSETFROM:+0200
TZOFFSETTO:+0100
DTSTART:19161001T010000
RDATE:19421102T030000
RDATE:19431004T030000
RDATE:19441002T030000
RDATE:19451118T030000
RDATE:19461007T030000
END:STANDARD
BEGIN:DAYLIGHT
TZNAME:CEST
TZOFFSETFROM:+0100
TZOFFSETTO:+0200
DTSTART:19170416T020000
RRULE:FREQ=YEARLY;UNTIL=19180415T010000Z;BYMONTH=4;BYDAY=3MO
END:DAYLIGHT
BEGIN:STANDARD
TZNAME:CET
TZOFFSETFROM:+0200
TZOFFSETTO:+0100
DTSTART:19170917T030000
RRULE:FREQ=YEARLY;UNTIL=19180916T010000Z;BYMONTH=9;BYDAY=3MO
END:STANDARD
BEGIN:DAYLIGHT
TZNAME:CEST
TZOFFSETFROM:+0100
TZOFFSETTO:+0200
DTSTART:19440403T020000
RRULE:FREQ=YEARLY;UNTIL=19450402T010000Z;BYMONTH=4;BYDAY=1MO
END:DAYLIGHT
BEGIN:DAYLIGHT
TZNAME:CEMT
TZOFFSETFROM:+0200
TZOFFSETTO:+0300
DTSTART:19450524T020000
RDATE:19470511T030000
END:DAYLIGHT
BEGIN:DAYLIGHT
TZNAME:CEST
TZOFFSETFROM:+0300
TZOFFSETTO:+0200
DTSTART:19450924T030000
RDATE:19470629T030000
END:DAYLIGHT
BEGIN:STANDARD
TZNAME:CET
TZOFFSETFROM:+0100
TZOFFSETTO:+0100
DTSTART:19460101T000000
RDATE:19800101T000000
END:STANDARD
BEGIN:STANDARD
TZNAME:CET
TZOFFSETFROM:+0200
TZOFFSETTO:+0100
DTSTART:19471005T030000
RRULE:FREQ=YEARLY;UNTIL=19491002T010000Z;BYMONTH=10;BYDAY=1SU
END:STANDARD
BEGIN:STANDARD
TZNAME:CET
TZOFFSETFROM:+0200
TZOFFSETTO:+0100
DTSTART:19800928T030000
RRULE:FREQ=YEARLY;UNTIL=19950924T010000Z;BYMONTH=9;BYDAY=-1SU
END:STANDARD
BEGIN:DAYLIGHT
TZNAME:CEST
TZOFFSETFROM:+0100
TZOFFSETTO:+0200
DTSTART:19810329T020000
RRULE:FREQ=YEARLY;BYMONTH=3;BYDAY=-1SU
END:DAYLIGHT
BEGIN:STANDARD
TZNAME:CET
TZOFFSETFROM:+0200
TZOFFSETTO:+0100
DTSTART:19961027T030000
RRULE:FREQ=YEARLY;BYMONTH=10;BYDAY=-1SU
END:STANDARD
END:VTIMEZONE
BEGIN:VEVENT
DTSTAMP:20260424T135852Z
DTSTART;TZID=Europe/Berlin:20260109T200000
DTEND;TZID=Europe/Berlin:20260109T230000
SUMMARY:HE 5. Liga Gr. 3 Weinfelden IV vs Neuhausen VI (0)
UID:c63af831-a204-4a8e-9a57-21cade8b3f40
STATUS:CONFIRMED
LAST-MODIFIED:20260112T095504Z
DESCRIPTION:5. Liga Herren Gruppe 3\nBegegnungs-Nr: 0\nHeim: Weinfelden IV\nGast: Neuhausen VI\n\nAdresse: Bleichestrasse 3 (neben Hallenbad)\, 8570 Weinfelden\n
LOCATION:Bleichestrasse 3 (neben Hallenbad)\, 8570 Weinfelden
CATEGORIES:Saison 2025/26
END:VEVENT
BEGIN:VEVENT
DTSTAMP:20260424T135852Z
DTSTART;TZID=Europe/Berlin:20260213T200000
DTEND;TZID=Europe/Berlin:20260213T230000
SUMMARY:HE 5. Liga Gr. 3 Weinfelden IV vs Schaffhausen (0)
UID:641f10e4-49e4-40e5-a8d3-e76dc5deab07
STATUS:CONFIRMED
LAST-MODIFIED:20260216T102802Z
DESCRIPTION:5. Liga Herren Gruppe 3\nBegegnungs-Nr: 0\nHeim: Weinfelden IV\nGast: Schaffhausen\n\nAdresse: Bleichestrasse 3 (neben Hallenbad)\, 8570 Weinfelden\n
LOCATION:Bleichestrasse 3 (neben Hallenbad)\, 8570 Weinfelden
CATEGORIES:Saison 2025/26
END:VEVENT
BEGIN:VEVENT
DTSTAMP:20260424T135852Z
DTSTART;TZID=Europe/Berlin:20260326T201500
DTEND;TZID=Europe/Berlin:20260326T231500
SUMMARY:HE 5. Liga Gr. 3 Weinfelden IV vs Diessenhofen (0)
UID:cab094a1-129a-49f4-a561-bc0da99bfa55
STATUS:CONFIRMED
LAST-MODIFIED:20260401T125323Z
DESCRIPTION:5. Liga Herren Gruppe 3\nBegegnungs-Nr: 0\nHeim: Weinfelden IV\nGast: Diessenhofen\n\nAdresse: Bleichestrasse 3 (neben Hallenbad)\, 8570 Weinfelden\n
LOCATION:Bleichestrasse 3 (neben Hallenbad)\, 8570 Weinfelden
CATEGORIES:Saison 2025/26
END:VEVENT
BEGIN:VEVENT
DTSTAMP:20260424T135852Z
DTSTART;TZID=Europe/Berlin:20260319T201500
DTEND;TZID=Europe/Berlin:20260319T231500
SUMMARY:HE 5. Liga Gr. 3 Weinfelden IV vs Winterthur V (0)
UID:9cad6f8e-0cc4-4a1a-9378-ae2c26f44277
STATUS:CONFIRMED
LAST-MODIFIED:20260326T152910Z
DESCRIPTION:5. Liga Herren Gruppe 3\nBegegnungs-Nr: 0\nHeim: Weinfelden IV\nGast: Winterthur V\n\nAdresse: Bleichestrasse 3 (neben Hallenbad)\, 8570 Weinfelden\n
LOCATION:Bleichestrasse 3 (neben Hallenbad)\, 8570 Weinfelden
CATEGORIES:Saison 2025/26
END:VEVENT
BEGIN:VEVENT
DTSTAMP:20260424T135852Z
DTSTART;TZID=Europe/Berlin:20251121T200000
DTEND;TZID=Europe/Berlin:20251121T230000
SUMMARY:HE 5. Liga Gr. 3 Weinfelden IV vs Kreuzlingen (0)
UID:af0d97ad-a216-4df2-b70f-3184e325685e
STATUS:CONFIRMED
LAST-MODIFIED:20251124T141944Z
DESCRIPTION:5. Liga Herren Gruppe 3\nBegegnungs-Nr: 0\nHeim: Weinfelden IV\nGast: Kreuzlingen\n\nAdresse: Bleichestrasse 3 (neben Hallenbad)\, 8570 Weinfelden\n
LOCATION:Bleichestrasse 3 (neben Hallenbad)\, 8570 Weinfelden
CATEGORIES:Saison 2025/26
END:VEVENT
BEGIN:VEVENT
DTSTAMP:20260424T135852Z
DTSTART;TZID=Europe/Berlin:20251024T200000
DTEND;TZID=Europe/Berlin:20251024T230000
SUMMARY:HE 5. Liga Gr. 3 Weinfelden IV vs Imperial Winterthur II (0)
UID:d48432fc-7b54-40c0-a2c9-5d54c7eb96a4
STATUS:CONFIRMED
LAST-MODIFIED:20251031T143900Z
DESCRIPTION:5. Liga Herren Gruppe 3\nBegegnungs-Nr: 0\nHeim: Weinfelden IV\nGast: Imperial Winterthur II\n\nAdresse: Bleichestrasse 3 (neben Hallenbad)\, 8570 Weinfelden\n
LOCATION:Bleichestrasse 3 (neben Hallenbad)\, 8570 Weinfelden
CATEGORIES:Saison 2025/26
END:VEVENT
BEGIN:VEVENT
DTSTAMP:20260424T135852Z
DTSTART;TZID=Europe/Berlin:20251212T200000
DTEND;TZID=Europe/Berlin:20251212T230000
SUMMARY:HE 5. Liga Gr. 3 Weinfelden IV vs Steckborn-Homburg V (0)
UID:46cb0f45-b811-40ef-affa-02746f2c6f12
STATUS:CONFIRMED
LAST-MODIFIED:20251215T135406Z
DESCRIPTION:5. Liga Herren Gruppe 3\nBegegnungs-Nr: 0\nHeim: Weinfelden IV\nGast: Steckborn-Homburg V\n\nAdresse: Bleichestrasse 3 (neben Hallenbad)\, 8570 Weinfelden\n
LOCATION:Bleichestrasse 3 (neben Hallenbad)\, 8570 Weinfelden
CATEGORIES:Saison 2025/26
END:VEVENT
BEGIN:VEVENT
DTSTAMP:20260424T135852Z
DTSTART;TZID=Europe/Berlin:20260121T200000
DTEND;TZID=Europe/Berlin:20260121T230000
SUMMARY:HE 5. Liga Gr. 3 Kreuzlingen vs Weinfelden IV (0)
UID:72943ffd-5603-4156-953b-4b15518f8890
STATUS:CONFIRMED
LAST-MODIFIED:20260123T082648Z
DESCRIPTION:5. Liga Herren Gruppe 3\nBegegnungs-Nr: 0\nHeim: Kreuzlingen\nGast: Weinfelden IV\n\nAdresse: Rothausstrasse 14\, 8280 Kreuzlingen\n
LOCATION:Rothausstrasse 14\, 8280 Kreuzlingen
CATEGORIES:Saison 2025/26
END:VEVENT
BEGIN:VEVENT
DTSTAMP:20260424T135852Z
DTSTART;TZID=Europe/Berlin:20260305T200000
DTEND;TZID=Europe/Berlin:20260305T230000
SUMMARY:HE 5. Liga Gr. 3 Imperial Winterthur II vs Weinfelden IV (0)
UID:f0e89e44-24d2-4a99-82b6-aaa6cf4f7229
STATUS:CONFIRMED
LAST-MODIFIED:20260313T131651Z
DESCRIPTION:5. Liga Herren Gruppe 3\nBegegnungs-Nr: 0\nHeim: Imperial Winterthur II\nGast: Weinfelden IV\n\nAdresse: Büelhofstrasse 25a\, 8405 Winterthur\n
LOCATION:Büelhofstrasse 25a\, 8405 Winterthur
CATEGORIES:Saison 2025/26
END:VEVENT
BEGIN:VEVENT
DTSTAMP:20260424T135852Z
DTSTART;TZID=Europe/Berlin:20260312T201500
DTEND;TZID=Europe/Berlin:20260312T231500
SUMMARY:HE 5. Liga Gr. 3 Steckborn-Homburg V vs Weinfelden IV (0)
UID:5ace7703-6b1f-4c3c-8693-7fffa82560f8
STATUS:CONFIRMED
LAST-MODIFIED:20260313T131732Z
DESCRIPTION:5. Liga Herren Gruppe 3\nBegegnungs-Nr: 0\nHeim: Steckborn-Homburg V\nGast: Weinfelden IV\n\nAdresse: Feldbach\, 8266 Steckborn\n
LOCATION:Feldbach\, 8266 Steckborn
CATEGORIES:Saison 2025/26
END:VEVENT
BEGIN:VEVENT
DTSTAMP:20260424T135852Z
DTSTART;TZID=Europe/Berlin:20250826T200000
DTEND;TZID=Europe/Berlin:20250826T230000
SUMMARY:HE 5. Liga Gr. 3 Neuhausen VI vs Weinfelden IV (0)
UID:1ae8fba2-271f-46ee-8992-0b8cd47bbbc5
STATUS:CONFIRMED
LAST-MODIFIED:20250829T143826Z
DESCRIPTION:5. Liga Herren Gruppe 3\nBegegnungs-Nr: 0\nHeim: Neuhausen VI\nGast: Weinfelden IV\n\nAdresse: Ebnatstrasse 35\, 8200 Schaffhausen\n
LOCATION:Ebnatstrasse 35\, 8200 Schaffhausen
CATEGORIES:Saison 2025/26
END:VEVENT
BEGIN:VEVENT
DTSTAMP:20260424T135852Z
DTSTART;TZID=Europe/Berlin:20250915T193000
DTEND;TZID=Europe/Berlin:20250915T223000
SUMMARY:HE 5. Liga Gr. 3 Schaffhausen vs Weinfelden IV (0)
UID:0894695d-cd31-4987-b10a-fba575e1ea48
STATUS:CONFIRMED
LAST-MODIFIED:20250916T092624Z
DESCRIPTION:5. Liga Herren Gruppe 3\nBegegnungs-Nr: 0\nHeim: Schaffhausen\nGast: Weinfelden IV\n\nAdresse: Grünaustieg 30\, 8200 Schaffhausen\n
LOCATION:Grünaustieg 30\, 8200 Schaffhausen
CATEGORIES:Saison 2025/26
END:VEVENT
BEGIN:VEVENT
DTSTAMP:20260424T135852Z
DTSTART;TZID=Europe/Berlin:20251104T200000
DTEND;TZID=Europe/Berlin:20251104T230000
SUMMARY:HE 5. Liga Gr. 3 Diessenhofen vs Weinfelden IV (0)
UID:b1d9558e-178e-4c1a-8d52-0abd7d80148f
STATUS:CONFIRMED
LAST-MODIFIED:20251107T145039Z
DESCRIPTION:5. Liga Herren Gruppe 3\nBegegnungs-Nr: 0\nHeim: Diessenhofen\nGast: Weinfelden IV\n\nAdresse: alte Basadingerstrasse 10\, 8253 Diessenhofen\n
LOCATION:alte Basadingerstrasse 10\, 8253 Diessenhofen
CATEGORIES:Saison 2025/26
END:VEVENT
BEGIN:VEVENT
DTSTAMP:20260424T135852Z
DTSTART;TZID=Europe/Berlin:20251204T200000
DTEND;TZID=Europe/Berlin:20251204T230000
SUMMARY:HE 5. Liga Gr. 3 Winterthur V vs Weinfelden IV (0)
UID:6a030177-c993-4551-af9e-379b21917671
STATUS:CONFIRMED
LAST-MODIFIED:20251205T130756Z
DESCRIPTION:5. Liga Herren Gruppe 3\nBegegnungs-Nr: 0\nHeim: Winterthur V\nGast: Weinfelden IV\n\nAdresse: Buchackerstrasse 54\, 8400 Winterthur\n
LOCATION:Buchackerstrasse 54\, 8400 Winterthur
CATEGORIES:Saison 2025/26
END:VEVENT
END:VCALENDAR
