BEGIN:VCALENDAR
PRODID:-//nuDatenautomaten//framework iCal4j //DE
VERSION:2.0
CALSCALE:GREGORIAN
BEGIN:VTIMEZONE
TZID:Europe/Berlin
LAST-MODIFIED:20260306T231828Z
TZURL:https://www.tzurl.org/zoneinfo/Europe/Berlin
X-LIC-LOCATION:Europe/Berlin
X-PROLEPTIC-TZNAME:LMT
BEGIN:STANDARD
TZNAME:CET
TZOFFSETFROM:+005328
TZOFFSETTO:+0100
DTSTART:18930401T000000
END:STANDARD
BEGIN:DAYLIGHT
TZNAME:CEST
TZOFFSETFROM:+0100
TZOFFSETTO:+0200
DTSTART:19160430T230000
RDATE:19400401T020000
RDATE:19430329T020000
RDATE:19460414T020000
RDATE:19470406T030000
RDATE:19480418T020000
RDATE:19490410T020000
RDATE:19800406T020000
END:DAYLIGHT
BEGIN:STANDARD
TZNAME:CET
TZOFFSETFROM:+0200
TZOFFSETTO:+0100
DTSTART:19161001T010000
RDATE:19421102T030000
RDATE:19431004T030000
RDATE:19441002T030000
RDATE:19451118T030000
RDATE:19461007T030000
END:STANDARD
BEGIN:DAYLIGHT
TZNAME:CEST
TZOFFSETFROM:+0100
TZOFFSETTO:+0200
DTSTART:19170416T020000
RRULE:FREQ=YEARLY;UNTIL=19180415T010000Z;BYMONTH=4;BYDAY=3MO
END:DAYLIGHT
BEGIN:STANDARD
TZNAME:CET
TZOFFSETFROM:+0200
TZOFFSETTO:+0100
DTSTART:19170917T030000
RRULE:FREQ=YEARLY;UNTIL=19180916T010000Z;BYMONTH=9;BYDAY=3MO
END:STANDARD
BEGIN:DAYLIGHT
TZNAME:CEST
TZOFFSETFROM:+0100
TZOFFSETTO:+0200
DTSTART:19440403T020000
RRULE:FREQ=YEARLY;UNTIL=19450402T010000Z;BYMONTH=4;BYDAY=1MO
END:DAYLIGHT
BEGIN:DAYLIGHT
TZNAME:CEMT
TZOFFSETFROM:+0200
TZOFFSETTO:+0300
DTSTART:19450524T020000
RDATE:19470511T030000
END:DAYLIGHT
BEGIN:DAYLIGHT
TZNAME:CEST
TZOFFSETFROM:+0300
TZOFFSETTO:+0200
DTSTART:19450924T030000
RDATE:19470629T030000
END:DAYLIGHT
BEGIN:STANDARD
TZNAME:CET
TZOFFSETFROM:+0100
TZOFFSETTO:+0100
DTSTART:19460101T000000
RDATE:19800101T000000
END:STANDARD
BEGIN:STANDARD
TZNAME:CET
TZOFFSETFROM:+0200
TZOFFSETTO:+0100
DTSTART:19471005T030000
RRULE:FREQ=YEARLY;UNTIL=19491002T010000Z;BYMONTH=10;BYDAY=1SU
END:STANDARD
BEGIN:STANDARD
TZNAME:CET
TZOFFSETFROM:+0200
TZOFFSETTO:+0100
DTSTART:19800928T030000
RRULE:FREQ=YEARLY;UNTIL=19950924T010000Z;BYMONTH=9;BYDAY=-1SU
END:STANDARD
BEGIN:DAYLIGHT
TZNAME:CEST
TZOFFSETFROM:+0100
TZOFFSETTO:+0200
DTSTART:19810329T020000
RRULE:FREQ=YEARLY;BYMONTH=3;BYDAY=-1SU
END:DAYLIGHT
BEGIN:STANDARD
TZNAME:CET
TZOFFSETFROM:+0200
TZOFFSETTO:+0100
DTSTART:19961027T030000
RRULE:FREQ=YEARLY;BYMONTH=10;BYDAY=-1SU
END:STANDARD
END:VTIMEZONE
BEGIN:VEVENT
DTSTAMP:20260423T224838Z
DTSTART;TZID=Europe/Berlin:20250621T134500
DTEND;TZID=Europe/Berlin:20250621T164500
SUMMARY:Final U15\, Vorrunde\, Gr. A Ostermundigen vs Rio-Star Muttenz (4)
UID:0424e09a-b374-4232-904c-546653211cdc
STATUS:CONFIRMED
LAST-MODIFIED:20250624T153120Z
DESCRIPTION:STT Finalrunde U15\, Vorrunde\, Gruppe A\nBegegnungs-Nr: 4\nHeim: Ostermundigen\nGast: Rio-Star Muttenz\n
LOCATION:
CATEGORIES:Saison 2024/25
END:VEVENT
BEGIN:VEVENT
DTSTAMP:20260423T224838Z
DTSTART;TZID=Europe/Berlin:20250622T090000
DTEND;TZID=Europe/Berlin:20250622T120000
SUMMARY:Final U15\, Halbfinal (1-4) UGS-Chênois vs Ostermundigen (0)
UID:502f2501-8589-4205-b7a2-9e92453b3d58
STATUS:CONFIRMED
LAST-MODIFIED:20250624T153201Z
DESCRIPTION:STT Finalrunde U15\, Halbfinal (1-4 Rang)\nBegegnungs-Nr: 0\nHeim: UGS-Chênois\nGast: Ostermundigen\n
LOCATION:
CATEGORIES:Saison 2024/25
END:VEVENT
BEGIN:VEVENT
DTSTAMP:20260423T224838Z
DTSTART;TZID=Europe/Berlin:20250622T131500
DTEND;TZID=Europe/Berlin:20250622T161500
SUMMARY:Final U15\, Final (3/4) Neuhausen vs Ostermundigen (0)
UID:0d4ca4e5-3fa1-47a4-bc4b-d6b248e32aa6
STATUS:CONFIRMED
LAST-MODIFIED:20250624T153230Z
DESCRIPTION:STT Finalrunde U15\, Final (3/4 Rang)\nBegegnungs-Nr: 0\nHeim: Neuhausen\nGast: Ostermundigen\n
LOCATION:
CATEGORIES:Saison 2024/25
END:VEVENT
BEGIN:VEVENT
DTSTAMP:20260423T224838Z
DTSTART;TZID=Europe/Berlin:20250507T193000
DTEND;TZID=Europe/Berlin:20250507T223000
SUMMARY:Qualifikation U15 Bern vs Ostermundigen (1)
UID:2ba34f82-bcbe-4116-bd71-67deba795127
STATUS:CONFIRMED
LAST-MODIFIED:20250513T073501Z
DESCRIPTION:Qualifikation U15\nBegegnungs-Nr: 1\nHeim: Bern\nGast: Ostermundigen\n\nAdresse: Papiermühlestrasse 81\, 3014 Bern\n
LOCATION:Papiermühlestrasse 81\, 3014 Bern
CATEGORIES:Saison 2024/25
END:VEVENT
BEGIN:VEVENT
DTSTAMP:20260423T224838Z
DTSTART;TZID=Europe/Berlin:20250621T160000
DTEND;TZID=Europe/Berlin:20250621T190000
SUMMARY:Final U15\, Vorrunde\, Gr. A ZZ-Lancy vs Ostermundigen (6)
UID:2b62441f-c37c-4ca4-91a6-53fb36e67b78
STATUS:CONFIRMED
LAST-MODIFIED:20250624T153135Z
DESCRIPTION:STT Finalrunde U15\, Vorrunde\, Gruppe A\nBegegnungs-Nr: 6\nHeim: ZZ-Lancy\nGast: Ostermundigen\n
LOCATION:
CATEGORIES:Saison 2024/25
END:VEVENT
BEGIN:VEVENT
DTSTAMP:20260423T224838Z
DTSTART;TZID=Europe/Berlin:20250621T113000
DTEND;TZID=Europe/Berlin:20250621T143000
SUMMARY:Final U15\, Vorrunde\, Gr. A Rapid Luzern vs Ostermundigen (1)
UID:3a5a42c7-dc65-4b9b-b26a-a6758799b29f
STATUS:CONFIRMED
LAST-MODIFIED:20250624T152949Z
DESCRIPTION:STT Finalrunde U15\, Vorrunde\, Gruppe A\nBegegnungs-Nr: 1\nHeim: Rapid Luzern\nGast: Ostermundigen\n
LOCATION:
CATEGORIES:Saison 2024/25
END:VEVENT
END:VCALENDAR
