BEGIN:VCALENDAR
PRODID:-//nuDatenautomaten//framework iCal4j //DE
VERSION:2.0
CALSCALE:GREGORIAN
BEGIN:VTIMEZONE
TZID:Europe/Berlin
LAST-MODIFIED:20260306T231828Z
TZURL:https://www.tzurl.org/zoneinfo/Europe/Berlin
X-LIC-LOCATION:Europe/Berlin
X-PROLEPTIC-TZNAME:LMT
BEGIN:STANDARD
TZNAME:CET
TZOFFSETFROM:+005328
TZOFFSETTO:+0100
DTSTART:18930401T000000
END:STANDARD
BEGIN:DAYLIGHT
TZNAME:CEST
TZOFFSETFROM:+0100
TZOFFSETTO:+0200
DTSTART:19160430T230000
RDATE:19400401T020000
RDATE:19430329T020000
RDATE:19460414T020000
RDATE:19470406T030000
RDATE:19480418T020000
RDATE:19490410T020000
RDATE:19800406T020000
END:DAYLIGHT
BEGIN:STANDARD
TZNAME:CET
TZOFFSETFROM:+0200
TZOFFSETTO:+0100
DTSTART:19161001T010000
RDATE:19421102T030000
RDATE:19431004T030000
RDATE:19441002T030000
RDATE:19451118T030000
RDATE:19461007T030000
END:STANDARD
BEGIN:DAYLIGHT
TZNAME:CEST
TZOFFSETFROM:+0100
TZOFFSETTO:+0200
DTSTART:19170416T020000
RRULE:FREQ=YEARLY;UNTIL=19180415T010000Z;BYMONTH=4;BYDAY=3MO
END:DAYLIGHT
BEGIN:STANDARD
TZNAME:CET
TZOFFSETFROM:+0200
TZOFFSETTO:+0100
DTSTART:19170917T030000
RRULE:FREQ=YEARLY;UNTIL=19180916T010000Z;BYMONTH=9;BYDAY=3MO
END:STANDARD
BEGIN:DAYLIGHT
TZNAME:CEST
TZOFFSETFROM:+0100
TZOFFSETTO:+0200
DTSTART:19440403T020000
RRULE:FREQ=YEARLY;UNTIL=19450402T010000Z;BYMONTH=4;BYDAY=1MO
END:DAYLIGHT
BEGIN:DAYLIGHT
TZNAME:CEMT
TZOFFSETFROM:+0200
TZOFFSETTO:+0300
DTSTART:19450524T020000
RDATE:19470511T030000
END:DAYLIGHT
BEGIN:DAYLIGHT
TZNAME:CEST
TZOFFSETFROM:+0300
TZOFFSETTO:+0200
DTSTART:19450924T030000
RDATE:19470629T030000
END:DAYLIGHT
BEGIN:STANDARD
TZNAME:CET
TZOFFSETFROM:+0100
TZOFFSETTO:+0100
DTSTART:19460101T000000
RDATE:19800101T000000
END:STANDARD
BEGIN:STANDARD
TZNAME:CET
TZOFFSETFROM:+0200
TZOFFSETTO:+0100
DTSTART:19471005T030000
RRULE:FREQ=YEARLY;UNTIL=19491002T010000Z;BYMONTH=10;BYDAY=1SU
END:STANDARD
BEGIN:STANDARD
TZNAME:CET
TZOFFSETFROM:+0200
TZOFFSETTO:+0100
DTSTART:19800928T030000
RRULE:FREQ=YEARLY;UNTIL=19950924T010000Z;BYMONTH=9;BYDAY=-1SU
END:STANDARD
BEGIN:DAYLIGHT
TZNAME:CEST
TZOFFSETFROM:+0100
TZOFFSETTO:+0200
DTSTART:19810329T020000
RRULE:FREQ=YEARLY;BYMONTH=3;BYDAY=-1SU
END:DAYLIGHT
BEGIN:STANDARD
TZNAME:CET
TZOFFSETFROM:+0200
TZOFFSETTO:+0100
DTSTART:19961027T030000
RRULE:FREQ=YEARLY;BYMONTH=10;BYDAY=-1SU
END:STANDARD
END:VTIMEZONE
BEGIN:VEVENT
DTSTAMP:20260423T224753Z
DTSTART;TZID=Europe/Berlin:20250621T160000
DTEND;TZID=Europe/Berlin:20250621T190000
SUMMARY:Final U15\, Vorrunde\, Gr. A ZZ-Lancy vs Ostermundigen (6)
UID:2b62441f-c37c-4ca4-91a6-53fb36e67b78
STATUS:CONFIRMED
LAST-MODIFIED:20250624T153135Z
DESCRIPTION:STT Finalrunde U15\, Vorrunde\, Gruppe A\nBegegnungs-Nr: 6\nHeim: ZZ-Lancy\nGast: Ostermundigen\n
LOCATION:
CATEGORIES:Saison 2024/25
END:VEVENT
BEGIN:VEVENT
DTSTAMP:20260423T224753Z
DTSTART;TZID=Europe/Berlin:20250621T113000
DTEND;TZID=Europe/Berlin:20250621T143000
SUMMARY:Final U15\, Vorrunde\, Gr. A ZZ-Lancy vs Rio-Star Muttenz (2)
UID:4f035b07-34d8-4e68-b175-c7840e3d2a73
STATUS:CONFIRMED
LAST-MODIFIED:20250624T153103Z
DESCRIPTION:STT Finalrunde U15\, Vorrunde\, Gruppe A\nBegegnungs-Nr: 2\nHeim: ZZ-Lancy\nGast: Rio-Star Muttenz\n
LOCATION:
CATEGORIES:Saison 2024/25
END:VEVENT
BEGIN:VEVENT
DTSTAMP:20260423T224753Z
DTSTART;TZID=Europe/Berlin:20250622T090000
DTEND;TZID=Europe/Berlin:20250622T120000
SUMMARY:Final U15\, Halbfinal (5-8) Entente Pongiste Neuchâteloise vs ZZ-Lancy (0)
UID:72736479-73d1-4412-aee6-fd7bd1becf1e
STATUS:CONFIRMED
LAST-MODIFIED:20250624T153144Z
DESCRIPTION:STT Finalrunde U15\, Halbfinal (5-8 Rang)\nBegegnungs-Nr: 0\nHeim: Entente Pongiste Neuchâteloise\nGast: ZZ-Lancy\n
LOCATION:
CATEGORIES:Saison 2024/25
END:VEVENT
BEGIN:VEVENT
DTSTAMP:20260423T224753Z
DTSTART;TZID=Europe/Berlin:20250622T131500
DTEND;TZID=Europe/Berlin:20250622T161500
SUMMARY:Final U15\, Final (7/8) Lugano vs ZZ-Lancy (0)
UID:932732eb-cc9b-4c01-8991-7f3ac23229f7
STATUS:CONFIRMED
LAST-MODIFIED:20250624T153208Z
DESCRIPTION:STT Finalrunde U15\, Final (7/8 Rang)\nBegegnungs-Nr: 0\nHeim: Lugano\nGast: ZZ-Lancy\n
LOCATION:
CATEGORIES:Saison 2024/25
END:VEVENT
BEGIN:VEVENT
DTSTAMP:20260423T224753Z
DTSTART;TZID=Europe/Berlin:20250507T161500
DTEND;TZID=Europe/Berlin:20250507T191500
SUMMARY:U15 Finale UGS-Chênois vs ZZ-Lancy (1)
UID:939f9cbc-7b0a-413a-b39c-5746d5453409
STATUS:CONFIRMED
LAST-MODIFIED:20250508T111245Z
DESCRIPTION:U15 - Qualification AGTT - Finale\nBegegnungs-Nr: 1\nHeim: UGS-Chênois\nGast: ZZ-Lancy\n
LOCATION:
CATEGORIES:Saison 2024/25
END:VEVENT
BEGIN:VEVENT
DTSTAMP:20260423T224753Z
DTSTART;TZID=Europe/Berlin:20250409T160000
DTEND;TZID=Europe/Berlin:20250409T190000
SUMMARY:U15 Demi Silver Star vs ZZ-Lancy (2)
UID:26be97ce-d5b3-4b7c-92e0-e88e77e3e76d
STATUS:CONFIRMED
LAST-MODIFIED:20250409T185227Z
DESCRIPTION:U15 - Qualification AGTT - Demi finale\nBegegnungs-Nr: 2\nHeim: Silver Star\nGast: ZZ-Lancy\n
LOCATION:
CATEGORIES:Saison 2024/25
END:VEVENT
BEGIN:VEVENT
DTSTAMP:20260423T224753Z
DTSTART;TZID=Europe/Berlin:20250621T134500
DTEND;TZID=Europe/Berlin:20250621T164500
SUMMARY:Final U15\, Vorrunde\, Gr. A Rapid Luzern vs ZZ-Lancy (3)
UID:c5055699-42f9-432d-b5cd-c8676b1b2c62
STATUS:CONFIRMED
LAST-MODIFIED:20250624T153110Z
DESCRIPTION:STT Finalrunde U15\, Vorrunde\, Gruppe A\nBegegnungs-Nr: 3\nHeim: Rapid Luzern\nGast: ZZ-Lancy\n
LOCATION:
CATEGORIES:Saison 2024/25
END:VEVENT
END:VCALENDAR
