BEGIN:VCALENDAR
PRODID:-//nuDatenautomaten//framework iCal4j //DE
VERSION:2.0
CALSCALE:GREGORIAN
BEGIN:VTIMEZONE
TZID:Europe/Berlin
LAST-MODIFIED:20260306T231828Z
TZURL:https://www.tzurl.org/zoneinfo/Europe/Berlin
X-LIC-LOCATION:Europe/Berlin
X-PROLEPTIC-TZNAME:LMT
BEGIN:STANDARD
TZNAME:CET
TZOFFSETFROM:+005328
TZOFFSETTO:+0100
DTSTART:18930401T000000
END:STANDARD
BEGIN:DAYLIGHT
TZNAME:CEST
TZOFFSETFROM:+0100
TZOFFSETTO:+0200
DTSTART:19160430T230000
RDATE:19400401T020000
RDATE:19430329T020000
RDATE:19460414T020000
RDATE:19470406T030000
RDATE:19480418T020000
RDATE:19490410T020000
RDATE:19800406T020000
END:DAYLIGHT
BEGIN:STANDARD
TZNAME:CET
TZOFFSETFROM:+0200
TZOFFSETTO:+0100
DTSTART:19161001T010000
RDATE:19421102T030000
RDATE:19431004T030000
RDATE:19441002T030000
RDATE:19451118T030000
RDATE:19461007T030000
END:STANDARD
BEGIN:DAYLIGHT
TZNAME:CEST
TZOFFSETFROM:+0100
TZOFFSETTO:+0200
DTSTART:19170416T020000
RRULE:FREQ=YEARLY;UNTIL=19180415T010000Z;BYMONTH=4;BYDAY=3MO
END:DAYLIGHT
BEGIN:STANDARD
TZNAME:CET
TZOFFSETFROM:+0200
TZOFFSETTO:+0100
DTSTART:19170917T030000
RRULE:FREQ=YEARLY;UNTIL=19180916T010000Z;BYMONTH=9;BYDAY=3MO
END:STANDARD
BEGIN:DAYLIGHT
TZNAME:CEST
TZOFFSETFROM:+0100
TZOFFSETTO:+0200
DTSTART:19440403T020000
RRULE:FREQ=YEARLY;UNTIL=19450402T010000Z;BYMONTH=4;BYDAY=1MO
END:DAYLIGHT
BEGIN:DAYLIGHT
TZNAME:CEMT
TZOFFSETFROM:+0200
TZOFFSETTO:+0300
DTSTART:19450524T020000
RDATE:19470511T030000
END:DAYLIGHT
BEGIN:DAYLIGHT
TZNAME:CEST
TZOFFSETFROM:+0300
TZOFFSETTO:+0200
DTSTART:19450924T030000
RDATE:19470629T030000
END:DAYLIGHT
BEGIN:STANDARD
TZNAME:CET
TZOFFSETFROM:+0100
TZOFFSETTO:+0100
DTSTART:19460101T000000
RDATE:19800101T000000
END:STANDARD
BEGIN:STANDARD
TZNAME:CET
TZOFFSETFROM:+0200
TZOFFSETTO:+0100
DTSTART:19471005T030000
RRULE:FREQ=YEARLY;UNTIL=19491002T010000Z;BYMONTH=10;BYDAY=1SU
END:STANDARD
BEGIN:STANDARD
TZNAME:CET
TZOFFSETFROM:+0200
TZOFFSETTO:+0100
DTSTART:19800928T030000
RRULE:FREQ=YEARLY;UNTIL=19950924T010000Z;BYMONTH=9;BYDAY=-1SU
END:STANDARD
BEGIN:DAYLIGHT
TZNAME:CEST
TZOFFSETFROM:+0100
TZOFFSETTO:+0200
DTSTART:19810329T020000
RRULE:FREQ=YEARLY;BYMONTH=3;BYDAY=-1SU
END:DAYLIGHT
BEGIN:STANDARD
TZNAME:CET
TZOFFSETFROM:+0200
TZOFFSETTO:+0100
DTSTART:19961027T030000
RRULE:FREQ=YEARLY;BYMONTH=10;BYDAY=-1SU
END:STANDARD
END:VTIMEZONE
BEGIN:VEVENT
DTSTAMP:20260424T180600Z
DTSTART;TZID=Europe/Berlin:20241005T113000
DTEND;TZID=Europe/Berlin:20241005T143000
SUMMARY:Ligue 4 Silver Star V vs Meyrin (10)
UID:fffd99f0-b074-40c8-871a-68fa3d257f68
STATUS:CONFIRMED
DESCRIPTION:4ème ligue jeunesse - Groupe unique\nBegegnungs-Nr: 10\nHeim: Silver Star V\nGast: Meyrin\n
LOCATION:
CATEGORIES:Saison 2024/25
END:VEVENT
BEGIN:VEVENT
DTSTAMP:20260424T180600Z
DTSTART;TZID=Europe/Berlin:20241207T090000
DTEND;TZID=Europe/Berlin:20241207T120000
SUMMARY:Ligue 4 Silver Star V vs ZZ-Lancy V (20)
UID:173bf8aa-be1f-41e4-89d3-c1d0c834ead6
STATUS:CONFIRMED
LAST-MODIFIED:20241209T174345Z
DESCRIPTION:4ème ligue jeunesse - Groupe unique\nBegegnungs-Nr: 20\nHeim: Silver Star V\nGast: ZZ-Lancy V\n
LOCATION:
CATEGORIES:Saison 2024/25
END:VEVENT
BEGIN:VEVENT
DTSTAMP:20260424T180600Z
DTSTART;TZID=Europe/Berlin:20250315T093000
DTEND;TZID=Europe/Berlin:20250315T123000
SUMMARY:Ligue 4 Silver Star V vs UGS-Chênois V (44)
UID:2a2b2f0f-f5af-4067-ac45-3460db7eb484
STATUS:CONFIRMED
DESCRIPTION:4ème ligue jeunesse - Groupe unique\nBegegnungs-Nr: 44\nHeim: Silver Star V\nGast: UGS-Chênois V\n
LOCATION:
CATEGORIES:Saison 2024/25
END:VEVENT
BEGIN:VEVENT
DTSTAMP:20260424T180600Z
DTSTART;TZID=Europe/Berlin:20250315T133000
DTEND;TZID=Europe/Berlin:20250315T163000
SUMMARY:Ligue 4 Silver Star V vs Versoix II (55)
UID:1be9f489-9095-406a-adfa-641bf6a6a207
STATUS:CONFIRMED
DESCRIPTION:4ème ligue jeunesse - Groupe unique\nBegegnungs-Nr: 55\nHeim: Silver Star V\nGast: Versoix II\n
LOCATION:
CATEGORIES:Saison 2024/25
END:VEVENT
BEGIN:VEVENT
DTSTAMP:20260424T180600Z
DTSTART;TZID=Europe/Berlin:20241005T093000
DTEND;TZID=Europe/Berlin:20241005T123000
SUMMARY:Ligue 4 Mandement vs Silver Star V (3)
UID:2a5e1cee-4470-47c3-82d2-1543564dfc3f
STATUS:CONFIRMED
DESCRIPTION:4ème ligue jeunesse - Groupe unique\nBegegnungs-Nr: 3\nHeim: Mandement\nGast: Silver Star V\n
LOCATION:
CATEGORIES:Saison 2024/25
END:VEVENT
BEGIN:VEVENT
DTSTAMP:20260424T180600Z
DTSTART;TZID=Europe/Berlin:20250315T113000
DTEND;TZID=Europe/Berlin:20250315T143000
SUMMARY:Ligue 4 ZZ-Lancy IV vs Silver Star V (52)
UID:bbd1b646-e040-4a7e-ab28-a3d1b8fbfe44
STATUS:CONFIRMED
DESCRIPTION:4ème ligue jeunesse - Groupe unique\nBegegnungs-Nr: 52\nHeim: ZZ-Lancy IV\nGast: Silver Star V\n
LOCATION:
CATEGORIES:Saison 2024/25
END:VEVENT
BEGIN:VEVENT
DTSTAMP:20260424T180600Z
DTSTART;TZID=Europe/Berlin:20241207T113000
DTEND;TZID=Europe/Berlin:20241207T143000
SUMMARY:Ligue 4 Versoix III vs Silver Star V (35)
UID:4102a0fa-b417-45ce-bf80-96d24dae2c26
STATUS:CONFIRMED
DESCRIPTION:4ème ligue jeunesse - Groupe unique\nBegegnungs-Nr: 35\nHeim: Versoix III\nGast: Silver Star V\n
LOCATION:
CATEGORIES:Saison 2024/25
END:VEVENT
END:VCALENDAR
