BEGIN:VCALENDAR
PRODID:-//nuDatenautomaten//framework iCal4j //DE
VERSION:2.0
CALSCALE:GREGORIAN
BEGIN:VTIMEZONE
TZID:Europe/Berlin
LAST-MODIFIED:20260306T231828Z
TZURL:https://www.tzurl.org/zoneinfo/Europe/Berlin
X-LIC-LOCATION:Europe/Berlin
X-PROLEPTIC-TZNAME:LMT
BEGIN:STANDARD
TZNAME:CET
TZOFFSETFROM:+005328
TZOFFSETTO:+0100
DTSTART:18930401T000000
END:STANDARD
BEGIN:DAYLIGHT
TZNAME:CEST
TZOFFSETFROM:+0100
TZOFFSETTO:+0200
DTSTART:19160430T230000
RDATE:19400401T020000
RDATE:19430329T020000
RDATE:19460414T020000
RDATE:19470406T030000
RDATE:19480418T020000
RDATE:19490410T020000
RDATE:19800406T020000
END:DAYLIGHT
BEGIN:STANDARD
TZNAME:CET
TZOFFSETFROM:+0200
TZOFFSETTO:+0100
DTSTART:19161001T010000
RDATE:19421102T030000
RDATE:19431004T030000
RDATE:19441002T030000
RDATE:19451118T030000
RDATE:19461007T030000
END:STANDARD
BEGIN:DAYLIGHT
TZNAME:CEST
TZOFFSETFROM:+0100
TZOFFSETTO:+0200
DTSTART:19170416T020000
RRULE:FREQ=YEARLY;UNTIL=19180415T010000Z;BYMONTH=4;BYDAY=3MO
END:DAYLIGHT
BEGIN:STANDARD
TZNAME:CET
TZOFFSETFROM:+0200
TZOFFSETTO:+0100
DTSTART:19170917T030000
RRULE:FREQ=YEARLY;UNTIL=19180916T010000Z;BYMONTH=9;BYDAY=3MO
END:STANDARD
BEGIN:DAYLIGHT
TZNAME:CEST
TZOFFSETFROM:+0100
TZOFFSETTO:+0200
DTSTART:19440403T020000
RRULE:FREQ=YEARLY;UNTIL=19450402T010000Z;BYMONTH=4;BYDAY=1MO
END:DAYLIGHT
BEGIN:DAYLIGHT
TZNAME:CEMT
TZOFFSETFROM:+0200
TZOFFSETTO:+0300
DTSTART:19450524T020000
RDATE:19470511T030000
END:DAYLIGHT
BEGIN:DAYLIGHT
TZNAME:CEST
TZOFFSETFROM:+0300
TZOFFSETTO:+0200
DTSTART:19450924T030000
RDATE:19470629T030000
END:DAYLIGHT
BEGIN:STANDARD
TZNAME:CET
TZOFFSETFROM:+0100
TZOFFSETTO:+0100
DTSTART:19460101T000000
RDATE:19800101T000000
END:STANDARD
BEGIN:STANDARD
TZNAME:CET
TZOFFSETFROM:+0200
TZOFFSETTO:+0100
DTSTART:19471005T030000
RRULE:FREQ=YEARLY;UNTIL=19491002T010000Z;BYMONTH=10;BYDAY=1SU
END:STANDARD
BEGIN:STANDARD
TZNAME:CET
TZOFFSETFROM:+0200
TZOFFSETTO:+0100
DTSTART:19800928T030000
RRULE:FREQ=YEARLY;UNTIL=19950924T010000Z;BYMONTH=9;BYDAY=-1SU
END:STANDARD
BEGIN:DAYLIGHT
TZNAME:CEST
TZOFFSETFROM:+0100
TZOFFSETTO:+0200
DTSTART:19810329T020000
RRULE:FREQ=YEARLY;BYMONTH=3;BYDAY=-1SU
END:DAYLIGHT
BEGIN:STANDARD
TZNAME:CET
TZOFFSETFROM:+0200
TZOFFSETTO:+0100
DTSTART:19961027T030000
RRULE:FREQ=YEARLY;BYMONTH=10;BYDAY=-1SU
END:STANDARD
END:VTIMEZONE
BEGIN:VEVENT
DTSTAMP:20260423T190045Z
DTSTART;TZID=Europe/Berlin:20250315T143000
DTEND;TZID=Europe/Berlin:20250315T173000
SUMMARY:U15 R3 D3 Rotkreuz vs Rothenburg (6)
UID:6ba37ff6-150f-45d2-b774-d7c77ac0dfb3
STATUS:CONFIRMED
LAST-MODIFIED:20250316T192728Z
DESCRIPTION:U15\, 3. Runde\, 3. Division\nBegegnungs-Nr: 6\nHeim: Rotkreuz\nGast: Rothenburg\n\nAdresse: Buonaserstr. 23\, 6343 Rotkreuz\n
LOCATION:Buonaserstr. 23\, 6343 Rotkreuz
CATEGORIES:Saison 2024/25
END:VEVENT
BEGIN:VEVENT
DTSTAMP:20260423T190045Z
DTSTART;TZID=Europe/Berlin:20240831T160000
DTEND;TZID=Europe/Berlin:20240831T190000
SUMMARY:U15 R1 GC Rotkreuz vs Kriens II (6)
UID:67c7828e-cbfe-4365-97f1-ef07e3905b38
STATUS:CONFIRMED
LAST-MODIFIED:20240901T173111Z
DESCRIPTION:U15\, 1. Runde\, Gruppe C\nBegegnungs-Nr: 6\nHeim: Rotkreuz\nGast: Kriens II\n\nAdresse: Buonaserstr. 23\, 6343 Rotkreuz\n
LOCATION:Buonaserstr. 23\, 6343 Rotkreuz
CATEGORIES:Saison 2024/25
END:VEVENT
BEGIN:VEVENT
DTSTAMP:20260423T190045Z
DTSTART;TZID=Europe/Berlin:20241214T160000
DTEND;TZID=Europe/Berlin:20241214T190000
SUMMARY:U15 R2 GA Rotkreuz vs Kriens (6)
UID:69244564-a193-4f6b-85c5-b31a6d522d00
STATUS:CONFIRMED
LAST-MODIFIED:20250109T081745Z
DESCRIPTION:U15\, 2. Runde\, Gruppe A\nBegegnungs-Nr: 6\nHeim: Rotkreuz\nGast: Kriens\n\nAdresse: Buonaserstr. 23\, 6343 Rotkreuz\n
LOCATION:Buonaserstr. 23\, 6343 Rotkreuz
CATEGORIES:Saison 2024/25
END:VEVENT
BEGIN:VEVENT
DTSTAMP:20260423T190045Z
DTSTART;TZID=Europe/Berlin:20250315T130000
DTEND;TZID=Europe/Berlin:20250315T160000
SUMMARY:U15 R3 D3 Schenkon vs Rotkreuz (2)
UID:5f4ea94c-dc1d-4e4c-9ef2-2d6ea75387d8
STATUS:CONFIRMED
LAST-MODIFIED:20250316T192801Z
DESCRIPTION:U15\, 3. Runde\, 3. Division\nBegegnungs-Nr: 2\nHeim: Schenkon\nGast: Rotkreuz\n
LOCATION:
CATEGORIES:Saison 2024/25
END:VEVENT
BEGIN:VEVENT
DTSTAMP:20260423T190045Z
DTSTART;TZID=Europe/Berlin:20240831T130000
DTEND;TZID=Europe/Berlin:20240831T160000
SUMMARY:U15 R1 GC Baar vs Rotkreuz (2)
UID:ca69ce5e-b28d-40cc-81b1-901cdfbf2a96
STATUS:CONFIRMED
LAST-MODIFIED:20240901T173710Z
DESCRIPTION:U15\, 1. Runde\, Gruppe C\nBegegnungs-Nr: 2\nHeim: Baar\nGast: Rotkreuz\n
LOCATION:
CATEGORIES:Saison 2024/25
END:VEVENT
BEGIN:VEVENT
DTSTAMP:20260423T190045Z
DTSTART;TZID=Europe/Berlin:20241214T143000
DTEND;TZID=Europe/Berlin:20241214T173000
SUMMARY:U15 R2 GA Kriens II vs Rotkreuz (3)
UID:e2b9697e-90fb-47e3-91d9-269d15a2f347
STATUS:CONFIRMED
LAST-MODIFIED:20250109T082023Z
DESCRIPTION:U15\, 2. Runde\, Gruppe A\nBegegnungs-Nr: 3\nHeim: Kriens II\nGast: Rotkreuz\n
LOCATION:
CATEGORIES:Saison 2024/25
END:VEVENT
BEGIN:VEVENT
DTSTAMP:20260423T190045Z
DTSTART;TZID=Europe/Berlin:20241214T130000
DTEND;TZID=Europe/Berlin:20241214T160000
SUMMARY:U15 R2 GA Sarnen vs Rotkreuz (2)
UID:4a103dcd-c111-47a7-a291-3d52dce335f5
STATUS:CONFIRMED
LAST-MODIFIED:20250108T151332Z
DESCRIPTION:U15\, 2. Runde\, Gruppe A\nBegegnungs-Nr: 2\nHeim: Sarnen\nGast: Rotkreuz\n\nAdresse: Rütistrasse 3\, 6060 Sarnen\n
LOCATION:Rütistrasse 3\, 6060 Sarnen
CATEGORIES:Saison 2024/25
END:VEVENT
END:VCALENDAR
