BEGIN:VCALENDAR
PRODID:-//nuDatenautomaten//framework iCal4j //DE
VERSION:2.0
CALSCALE:GREGORIAN
BEGIN:VTIMEZONE
TZID:Europe/Berlin
LAST-MODIFIED:20260306T231828Z
TZURL:https://www.tzurl.org/zoneinfo/Europe/Berlin
X-LIC-LOCATION:Europe/Berlin
X-PROLEPTIC-TZNAME:LMT
BEGIN:STANDARD
TZNAME:CET
TZOFFSETFROM:+005328
TZOFFSETTO:+0100
DTSTART:18930401T000000
END:STANDARD
BEGIN:DAYLIGHT
TZNAME:CEST
TZOFFSETFROM:+0100
TZOFFSETTO:+0200
DTSTART:19160430T230000
RDATE:19400401T020000
RDATE:19430329T020000
RDATE:19460414T020000
RDATE:19470406T030000
RDATE:19480418T020000
RDATE:19490410T020000
RDATE:19800406T020000
END:DAYLIGHT
BEGIN:STANDARD
TZNAME:CET
TZOFFSETFROM:+0200
TZOFFSETTO:+0100
DTSTART:19161001T010000
RDATE:19421102T030000
RDATE:19431004T030000
RDATE:19441002T030000
RDATE:19451118T030000
RDATE:19461007T030000
END:STANDARD
BEGIN:DAYLIGHT
TZNAME:CEST
TZOFFSETFROM:+0100
TZOFFSETTO:+0200
DTSTART:19170416T020000
RRULE:FREQ=YEARLY;UNTIL=19180415T010000Z;BYMONTH=4;BYDAY=3MO
END:DAYLIGHT
BEGIN:STANDARD
TZNAME:CET
TZOFFSETFROM:+0200
TZOFFSETTO:+0100
DTSTART:19170917T030000
RRULE:FREQ=YEARLY;UNTIL=19180916T010000Z;BYMONTH=9;BYDAY=3MO
END:STANDARD
BEGIN:DAYLIGHT
TZNAME:CEST
TZOFFSETFROM:+0100
TZOFFSETTO:+0200
DTSTART:19440403T020000
RRULE:FREQ=YEARLY;UNTIL=19450402T010000Z;BYMONTH=4;BYDAY=1MO
END:DAYLIGHT
BEGIN:DAYLIGHT
TZNAME:CEMT
TZOFFSETFROM:+0200
TZOFFSETTO:+0300
DTSTART:19450524T020000
RDATE:19470511T030000
END:DAYLIGHT
BEGIN:DAYLIGHT
TZNAME:CEST
TZOFFSETFROM:+0300
TZOFFSETTO:+0200
DTSTART:19450924T030000
RDATE:19470629T030000
END:DAYLIGHT
BEGIN:STANDARD
TZNAME:CET
TZOFFSETFROM:+0100
TZOFFSETTO:+0100
DTSTART:19460101T000000
RDATE:19800101T000000
END:STANDARD
BEGIN:STANDARD
TZNAME:CET
TZOFFSETFROM:+0200
TZOFFSETTO:+0100
DTSTART:19471005T030000
RRULE:FREQ=YEARLY;UNTIL=19491002T010000Z;BYMONTH=10;BYDAY=1SU
END:STANDARD
BEGIN:STANDARD
TZNAME:CET
TZOFFSETFROM:+0200
TZOFFSETTO:+0100
DTSTART:19800928T030000
RRULE:FREQ=YEARLY;UNTIL=19950924T010000Z;BYMONTH=9;BYDAY=-1SU
END:STANDARD
BEGIN:DAYLIGHT
TZNAME:CEST
TZOFFSETFROM:+0100
TZOFFSETTO:+0200
DTSTART:19810329T020000
RRULE:FREQ=YEARLY;BYMONTH=3;BYDAY=-1SU
END:DAYLIGHT
BEGIN:STANDARD
TZNAME:CET
TZOFFSETFROM:+0200
TZOFFSETTO:+0100
DTSTART:19961027T030000
RRULE:FREQ=YEARLY;BYMONTH=10;BYDAY=-1SU
END:STANDARD
END:VTIMEZONE
BEGIN:VEVENT
DTSTAMP:20260423T191901Z
DTSTART;TZID=Europe/Berlin:20250123T200000
DTEND;TZID=Europe/Berlin:20250123T230000
SUMMARY:He 4. Liga Gr. 2 Hünenberg III vs Rotkreuz III (0)
UID:c398cbe7-bf8d-4013-94ce-7c9dd4ff6e9a
STATUS:CONFIRMED
LAST-MODIFIED:20250204T205011Z
DESCRIPTION:4. Liga Herren Gruppe 2\nBegegnungs-Nr: 0\nHeim: Hünenberg III\nGast: Rotkreuz III\n\nAdresse: Lindenbergstrasse 25\, 6331 Hünenberg\n
LOCATION:Lindenbergstrasse 25\, 6331 Hünenberg
CATEGORIES:Saison 2024/25
END:VEVENT
BEGIN:VEVENT
DTSTAMP:20260423T191901Z
DTSTART;TZID=Europe/Berlin:20241219T200000
DTEND;TZID=Europe/Berlin:20241219T230000
SUMMARY:He 4. Liga Gr. 2 Hünenberg III vs Rapid Luzern IX (0)
UID:55b270de-4748-4d54-a441-2a1c403cb447
STATUS:CONFIRMED
LAST-MODIFIED:20241223T171549Z
DESCRIPTION:4. Liga Herren Gruppe 2\nBegegnungs-Nr: 0\nHeim: Hünenberg III\nGast: Rapid Luzern IX\n\nAdresse: Lindenbergstrasse 25\, 6331 Hünenberg\n
LOCATION:Lindenbergstrasse 25\, 6331 Hünenberg
CATEGORIES:Saison 2024/25
END:VEVENT
BEGIN:VEVENT
DTSTAMP:20260423T191901Z
DTSTART;TZID=Europe/Berlin:20240905T200000
DTEND;TZID=Europe/Berlin:20240905T230000
SUMMARY:He 4. Liga Gr. 2 Hünenberg III vs Rothenburg V (0)
UID:396a57c1-80da-4d59-b47f-eda4a56a1bdd
STATUS:CONFIRMED
LAST-MODIFIED:20240911T141018Z
DESCRIPTION:4. Liga Herren Gruppe 2\nBegegnungs-Nr: 0\nHeim: Hünenberg III\nGast: Rothenburg V\n\nAdresse: Lindenbergstrasse 25\, 6331 Hünenberg\n
LOCATION:Lindenbergstrasse 25\, 6331 Hünenberg
CATEGORIES:Saison 2024/25
END:VEVENT
BEGIN:VEVENT
DTSTAMP:20260423T191901Z
DTSTART;TZID=Europe/Berlin:20241024T200000
DTEND;TZID=Europe/Berlin:20241024T230000
SUMMARY:He 4. Liga Gr. 2 Hünenberg III vs Kriens VII (0)
UID:2d824c5a-964f-47d9-b9dc-120843a44c80
STATUS:CONFIRMED
LAST-MODIFIED:20241027T093941Z
DESCRIPTION:4. Liga Herren Gruppe 2\nBegegnungs-Nr: 0\nHeim: Hünenberg III\nGast: Kriens VII\n\nAdresse: Lindenbergstrasse 25\, 6331 Hünenberg\n
LOCATION:Lindenbergstrasse 25\, 6331 Hünenberg
CATEGORIES:Saison 2024/25
END:VEVENT
BEGIN:VEVENT
DTSTAMP:20260423T191901Z
DTSTART;TZID=Europe/Berlin:20241121T200000
DTEND;TZID=Europe/Berlin:20241121T230000
SUMMARY:He 4. Liga Gr. 2 Hünenberg III vs Buochs II (0)
UID:a2516a70-8862-4823-aec0-805a27f164cd
STATUS:CONFIRMED
LAST-MODIFIED:20241129T104148Z
DESCRIPTION:4. Liga Herren Gruppe 2\nBegegnungs-Nr: 0\nHeim: Hünenberg III\nGast: Buochs II\n\nAdresse: Lindenbergstrasse 25\, 6331 Hünenberg\n
LOCATION:Lindenbergstrasse 25\, 6331 Hünenberg
CATEGORIES:Saison 2024/25
END:VEVENT
BEGIN:VEVENT
DTSTAMP:20260423T191901Z
DTSTART;TZID=Europe/Berlin:20250217T200000
DTEND;TZID=Europe/Berlin:20250217T230000
SUMMARY:He 4. Liga Gr. 2 Buochs II vs Hünenberg III (0)
UID:dc6a874d-eab1-4c65-b86e-f909d0ec79dc
STATUS:CONFIRMED
LAST-MODIFIED:20250219T081057Z
DESCRIPTION:4. Liga Herren Gruppe 2\nBegegnungs-Nr: 0\nHeim: Buochs II\nGast: Hünenberg III\n\nAdresse: -\, Buochs\n
LOCATION:-\, Buochs
CATEGORIES:Saison 2024/25
END:VEVENT
BEGIN:VEVENT
DTSTAMP:20260423T191901Z
DTSTART;TZID=Europe/Berlin:20250110T200000
DTEND;TZID=Europe/Berlin:20250110T230000
SUMMARY:He 4. Liga Gr. 2 Kriens VII vs Hünenberg III (0)
UID:10557b5c-763b-4014-b2e7-66ae37f01b71
STATUS:CONFIRMED
LAST-MODIFIED:20250112T155241Z
DESCRIPTION:4. Liga Herren Gruppe 2\nBegegnungs-Nr: 0\nHeim: Kriens VII\nGast: Hünenberg III\n\nAdresse: Krauerstrasse 1\, 6010 Kriens\n
LOCATION:Krauerstrasse 1\, 6010 Kriens
CATEGORIES:Saison 2024/25
END:VEVENT
BEGIN:VEVENT
DTSTAMP:20260423T191901Z
DTSTART;TZID=Europe/Berlin:20241109T130000
DTEND;TZID=Europe/Berlin:20241109T160000
SUMMARY:He 4. Liga Gr. 2 Rapid Luzern IX vs Hünenberg III (0)
UID:ec2ce3eb-3e8a-4110-ac6e-138af1f79b8a
STATUS:CONFIRMED
LAST-MODIFIED:20241113T144857Z
DESCRIPTION:4. Liga Herren Gruppe 2\nBegegnungs-Nr: 0\nHeim: Rapid Luzern IX\nGast: Hünenberg III\n\nAdresse: Kreuzbuchstr. 60\, 6006 Luzern\n
LOCATION:Kreuzbuchstr. 60\, 6006 Luzern
CATEGORIES:Saison 2024/25
END:VEVENT
BEGIN:VEVENT
DTSTAMP:20260423T191901Z
DTSTART;TZID=Europe/Berlin:20240830T201500
DTEND;TZID=Europe/Berlin:20240830T231500
SUMMARY:He 4. Liga Gr. 2 Rotkreuz III vs Hünenberg III (0)
UID:171919ea-e20d-46e7-a7b3-3ff7ecae0ee2
STATUS:CONFIRMED
LAST-MODIFIED:20240902T182308Z
DESCRIPTION:4. Liga Herren Gruppe 2\nBegegnungs-Nr: 0\nHeim: Rotkreuz III\nGast: Hünenberg III\n\nAdresse: Buonaserstr. 23\, 6343 Rotkreuz\n
LOCATION:Buonaserstr. 23\, 6343 Rotkreuz
CATEGORIES:Saison 2024/25
END:VEVENT
BEGIN:VEVENT
DTSTAMP:20260423T191901Z
DTSTART;TZID=Europe/Berlin:20241202T200000
DTEND;TZID=Europe/Berlin:20241202T230000
SUMMARY:He 4. Liga Gr. 2 Rothenburg V vs Hünenberg III (0)
UID:4cd227e6-9a78-4ff9-9306-3416c87f4777
STATUS:CONFIRMED
LAST-MODIFIED:20241204T154531Z
DESCRIPTION:4. Liga Herren Gruppe 2\nBegegnungs-Nr: 0\nHeim: Rothenburg V\nGast: Hünenberg III\n\nAdresse: Schulhausstrasse 6a\, 6023 Rothenburg\n
LOCATION:Schulhausstrasse 6a\, 6023 Rothenburg
CATEGORIES:Saison 2024/25
END:VEVENT
END:VCALENDAR
