BEGIN:VCALENDAR
PRODID:-//nuDatenautomaten//framework iCal4j //DE
VERSION:2.0
CALSCALE:GREGORIAN
BEGIN:VTIMEZONE
TZID:Europe/Berlin
LAST-MODIFIED:20260306T231828Z
TZURL:https://www.tzurl.org/zoneinfo/Europe/Berlin
X-LIC-LOCATION:Europe/Berlin
X-PROLEPTIC-TZNAME:LMT
BEGIN:STANDARD
TZNAME:CET
TZOFFSETFROM:+005328
TZOFFSETTO:+0100
DTSTART:18930401T000000
END:STANDARD
BEGIN:DAYLIGHT
TZNAME:CEST
TZOFFSETFROM:+0100
TZOFFSETTO:+0200
DTSTART:19160430T230000
RDATE:19400401T020000
RDATE:19430329T020000
RDATE:19460414T020000
RDATE:19470406T030000
RDATE:19480418T020000
RDATE:19490410T020000
RDATE:19800406T020000
END:DAYLIGHT
BEGIN:STANDARD
TZNAME:CET
TZOFFSETFROM:+0200
TZOFFSETTO:+0100
DTSTART:19161001T010000
RDATE:19421102T030000
RDATE:19431004T030000
RDATE:19441002T030000
RDATE:19451118T030000
RDATE:19461007T030000
END:STANDARD
BEGIN:DAYLIGHT
TZNAME:CEST
TZOFFSETFROM:+0100
TZOFFSETTO:+0200
DTSTART:19170416T020000
RRULE:FREQ=YEARLY;UNTIL=19180415T010000Z;BYMONTH=4;BYDAY=3MO
END:DAYLIGHT
BEGIN:STANDARD
TZNAME:CET
TZOFFSETFROM:+0200
TZOFFSETTO:+0100
DTSTART:19170917T030000
RRULE:FREQ=YEARLY;UNTIL=19180916T010000Z;BYMONTH=9;BYDAY=3MO
END:STANDARD
BEGIN:DAYLIGHT
TZNAME:CEST
TZOFFSETFROM:+0100
TZOFFSETTO:+0200
DTSTART:19440403T020000
RRULE:FREQ=YEARLY;UNTIL=19450402T010000Z;BYMONTH=4;BYDAY=1MO
END:DAYLIGHT
BEGIN:DAYLIGHT
TZNAME:CEMT
TZOFFSETFROM:+0200
TZOFFSETTO:+0300
DTSTART:19450524T020000
RDATE:19470511T030000
END:DAYLIGHT
BEGIN:DAYLIGHT
TZNAME:CEST
TZOFFSETFROM:+0300
TZOFFSETTO:+0200
DTSTART:19450924T030000
RDATE:19470629T030000
END:DAYLIGHT
BEGIN:STANDARD
TZNAME:CET
TZOFFSETFROM:+0100
TZOFFSETTO:+0100
DTSTART:19460101T000000
RDATE:19800101T000000
END:STANDARD
BEGIN:STANDARD
TZNAME:CET
TZOFFSETFROM:+0200
TZOFFSETTO:+0100
DTSTART:19471005T030000
RRULE:FREQ=YEARLY;UNTIL=19491002T010000Z;BYMONTH=10;BYDAY=1SU
END:STANDARD
BEGIN:STANDARD
TZNAME:CET
TZOFFSETFROM:+0200
TZOFFSETTO:+0100
DTSTART:19800928T030000
RRULE:FREQ=YEARLY;UNTIL=19950924T010000Z;BYMONTH=9;BYDAY=-1SU
END:STANDARD
BEGIN:DAYLIGHT
TZNAME:CEST
TZOFFSETFROM:+0100
TZOFFSETTO:+0200
DTSTART:19810329T020000
RRULE:FREQ=YEARLY;BYMONTH=3;BYDAY=-1SU
END:DAYLIGHT
BEGIN:STANDARD
TZNAME:CET
TZOFFSETFROM:+0200
TZOFFSETTO:+0100
DTSTART:19961027T030000
RRULE:FREQ=YEARLY;BYMONTH=10;BYDAY=-1SU
END:STANDARD
END:VTIMEZONE
BEGIN:VEVENT
DTSTAMP:20260424T203559Z
DTSTART;TZID=Europe/Berlin:20250114T200000
DTEND;TZID=Europe/Berlin:20250114T230000
SUMMARY:HE 6. Liga Gr. 6 Seebach-Kügeliloo V vs Niederhasli VI (0)
UID:60225153-ae93-4494-a8ef-7595252b6df2
STATUS:CONFIRMED
LAST-MODIFIED:20250116T101429Z
DESCRIPTION:6. Liga Herren Gruppe 6\nBegegnungs-Nr: 0\nHeim: Seebach-Kügeliloo V\nGast: Niederhasli VI\n\nAdresse: Sperletweg 71\, 8052 Zürich\n
LOCATION:Sperletweg 71\, 8052 Zürich
CATEGORIES:Saison 2024/25
END:VEVENT
BEGIN:VEVENT
DTSTAMP:20260424T203559Z
DTSTART;TZID=Europe/Berlin:20250311T200000
DTEND;TZID=Europe/Berlin:20250311T230000
SUMMARY:HE 6. Liga Gr. 6 Seebach-Kügeliloo V vs Urdorf IV (0)
UID:0ee99b66-fd8b-4643-81ea-bf28fc937134
STATUS:CONFIRMED
LAST-MODIFIED:20250312T150051Z
DESCRIPTION:6. Liga Herren Gruppe 6\nBegegnungs-Nr: 0\nHeim: Seebach-Kügeliloo V\nGast: Urdorf IV\n\nAdresse: Sperletweg 71\, 8052 Zürich\n
LOCATION:Sperletweg 71\, 8052 Zürich
CATEGORIES:Saison 2024/25
END:VEVENT
BEGIN:VEVENT
DTSTAMP:20260424T203559Z
DTSTART;TZID=Europe/Berlin:20241203T200000
DTEND;TZID=Europe/Berlin:20241203T230000
SUMMARY:HE 6. Liga Gr. 6 Seebach-Kügeliloo V vs Bülach VI (0)
UID:e57d5c2a-38df-4195-aa13-72c6813085a1
STATUS:CONFIRMED
LAST-MODIFIED:20241205T125904Z
DESCRIPTION:6. Liga Herren Gruppe 6\nBegegnungs-Nr: 0\nHeim: Seebach-Kügeliloo V\nGast: Bülach VI\n\nAdresse: Sperletweg 71\, 8052 Zürich\n
LOCATION:Sperletweg 71\, 8052 Zürich
CATEGORIES:Saison 2024/25
END:VEVENT
BEGIN:VEVENT
DTSTAMP:20260424T203559Z
DTSTART;TZID=Europe/Berlin:20241029T200000
DTEND;TZID=Europe/Berlin:20241029T230000
SUMMARY:HE 6. Liga Gr. 6 Seebach-Kügeliloo V vs Pinguin Zürich VI (0)
UID:faaf030e-1ba0-42f0-b025-1ceb179193cd
STATUS:CONFIRMED
LAST-MODIFIED:20241030T124129Z
DESCRIPTION:6. Liga Herren Gruppe 6\nBegegnungs-Nr: 0\nHeim: Seebach-Kügeliloo V\nGast: Pinguin Zürich VI\n\nAdresse: Sperletweg 71\, 8052 Zürich\n
LOCATION:Sperletweg 71\, 8052 Zürich
CATEGORIES:Saison 2024/25
END:VEVENT
BEGIN:VEVENT
DTSTAMP:20260424T203559Z
DTSTART;TZID=Europe/Berlin:20250128T200000
DTEND;TZID=Europe/Berlin:20250128T230000
SUMMARY:HE 6. Liga Gr. 6 Seebach-Kügeliloo V vs Zürich-Affoltern VIII (0)
UID:4475bd69-d178-411c-b92c-820275ebdcea
STATUS:CONFIRMED
LAST-MODIFIED:20250219T154816Z
DESCRIPTION:6. Liga Herren Gruppe 6\nBegegnungs-Nr: 0\nHeim: Seebach-Kügeliloo V\nGast: Zürich-Affoltern VIII\n\nAdresse: Sperletweg 71\, 8052 Zürich\n
LOCATION:Sperletweg 71\, 8052 Zürich
CATEGORIES:Saison 2024/25
END:VEVENT
BEGIN:VEVENT
DTSTAMP:20260424T203559Z
DTSTART;TZID=Europe/Berlin:20240924T200000
DTEND;TZID=Europe/Berlin:20240924T230000
SUMMARY:HE 6. Liga Gr. 6 Seebach-Kügeliloo V vs Höngg IV (0)
UID:c98eee44-16e3-4ba2-bd85-27daec978481
STATUS:CONFIRMED
LAST-MODIFIED:20240926T113931Z
DESCRIPTION:6. Liga Herren Gruppe 6\nBegegnungs-Nr: 0\nHeim: Seebach-Kügeliloo V\nGast: Höngg IV\n\nAdresse: Sperletweg 71\, 8052 Zürich\n
LOCATION:Sperletweg 71\, 8052 Zürich
CATEGORIES:Saison 2024/25
END:VEVENT
BEGIN:VEVENT
DTSTAMP:20260424T203559Z
DTSTART;TZID=Europe/Berlin:20240903T200000
DTEND;TZID=Europe/Berlin:20240903T230000
SUMMARY:HE 6. Liga Gr. 6 Seebach-Kügeliloo V vs Libera Zürich II (0)
UID:146220e7-4b4d-44c0-a8dc-49b731ee3397
STATUS:CONFIRMED
LAST-MODIFIED:20240904T120600Z
DESCRIPTION:6. Liga Herren Gruppe 6\nBegegnungs-Nr: 0\nHeim: Seebach-Kügeliloo V\nGast: Libera Zürich II\n\nAdresse: Sperletweg 71\, 8052 Zürich\n
LOCATION:Sperletweg 71\, 8052 Zürich
CATEGORIES:Saison 2024/25
END:VEVENT
BEGIN:VEVENT
DTSTAMP:20260424T203559Z
DTSTART;TZID=Europe/Berlin:20250123T200000
DTEND;TZID=Europe/Berlin:20250123T230000
SUMMARY:HE 6. Liga Gr. 6 Libera Zürich II vs Seebach-Kügeliloo V (0)
UID:7fbcd743-ee6e-43ca-b427-ac5fb8bb2d2d
STATUS:CONFIRMED
LAST-MODIFIED:20250129T125830Z
DESCRIPTION:6. Liga Herren Gruppe 6\nBegegnungs-Nr: 0\nHeim: Libera Zürich II\nGast: Seebach-Kügeliloo V\n\nAdresse: Sperletweg 71\, 8052 Zürich\n
LOCATION:Sperletweg 71\, 8052 Zürich
CATEGORIES:Saison 2024/25
END:VEVENT
BEGIN:VEVENT
DTSTAMP:20260424T203559Z
DTSTART;TZID=Europe/Berlin:20250303T193000
DTEND;TZID=Europe/Berlin:20250303T223000
SUMMARY:HE 6. Liga Gr. 6 Pinguin Zürich VI vs Seebach-Kügeliloo V (0)
UID:9f7ae60d-a150-40f2-868a-0d450d22ddc9
STATUS:CONFIRMED
LAST-MODIFIED:20250313T103550Z
DESCRIPTION:6. Liga Herren Gruppe 6\nBegegnungs-Nr: 0\nHeim: Pinguin Zürich VI\nGast: Seebach-Kügeliloo V\n\nAdresse: Basteiplatz\, 8001 Zürich\n
LOCATION:Basteiplatz\, 8001 Zürich
CATEGORIES:Saison 2024/25
END:VEVENT
BEGIN:VEVENT
DTSTAMP:20260424T203559Z
DTSTART;TZID=Europe/Berlin:20250205T200000
DTEND;TZID=Europe/Berlin:20250205T230000
SUMMARY:HE 6. Liga Gr. 6 Höngg IV vs Seebach-Kügeliloo V (0)
UID:18482b8a-a8f1-4ae6-972e-cf9d17e0fccf
STATUS:CONFIRMED
LAST-MODIFIED:20250206T141121Z
DESCRIPTION:6. Liga Herren Gruppe 6\nBegegnungs-Nr: 0\nHeim: Höngg IV\nGast: Seebach-Kügeliloo V\n\nAdresse: Bläsistrasse 2\, 8049 Zürich\n
LOCATION:Bläsistrasse 2\, 8049 Zürich
CATEGORIES:Saison 2024/25
END:VEVENT
BEGIN:VEVENT
DTSTAMP:20260424T203559Z
DTSTART;TZID=Europe/Berlin:20241108T201500
DTEND;TZID=Europe/Berlin:20241108T231500
SUMMARY:HE 6. Liga Gr. 6 Urdorf IV vs Seebach-Kügeliloo V (0)
UID:f28f0ec7-5a5d-4f04-b3bb-db5235f39816
STATUS:CONFIRMED
LAST-MODIFIED:20241114T080050Z
DESCRIPTION:6. Liga Herren Gruppe 6\nBegegnungs-Nr: 0\nHeim: Urdorf IV\nGast: Seebach-Kügeliloo V\n\nAdresse: Weihermattstrasse 50\, 8902 Urdorf\n
LOCATION:Weihermattstrasse 50\, 8902 Urdorf
CATEGORIES:Saison 2024/25
END:VEVENT
BEGIN:VEVENT
DTSTAMP:20260424T203559Z
DTSTART;TZID=Europe/Berlin:20240920T201500
DTEND;TZID=Europe/Berlin:20240920T231500
SUMMARY:HE 6. Liga Gr. 6 Zürich-Affoltern VIII vs Seebach-Kügeliloo V (0)
UID:a7090d97-4c6b-438c-9156-7540b5302652
STATUS:CONFIRMED
LAST-MODIFIED:20240926T113949Z
DESCRIPTION:6. Liga Herren Gruppe 6\nBegegnungs-Nr: 0\nHeim: Zürich-Affoltern VIII\nGast: Seebach-Kügeliloo V\n\nAdresse: Rümlangstr. 89\, 8052 Zürich\n
LOCATION:Rümlangstr. 89\, 8052 Zürich
CATEGORIES:Saison 2024/25
END:VEVENT
BEGIN:VEVENT
DTSTAMP:20260424T203559Z
DTSTART;TZID=Europe/Berlin:20240830T193000
DTEND;TZID=Europe/Berlin:20240830T223000
SUMMARY:HE 6. Liga Gr. 6 Niederhasli VI vs Seebach-Kügeliloo V (0)
UID:50134fa9-6663-4dfa-82e9-3e60ed00aff0
STATUS:CONFIRMED
LAST-MODIFIED:20240904T120518Z
DESCRIPTION:6. Liga Herren Gruppe 6\nBegegnungs-Nr: 0\nHeim: Niederhasli VI\nGast: Seebach-Kügeliloo V\n\nAdresse: Dorfstrasse 22\, 8155 Niederhasli\n
LOCATION:Dorfstrasse 22\, 8155 Niederhasli
CATEGORIES:Saison 2024/25
END:VEVENT
BEGIN:VEVENT
DTSTAMP:20260424T203559Z
DTSTART;TZID=Europe/Berlin:20250328T193000
DTEND;TZID=Europe/Berlin:20250328T223000
SUMMARY:HE 6. Liga Gr. 6 Bülach VI vs Seebach-Kügeliloo V (0)
UID:ea9f6de1-9e39-4285-bb25-16a2d7af45e4
STATUS:CONFIRMED
LAST-MODIFIED:20250404T085700Z
DESCRIPTION:6. Liga Herren Gruppe 6\nBegegnungs-Nr: 0\nHeim: Bülach VI\nGast: Seebach-Kügeliloo V\n\nAdresse: Schwerzgruebstrasse 28\, 8180 Bülach\n
LOCATION:Schwerzgruebstrasse 28\, 8180 Bülach
CATEGORIES:Saison 2024/25
END:VEVENT
END:VCALENDAR
