BEGIN:VCALENDAR
PRODID:-//nuDatenautomaten//framework iCal4j //DE
VERSION:2.0
CALSCALE:GREGORIAN
BEGIN:VTIMEZONE
TZID:Europe/Berlin
LAST-MODIFIED:20260306T231828Z
TZURL:https://www.tzurl.org/zoneinfo/Europe/Berlin
X-LIC-LOCATION:Europe/Berlin
X-PROLEPTIC-TZNAME:LMT
BEGIN:STANDARD
TZNAME:CET
TZOFFSETFROM:+005328
TZOFFSETTO:+0100
DTSTART:18930401T000000
END:STANDARD
BEGIN:DAYLIGHT
TZNAME:CEST
TZOFFSETFROM:+0100
TZOFFSETTO:+0200
DTSTART:19160430T230000
RDATE:19400401T020000
RDATE:19430329T020000
RDATE:19460414T020000
RDATE:19470406T030000
RDATE:19480418T020000
RDATE:19490410T020000
RDATE:19800406T020000
END:DAYLIGHT
BEGIN:STANDARD
TZNAME:CET
TZOFFSETFROM:+0200
TZOFFSETTO:+0100
DTSTART:19161001T010000
RDATE:19421102T030000
RDATE:19431004T030000
RDATE:19441002T030000
RDATE:19451118T030000
RDATE:19461007T030000
END:STANDARD
BEGIN:DAYLIGHT
TZNAME:CEST
TZOFFSETFROM:+0100
TZOFFSETTO:+0200
DTSTART:19170416T020000
RRULE:FREQ=YEARLY;UNTIL=19180415T010000Z;BYMONTH=4;BYDAY=3MO
END:DAYLIGHT
BEGIN:STANDARD
TZNAME:CET
TZOFFSETFROM:+0200
TZOFFSETTO:+0100
DTSTART:19170917T030000
RRULE:FREQ=YEARLY;UNTIL=19180916T010000Z;BYMONTH=9;BYDAY=3MO
END:STANDARD
BEGIN:DAYLIGHT
TZNAME:CEST
TZOFFSETFROM:+0100
TZOFFSETTO:+0200
DTSTART:19440403T020000
RRULE:FREQ=YEARLY;UNTIL=19450402T010000Z;BYMONTH=4;BYDAY=1MO
END:DAYLIGHT
BEGIN:DAYLIGHT
TZNAME:CEMT
TZOFFSETFROM:+0200
TZOFFSETTO:+0300
DTSTART:19450524T020000
RDATE:19470511T030000
END:DAYLIGHT
BEGIN:DAYLIGHT
TZNAME:CEST
TZOFFSETFROM:+0300
TZOFFSETTO:+0200
DTSTART:19450924T030000
RDATE:19470629T030000
END:DAYLIGHT
BEGIN:STANDARD
TZNAME:CET
TZOFFSETFROM:+0100
TZOFFSETTO:+0100
DTSTART:19460101T000000
RDATE:19800101T000000
END:STANDARD
BEGIN:STANDARD
TZNAME:CET
TZOFFSETFROM:+0200
TZOFFSETTO:+0100
DTSTART:19471005T030000
RRULE:FREQ=YEARLY;UNTIL=19491002T010000Z;BYMONTH=10;BYDAY=1SU
END:STANDARD
BEGIN:STANDARD
TZNAME:CET
TZOFFSETFROM:+0200
TZOFFSETTO:+0100
DTSTART:19800928T030000
RRULE:FREQ=YEARLY;UNTIL=19950924T010000Z;BYMONTH=9;BYDAY=-1SU
END:STANDARD
BEGIN:DAYLIGHT
TZNAME:CEST
TZOFFSETFROM:+0100
TZOFFSETTO:+0200
DTSTART:19810329T020000
RRULE:FREQ=YEARLY;BYMONTH=3;BYDAY=-1SU
END:DAYLIGHT
BEGIN:STANDARD
TZNAME:CET
TZOFFSETFROM:+0200
TZOFFSETTO:+0100
DTSTART:19961027T030000
RRULE:FREQ=YEARLY;BYMONTH=10;BYDAY=-1SU
END:STANDARD
END:VTIMEZONE
BEGIN:VEVENT
DTSTAMP:20260424T192056Z
DTSTART;TZID=Europe/Berlin:20250123T200000
DTEND;TZID=Europe/Berlin:20250123T230000
SUMMARY:HE 6. Liga Gr. 6 Libera Zürich II vs Seebach-Kügeliloo V (0)
UID:7fbcd743-ee6e-43ca-b427-ac5fb8bb2d2d
STATUS:CONFIRMED
LAST-MODIFIED:20250129T125830Z
DESCRIPTION:6. Liga Herren Gruppe 6\nBegegnungs-Nr: 0\nHeim: Libera Zürich II\nGast: Seebach-Kügeliloo V\n\nAdresse: Sperletweg 71\, 8052 Zürich\n
LOCATION:Sperletweg 71\, 8052 Zürich
CATEGORIES:Saison 2024/25
END:VEVENT
BEGIN:VEVENT
DTSTAMP:20260424T192056Z
DTSTART;TZID=Europe/Berlin:20250306T200000
DTEND;TZID=Europe/Berlin:20250306T230000
SUMMARY:HE 6. Liga Gr. 6 Libera Zürich II vs Niederhasli VI (0)
UID:a7073b1a-cae7-4ddc-8555-d7fca6e9287e
STATUS:CONFIRMED
LAST-MODIFIED:20250310T203440Z
DESCRIPTION:6. Liga Herren Gruppe 6\nBegegnungs-Nr: 0\nHeim: Libera Zürich II\nGast: Niederhasli VI\n\nAdresse: Sperletweg 71\, 8052 Zürich\n
LOCATION:Sperletweg 71\, 8052 Zürich
CATEGORIES:Saison 2024/25
END:VEVENT
BEGIN:VEVENT
DTSTAMP:20260424T192056Z
DTSTART;TZID=Europe/Berlin:20250206T200000
DTEND;TZID=Europe/Berlin:20250206T230000
SUMMARY:HE 6. Liga Gr. 6 Libera Zürich II vs Pinguin Zürich VI (0)
UID:027d79e0-9483-4b28-ac73-6efa332703c6
STATUS:CONFIRMED
LAST-MODIFIED:20250213T132920Z
DESCRIPTION:6. Liga Herren Gruppe 6\nBegegnungs-Nr: 0\nHeim: Libera Zürich II\nGast: Pinguin Zürich VI\n\nAdresse: Sperletweg 71\, 8052 Zürich\n
LOCATION:Sperletweg 71\, 8052 Zürich
CATEGORIES:Saison 2024/25
END:VEVENT
BEGIN:VEVENT
DTSTAMP:20260424T192056Z
DTSTART;TZID=Europe/Berlin:20241205T200000
DTEND;TZID=Europe/Berlin:20241205T230000
SUMMARY:HE 6. Liga Gr. 6 Libera Zürich II vs Zürich-Affoltern VIII (0)
UID:96d5593c-26e3-459b-bf67-0fd7e58f115a
STATUS:CONFIRMED
LAST-MODIFIED:20241211T104822Z
DESCRIPTION:6. Liga Herren Gruppe 6\nBegegnungs-Nr: 0\nHeim: Libera Zürich II\nGast: Zürich-Affoltern VIII\n\nAdresse: Sperletweg 71\, 8052 Zürich\n
LOCATION:Sperletweg 71\, 8052 Zürich
CATEGORIES:Saison 2024/25
END:VEVENT
BEGIN:VEVENT
DTSTAMP:20260424T192056Z
DTSTART;TZID=Europe/Berlin:20241107T200000
DTEND;TZID=Europe/Berlin:20241107T230000
SUMMARY:HE 6. Liga Gr. 6 Libera Zürich II vs Höngg IV (0)
UID:80c9b9cc-7d44-48dd-bd4d-2363481aa4c8
STATUS:CONFIRMED
LAST-MODIFIED:20241126T090401Z
DESCRIPTION:6. Liga Herren Gruppe 6\nBegegnungs-Nr: 0\nHeim: Libera Zürich II\nGast: Höngg IV\n\nAdresse: Sperletweg 71\, 8052 Zürich\n
LOCATION:Sperletweg 71\, 8052 Zürich
CATEGORIES:Saison 2024/25
END:VEVENT
BEGIN:VEVENT
DTSTAMP:20260424T192056Z
DTSTART;TZID=Europe/Berlin:20240919T200000
DTEND;TZID=Europe/Berlin:20240919T230000
SUMMARY:HE 6. Liga Gr. 6 Libera Zürich II vs Urdorf IV (0)
UID:fb37f9b8-4869-464f-bab1-c34ec23df889
STATUS:CONFIRMED
LAST-MODIFIED:20240926T115417Z
DESCRIPTION:6. Liga Herren Gruppe 6\nBegegnungs-Nr: 0\nHeim: Libera Zürich II\nGast: Urdorf IV\n\nAdresse: Sperletweg 71\, 8052 Zürich\n
LOCATION:Sperletweg 71\, 8052 Zürich
CATEGORIES:Saison 2024/25
END:VEVENT
BEGIN:VEVENT
DTSTAMP:20260424T192056Z
DTSTART;TZID=Europe/Berlin:20241003T200000
DTEND;TZID=Europe/Berlin:20241003T230000
SUMMARY:HE 6. Liga Gr. 6 Libera Zürich II vs Bülach VI (0)
UID:54b42570-6337-404f-9b9f-9c74c74eae1b
STATUS:CONFIRMED
LAST-MODIFIED:20241004T082003Z
DESCRIPTION:6. Liga Herren Gruppe 6\nBegegnungs-Nr: 0\nHeim: Libera Zürich II\nGast: Bülach VI\n\nAdresse: Sperletweg 71\, 8052 Zürich\n
LOCATION:Sperletweg 71\, 8052 Zürich
CATEGORIES:Saison 2024/25
END:VEVENT
BEGIN:VEVENT
DTSTAMP:20260424T192056Z
DTSTART;TZID=Europe/Berlin:20250110T193000
DTEND;TZID=Europe/Berlin:20250110T223000
SUMMARY:HE 6. Liga Gr. 6 Bülach VI vs Libera Zürich II (0)
UID:01c9da7a-0937-49fd-be84-4b2a89a6c413
STATUS:CONFIRMED
LAST-MODIFIED:20250114T093753Z
DESCRIPTION:6. Liga Herren Gruppe 6\nBegegnungs-Nr: 0\nHeim: Bülach VI\nGast: Libera Zürich II\n\nAdresse: Schwerzgruebstrasse 28\, 8180 Bülach\n
LOCATION:Schwerzgruebstrasse 28\, 8180 Bülach
CATEGORIES:Saison 2024/25
END:VEVENT
BEGIN:VEVENT
DTSTAMP:20260424T192056Z
DTSTART;TZID=Europe/Berlin:20250312T200000
DTEND;TZID=Europe/Berlin:20250312T230000
SUMMARY:HE 6. Liga Gr. 6 Höngg IV vs Libera Zürich II (0)
UID:95c0a36b-2f8a-452d-9df4-ba9d0a55ab27
STATUS:CONFIRMED
LAST-MODIFIED:20250314T125138Z
DESCRIPTION:6. Liga Herren Gruppe 6\nBegegnungs-Nr: 0\nHeim: Höngg IV\nGast: Libera Zürich II\n\nAdresse: Bläsistrasse 2\, 8049 Zürich\n
LOCATION:Bläsistrasse 2\, 8049 Zürich
CATEGORIES:Saison 2024/25
END:VEVENT
BEGIN:VEVENT
DTSTAMP:20260424T192056Z
DTSTART;TZID=Europe/Berlin:20250131T201500
DTEND;TZID=Europe/Berlin:20250131T231500
SUMMARY:HE 6. Liga Gr. 6 Urdorf IV vs Libera Zürich II (0)
UID:ccab6ea2-a7b9-4c9b-a609-372a8243cc47
STATUS:CONFIRMED
LAST-MODIFIED:20250203T122800Z
DESCRIPTION:6. Liga Herren Gruppe 6\nBegegnungs-Nr: 0\nHeim: Urdorf IV\nGast: Libera Zürich II\n\nAdresse: Weihermattstrasse 50\, 8902 Urdorf\n
LOCATION:Weihermattstrasse 50\, 8902 Urdorf
CATEGORIES:Saison 2024/25
END:VEVENT
BEGIN:VEVENT
DTSTAMP:20260424T192056Z
DTSTART;TZID=Europe/Berlin:20241101T193000
DTEND;TZID=Europe/Berlin:20241101T223000
SUMMARY:HE 6. Liga Gr. 6 Niederhasli VI vs Libera Zürich II (0)
UID:be1ef16c-c20e-4fe7-9523-9eb56cf169b9
STATUS:CONFIRMED
LAST-MODIFIED:20241108T151001Z
DESCRIPTION:6. Liga Herren Gruppe 6\nBegegnungs-Nr: 0\nHeim: Niederhasli VI\nGast: Libera Zürich II\n\nAdresse: Dorfstrasse 22\, 8155 Niederhasli\n
LOCATION:Dorfstrasse 22\, 8155 Niederhasli
CATEGORIES:Saison 2024/25
END:VEVENT
BEGIN:VEVENT
DTSTAMP:20260424T192056Z
DTSTART;TZID=Europe/Berlin:20240923T193000
DTEND;TZID=Europe/Berlin:20240923T223000
SUMMARY:HE 6. Liga Gr. 6 Pinguin Zürich VI vs Libera Zürich II (0)
UID:0fcf352e-f584-4b01-a983-7fea56d78322
STATUS:CONFIRMED
LAST-MODIFIED:20240926T113939Z
DESCRIPTION:6. Liga Herren Gruppe 6\nBegegnungs-Nr: 0\nHeim: Pinguin Zürich VI\nGast: Libera Zürich II\n\nAdresse: Basteiplatz\, 8001 Zürich\n
LOCATION:Basteiplatz\, 8001 Zürich
CATEGORIES:Saison 2024/25
END:VEVENT
BEGIN:VEVENT
DTSTAMP:20260424T192056Z
DTSTART;TZID=Europe/Berlin:20240903T200000
DTEND;TZID=Europe/Berlin:20240903T230000
SUMMARY:HE 6. Liga Gr. 6 Seebach-Kügeliloo V vs Libera Zürich II (0)
UID:146220e7-4b4d-44c0-a8dc-49b731ee3397
STATUS:CONFIRMED
LAST-MODIFIED:20240904T120600Z
DESCRIPTION:6. Liga Herren Gruppe 6\nBegegnungs-Nr: 0\nHeim: Seebach-Kügeliloo V\nGast: Libera Zürich II\n\nAdresse: Sperletweg 71\, 8052 Zürich\n
LOCATION:Sperletweg 71\, 8052 Zürich
CATEGORIES:Saison 2024/25
END:VEVENT
BEGIN:VEVENT
DTSTAMP:20260424T192056Z
DTSTART;TZID=Europe/Berlin:20250328T201500
DTEND;TZID=Europe/Berlin:20250328T231500
SUMMARY:HE 6. Liga Gr. 6 Zürich-Affoltern VIII vs Libera Zürich II (0)
UID:af04ab64-b7b7-4ecc-88b8-0f43ce161a5d
STATUS:CONFIRMED
LAST-MODIFIED:20250404T083653Z
DESCRIPTION:6. Liga Herren Gruppe 6\nBegegnungs-Nr: 0\nHeim: Zürich-Affoltern VIII\nGast: Libera Zürich II\n
LOCATION:
CATEGORIES:Saison 2024/25
END:VEVENT
END:VCALENDAR
