BEGIN:VCALENDAR
PRODID:-//nuDatenautomaten//framework iCal4j //DE
VERSION:2.0
CALSCALE:GREGORIAN
BEGIN:VTIMEZONE
TZID:Europe/Berlin
LAST-MODIFIED:20260306T231828Z
TZURL:https://www.tzurl.org/zoneinfo/Europe/Berlin
X-LIC-LOCATION:Europe/Berlin
X-PROLEPTIC-TZNAME:LMT
BEGIN:STANDARD
TZNAME:CET
TZOFFSETFROM:+005328
TZOFFSETTO:+0100
DTSTART:18930401T000000
END:STANDARD
BEGIN:DAYLIGHT
TZNAME:CEST
TZOFFSETFROM:+0100
TZOFFSETTO:+0200
DTSTART:19160430T230000
RDATE:19400401T020000
RDATE:19430329T020000
RDATE:19460414T020000
RDATE:19470406T030000
RDATE:19480418T020000
RDATE:19490410T020000
RDATE:19800406T020000
END:DAYLIGHT
BEGIN:STANDARD
TZNAME:CET
TZOFFSETFROM:+0200
TZOFFSETTO:+0100
DTSTART:19161001T010000
RDATE:19421102T030000
RDATE:19431004T030000
RDATE:19441002T030000
RDATE:19451118T030000
RDATE:19461007T030000
END:STANDARD
BEGIN:DAYLIGHT
TZNAME:CEST
TZOFFSETFROM:+0100
TZOFFSETTO:+0200
DTSTART:19170416T020000
RRULE:FREQ=YEARLY;UNTIL=19180415T010000Z;BYMONTH=4;BYDAY=3MO
END:DAYLIGHT
BEGIN:STANDARD
TZNAME:CET
TZOFFSETFROM:+0200
TZOFFSETTO:+0100
DTSTART:19170917T030000
RRULE:FREQ=YEARLY;UNTIL=19180916T010000Z;BYMONTH=9;BYDAY=3MO
END:STANDARD
BEGIN:DAYLIGHT
TZNAME:CEST
TZOFFSETFROM:+0100
TZOFFSETTO:+0200
DTSTART:19440403T020000
RRULE:FREQ=YEARLY;UNTIL=19450402T010000Z;BYMONTH=4;BYDAY=1MO
END:DAYLIGHT
BEGIN:DAYLIGHT
TZNAME:CEMT
TZOFFSETFROM:+0200
TZOFFSETTO:+0300
DTSTART:19450524T020000
RDATE:19470511T030000
END:DAYLIGHT
BEGIN:DAYLIGHT
TZNAME:CEST
TZOFFSETFROM:+0300
TZOFFSETTO:+0200
DTSTART:19450924T030000
RDATE:19470629T030000
END:DAYLIGHT
BEGIN:STANDARD
TZNAME:CET
TZOFFSETFROM:+0100
TZOFFSETTO:+0100
DTSTART:19460101T000000
RDATE:19800101T000000
END:STANDARD
BEGIN:STANDARD
TZNAME:CET
TZOFFSETFROM:+0200
TZOFFSETTO:+0100
DTSTART:19471005T030000
RRULE:FREQ=YEARLY;UNTIL=19491002T010000Z;BYMONTH=10;BYDAY=1SU
END:STANDARD
BEGIN:STANDARD
TZNAME:CET
TZOFFSETFROM:+0200
TZOFFSETTO:+0100
DTSTART:19800928T030000
RRULE:FREQ=YEARLY;UNTIL=19950924T010000Z;BYMONTH=9;BYDAY=-1SU
END:STANDARD
BEGIN:DAYLIGHT
TZNAME:CEST
TZOFFSETFROM:+0100
TZOFFSETTO:+0200
DTSTART:19810329T020000
RRULE:FREQ=YEARLY;BYMONTH=3;BYDAY=-1SU
END:DAYLIGHT
BEGIN:STANDARD
TZNAME:CET
TZOFFSETFROM:+0200
TZOFFSETTO:+0100
DTSTART:19961027T030000
RRULE:FREQ=YEARLY;BYMONTH=10;BYDAY=-1SU
END:STANDARD
END:VTIMEZONE
BEGIN:VEVENT
DTSTAMP:20260424T062141Z
DTSTART;TZID=Europe/Berlin:20240918T200000
DTEND;TZID=Europe/Berlin:20240918T230000
SUMMARY:ME L6 Gr 8\, Tours 1&2 Eysins IV vs Rolle III (8)
UID:922bfe61-b9eb-4d20-870e-ac9367c7a12e
STATUS:CONFIRMED
LAST-MODIFIED:20240918T205509Z
DESCRIPTION:6ème ligue Hommes Groupe 8\,Tours 1&2\nBegegnungs-Nr: 8\nHeim: Eysins IV\nGast: Rolle III\n\nAdresse: En Bellossiez 1\, 1262 Eysins\n
LOCATION:En Bellossiez 1\, 1262 Eysins
CATEGORIES:Saison 2024/25
END:VEVENT
BEGIN:VEVENT
DTSTAMP:20260424T062141Z
DTSTART;TZID=Europe/Berlin:20241204T200000
DTEND;TZID=Europe/Berlin:20241204T230000
SUMMARY:ME L6 Gr 8\, Tours 1&2 Eysins IV vs Rolle II (28)
UID:7aa53276-6d33-4945-8ed6-1a2ed28bc934
STATUS:CONFIRMED
LAST-MODIFIED:20241205T225510Z
DESCRIPTION:6ème ligue Hommes Groupe 8\,Tours 1&2\nBegegnungs-Nr: 28\nHeim: Eysins IV\nGast: Rolle II\n\nAdresse: En Bellossiez 1\, 1262 Eysins\n
LOCATION:En Bellossiez 1\, 1262 Eysins
CATEGORIES:Saison 2024/25
END:VEVENT
BEGIN:VEVENT
DTSTAMP:20260424T062141Z
DTSTART;TZID=Europe/Berlin:20241127T200000
DTEND;TZID=Europe/Berlin:20241127T230000
SUMMARY:ME L6 Gr 8\, Tours 1&2 Eysins IV vs Bougy II (26)
UID:ad699e01-8dca-4459-95e2-702177b587ea
STATUS:CONFIRMED
LAST-MODIFIED:20241128T123332Z
DESCRIPTION:6ème ligue Hommes Groupe 8\,Tours 1&2\nBegegnungs-Nr: 26\nHeim: Eysins IV\nGast: Bougy II\n\nAdresse: En Bellossiez 1\, 1262 Eysins\n
LOCATION:En Bellossiez 1\, 1262 Eysins
CATEGORIES:Saison 2024/25
END:VEVENT
BEGIN:VEVENT
DTSTAMP:20260424T062141Z
DTSTART;TZID=Europe/Berlin:20241106T200000
DTEND;TZID=Europe/Berlin:20241106T230000
SUMMARY:ME L6 Gr 8\, Tours 1&2 Eysins IV vs Gland IV (20)
UID:3f69511b-63e5-4e3d-9ed4-b4e9999af3be
STATUS:CONFIRMED
LAST-MODIFIED:20241109T080146Z
DESCRIPTION:6ème ligue Hommes Groupe 8\,Tours 1&2\nBegegnungs-Nr: 20\nHeim: Eysins IV\nGast: Gland IV\n\nAdresse: En Bellossiez 1\, 1262 Eysins\n
LOCATION:En Bellossiez 1\, 1262 Eysins
CATEGORIES:Saison 2024/25
END:VEVENT
BEGIN:VEVENT
DTSTAMP:20260424T062141Z
DTSTART;TZID=Europe/Berlin:20240904T200000
DTEND;TZID=Europe/Berlin:20240904T230000
SUMMARY:ME L6 Gr 8\, Tours 1&2 Eysins IV vs Nyon II (2)
UID:0c24f78e-50e7-437a-b78a-f09d5895678e
STATUS:CONFIRMED
LAST-MODIFIED:20240908T192452Z
DESCRIPTION:6ème ligue Hommes Groupe 8\,Tours 1&2\nBegegnungs-Nr: 2\nHeim: Eysins IV\nGast: Nyon II\n\nAdresse: En Bellossiez 1\, 1262 Eysins\n
LOCATION:En Bellossiez 1\, 1262 Eysins
CATEGORIES:Saison 2024/25
END:VEVENT
BEGIN:VEVENT
DTSTAMP:20260424T062141Z
DTSTART;TZID=Europe/Berlin:20250409T200000
DTEND;TZID=Europe/Berlin:20250409T230000
SUMMARY:ME L6 Gr 8\, Tours 3&4 Eysins IV vs Bougy II (0)
UID:a3ec16f8-ecfb-41ee-bb07-02bf5f827c6c
STATUS:CONFIRMED
LAST-MODIFIED:20250409T220358Z
DESCRIPTION:6ème ligue Hommes Groupe 8\, Tours 3&4\nBegegnungs-Nr: 0\nHeim: Eysins IV\nGast: Bougy II\n\nAdresse: En Bellossiez 1\, 1262 Eysins\n
LOCATION:En Bellossiez 1\, 1262 Eysins
CATEGORIES:Saison 2024/25
END:VEVENT
BEGIN:VEVENT
DTSTAMP:20260424T062141Z
DTSTART;TZID=Europe/Berlin:20250312T200000
DTEND;TZID=Europe/Berlin:20250312T230000
SUMMARY:ME L6 Gr 8\, Tours 3&4 Eysins IV vs Nyon II (0)
UID:6f374612-9bf6-486f-8b30-45fd2705b24a
STATUS:CONFIRMED
LAST-MODIFIED:20250313T110326Z
DESCRIPTION:6ème ligue Hommes Groupe 8\, Tours 3&4\nBegegnungs-Nr: 0\nHeim: Eysins IV\nGast: Nyon II\n\nAdresse: En Bellossiez 1\, 1262 Eysins\n
LOCATION:En Bellossiez 1\, 1262 Eysins
CATEGORIES:Saison 2024/25
END:VEVENT
BEGIN:VEVENT
DTSTAMP:20260424T062141Z
DTSTART;TZID=Europe/Berlin:20250226T200000
DTEND;TZID=Europe/Berlin:20250226T230000
SUMMARY:ME L6 Gr 8\, Tours 3&4 Eysins IV vs Lausanne XI (0)
UID:036180e5-ce09-4007-a834-3a0d768d21f3
STATUS:CONFIRMED
LAST-MODIFIED:20250227T092626Z
DESCRIPTION:6ème ligue Hommes Groupe 8\, Tours 3&4\nBegegnungs-Nr: 0\nHeim: Eysins IV\nGast: Lausanne XI\n\nAdresse: En Bellossiez 1\, 1262 Eysins\n
LOCATION:En Bellossiez 1\, 1262 Eysins
CATEGORIES:Saison 2024/25
END:VEVENT
BEGIN:VEVENT
DTSTAMP:20260424T062141Z
DTSTART;TZID=Europe/Berlin:20250219T200000
DTEND;TZID=Europe/Berlin:20250219T230000
SUMMARY:ME L6 Gr 8\, Tours 3&4 Eysins IV vs Lausanne XIV (0)
UID:14f09453-40fa-473c-9e90-eb35dfcc961c
STATUS:CONFIRMED
LAST-MODIFIED:20250220T182002Z
DESCRIPTION:6ème ligue Hommes Groupe 8\, Tours 3&4\nBegegnungs-Nr: 0\nHeim: Eysins IV\nGast: Lausanne XIV\n\nAdresse: En Bellossiez 1\, 1262 Eysins\n
LOCATION:En Bellossiez 1\, 1262 Eysins
CATEGORIES:Saison 2024/25
END:VEVENT
BEGIN:VEVENT
DTSTAMP:20260424T062141Z
DTSTART;TZID=Europe/Berlin:20250129T200000
DTEND;TZID=Europe/Berlin:20250129T230000
SUMMARY:ME L6 Gr 8\, Tours 3&4 Eysins IV vs Rolle III (0)
UID:49fa94bd-4d36-41db-8981-8bb6b0297954
STATUS:CONFIRMED
LAST-MODIFIED:20250130T104052Z
DESCRIPTION:6ème ligue Hommes Groupe 8\, Tours 3&4\nBegegnungs-Nr: 0\nHeim: Eysins IV\nGast: Rolle III\n\nAdresse: En Bellossiez 1\, 1262 Eysins\n
LOCATION:En Bellossiez 1\, 1262 Eysins
CATEGORIES:Saison 2024/25
END:VEVENT
BEGIN:VEVENT
DTSTAMP:20260424T062141Z
DTSTART;TZID=Europe/Berlin:20250522T201500
DTEND;TZID=Europe/Berlin:20250522T231500
SUMMARY:ME L6 Finales Eysins IV vs Domdidier II (3)
UID:124f9105-2107-4f40-ad28-59fd685d1e3a
STATUS:CONFIRMED
LAST-MODIFIED:20250518T211638Z
DESCRIPTION:6ème ligue Hommes Finales\nBegegnungs-Nr: 3\nHeim: Eysins IV\nGast: Domdidier II\n\nAdresse: En Bellossiez 1\, 1262 Eysins\n
LOCATION:En Bellossiez 1\, 1262 Eysins
CATEGORIES:Saison 2024/25
END:VEVENT
BEGIN:VEVENT
DTSTAMP:20260424T062141Z
DTSTART;TZID=Europe/Berlin:20250602T200000
DTEND;TZID=Europe/Berlin:20250602T230000
SUMMARY:ME L6 Finales Bulle VI vs Eysins IV (2)
UID:c02df19f-1ea3-44d5-84d7-18136de277b2
STATUS:CONFIRMED
LAST-MODIFIED:20250605T091810Z
DESCRIPTION:6ème ligue Hommes Finales\nBegegnungs-Nr: 2\nHeim: Bulle VI\nGast: Eysins IV\n\nAdresse: Rue du Stade 50\, 1630 Bulle\n
LOCATION:Rue du Stade 50\, 1630 Bulle
CATEGORIES:Saison 2024/25
END:VEVENT
BEGIN:VEVENT
DTSTAMP:20260424T062141Z
DTSTART;TZID=Europe/Berlin:20241011T193000
DTEND;TZID=Europe/Berlin:20241011T223000
SUMMARY:ME L6 Gr 8\, Tours 1&2 Gland IV vs Eysins IV (5)
UID:00596c55-ca60-43cf-b724-8b52309df17d
STATUS:CONFIRMED
LAST-MODIFIED:20241012T202631Z
DESCRIPTION:6ème ligue Hommes Groupe 8\,Tours 1&2\nBegegnungs-Nr: 5\nHeim: Gland IV\nGast: Eysins IV\n\nAdresse: Chemin de la Perroude 1\, 1196 Gland\n
LOCATION:Chemin de la Perroude 1\, 1196 Gland
CATEGORIES:Saison 2024/25
END:VEVENT
BEGIN:VEVENT
DTSTAMP:20260424T062141Z
DTSTART;TZID=Europe/Berlin:20241120T200000
DTEND;TZID=Europe/Berlin:20241120T230000
SUMMARY:ME L6 Gr 8\, Tours 1&2 Rolle III vs Eysins IV (23)
UID:d9f85edb-3678-4112-8022-1fe5e0a482a5
STATUS:CONFIRMED
LAST-MODIFIED:20241126T113112Z
DESCRIPTION:6ème ligue Hommes Groupe 8\,Tours 1&2\nBegegnungs-Nr: 23\nHeim: Rolle III\nGast: Eysins IV\n\nAdresse: Route des Quatre-Communes 7\, 1180 Rolle\n
LOCATION:Route des Quatre-Communes 7\, 1180 Rolle
CATEGORIES:Saison 2024/25
END:VEVENT
BEGIN:VEVENT
DTSTAMP:20260424T062141Z
DTSTART;TZID=Europe/Berlin:20241031T193000
DTEND;TZID=Europe/Berlin:20241031T223000
SUMMARY:ME L6 Gr 8\, Tours 1&2 Nyon II vs Eysins IV (17)
UID:039f2cb3-7d52-4da8-8776-343426aa73fe
STATUS:CONFIRMED
LAST-MODIFIED:20241102T092004Z
DESCRIPTION:6ème ligue Hommes Groupe 8\,Tours 1&2\nBegegnungs-Nr: 17\nHeim: Nyon II\nGast: Eysins IV\n\nAdresse: Rte des Tattes-d'Oie 97\, 1260 Nyon\n
LOCATION:Rte des Tattes-d'Oie 97\, 1260 Nyon
CATEGORIES:Saison 2024/25
END:VEVENT
BEGIN:VEVENT
DTSTAMP:20260424T062141Z
DTSTART;TZID=Europe/Berlin:20241007T200000
DTEND;TZID=Europe/Berlin:20241007T230000
SUMMARY:ME L6 Gr 8\, Tours 1&2 Rolle II vs Eysins IV (13)
UID:6e0c4fdb-a780-482e-94f0-2c39fb9fe0db
STATUS:CONFIRMED
LAST-MODIFIED:20241008T173350Z
DESCRIPTION:6ème ligue Hommes Groupe 8\,Tours 1&2\nBegegnungs-Nr: 13\nHeim: Rolle II\nGast: Eysins IV\n\nAdresse: Route des Quatre-Communes 7\, 1180 Rolle\n
LOCATION:Route des Quatre-Communes 7\, 1180 Rolle
CATEGORIES:Saison 2024/25
END:VEVENT
BEGIN:VEVENT
DTSTAMP:20260424T062141Z
DTSTART;TZID=Europe/Berlin:20240930T193000
DTEND;TZID=Europe/Berlin:20240930T223000
SUMMARY:ME L6 Gr 8\, Tours 1&2 Bougy II vs Eysins IV (11)
UID:eb7b21ad-aaab-4e58-b2d0-3ee92b9aace6
STATUS:CONFIRMED
LAST-MODIFIED:20241001T220236Z
DESCRIPTION:6ème ligue Hommes Groupe 8\,Tours 1&2\nBegegnungs-Nr: 11\nHeim: Bougy II\nGast: Eysins IV\n\nAdresse: Grand-Rue 11\, 1172 Bougy-Villars\n
LOCATION:Grand-Rue 11\, 1172 Bougy-Villars
CATEGORIES:Saison 2024/25
END:VEVENT
BEGIN:VEVENT
DTSTAMP:20260424T062141Z
DTSTART;TZID=Europe/Berlin:20250507T200000
DTEND;TZID=Europe/Berlin:20250507T230000
SUMMARY:ME L6 Gr 8\, Tours 3&4 Lausanne XI vs Eysins IV (0)
UID:973f190d-115b-4ad5-a0b4-14a8b2765eae
STATUS:CONFIRMED
LAST-MODIFIED:20250508T231538Z
DESCRIPTION:6ème ligue Hommes Groupe 8\, Tours 3&4\nBegegnungs-Nr: 0\nHeim: Lausanne XI\nGast: Eysins IV\n\nAdresse: Vaudoise Aréna\, Ch. du Viaduc 14\, 1008 Prilly\n
LOCATION:Vaudoise Aréna\, Ch. du Viaduc 14\, 1008 Prilly
CATEGORIES:Saison 2024/25
END:VEVENT
BEGIN:VEVENT
DTSTAMP:20260424T062141Z
DTSTART;TZID=Europe/Berlin:20250430T200000
DTEND;TZID=Europe/Berlin:20250430T230000
SUMMARY:ME L6 Gr 8\, Tours 3&4 Lausanne XIV vs Eysins IV (0)
UID:dcf3ceb3-514d-4154-aff0-23be861477d0
STATUS:CONFIRMED
LAST-MODIFIED:20250508T232225Z
DESCRIPTION:6ème ligue Hommes Groupe 8\, Tours 3&4\nBegegnungs-Nr: 0\nHeim: Lausanne XIV\nGast: Eysins IV\n\nAdresse: Vaudoise Aréna\, Ch. du Viaduc 14\, 1008 Prilly\n
LOCATION:Vaudoise Aréna\, Ch. du Viaduc 14\, 1008 Prilly
CATEGORIES:Saison 2024/25
END:VEVENT
BEGIN:VEVENT
DTSTAMP:20260424T062141Z
DTSTART;TZID=Europe/Berlin:20250326T200000
DTEND;TZID=Europe/Berlin:20250326T230000
SUMMARY:ME L6 Gr 8\, Tours 3&4 Rolle III vs Eysins IV (0)
UID:3d42a0b5-971a-4238-9d39-7e477c51fdc4
STATUS:CONFIRMED
LAST-MODIFIED:20250327T222905Z
DESCRIPTION:6ème ligue Hommes Groupe 8\, Tours 3&4\nBegegnungs-Nr: 0\nHeim: Rolle III\nGast: Eysins IV\n\nAdresse: Route des Quatre-Communes 7\, 1180 Rolle\n
LOCATION:Route des Quatre-Communes 7\, 1180 Rolle
CATEGORIES:Saison 2024/25
END:VEVENT
BEGIN:VEVENT
DTSTAMP:20260424T062141Z
DTSTART;TZID=Europe/Berlin:20250210T193000
DTEND;TZID=Europe/Berlin:20250210T223000
SUMMARY:ME L6 Gr 8\, Tours 3&4 Bougy II vs Eysins IV (0)
UID:064a5097-f7ed-4087-abf0-a68dc9c0757d
STATUS:CONFIRMED
LAST-MODIFIED:20250211T131401Z
DESCRIPTION:6ème ligue Hommes Groupe 8\, Tours 3&4\nBegegnungs-Nr: 0\nHeim: Bougy II\nGast: Eysins IV\n\nAdresse: Grand-Rue 11\, 1172 Bougy-Villars\n
LOCATION:Grand-Rue 11\, 1172 Bougy-Villars
CATEGORIES:Saison 2024/25
END:VEVENT
BEGIN:VEVENT
DTSTAMP:20260424T062141Z
DTSTART;TZID=Europe/Berlin:20250123T193000
DTEND;TZID=Europe/Berlin:20250123T223000
SUMMARY:ME L6 Gr 8\, Tours 3&4 Nyon II vs Eysins IV (0)
UID:57594e02-1f0f-471e-b196-a13060c61963
STATUS:CONFIRMED
LAST-MODIFIED:20250125T162119Z
DESCRIPTION:6ème ligue Hommes Groupe 8\, Tours 3&4\nBegegnungs-Nr: 0\nHeim: Nyon II\nGast: Eysins IV\n\nAdresse: Rte des Tattes-d'Oie 97\, 1260 Nyon\n
LOCATION:Rte des Tattes-d'Oie 97\, 1260 Nyon
CATEGORIES:Saison 2024/25
END:VEVENT
END:VCALENDAR
