BEGIN:VCALENDAR
PRODID:-//nuDatenautomaten//framework iCal4j //DE
VERSION:2.0
CALSCALE:GREGORIAN
BEGIN:VTIMEZONE
TZID:Europe/Berlin
LAST-MODIFIED:20260306T231828Z
TZURL:https://www.tzurl.org/zoneinfo/Europe/Berlin
X-LIC-LOCATION:Europe/Berlin
X-PROLEPTIC-TZNAME:LMT
BEGIN:STANDARD
TZNAME:CET
TZOFFSETFROM:+005328
TZOFFSETTO:+0100
DTSTART:18930401T000000
END:STANDARD
BEGIN:DAYLIGHT
TZNAME:CEST
TZOFFSETFROM:+0100
TZOFFSETTO:+0200
DTSTART:19160430T230000
RDATE:19400401T020000
RDATE:19430329T020000
RDATE:19460414T020000
RDATE:19470406T030000
RDATE:19480418T020000
RDATE:19490410T020000
RDATE:19800406T020000
END:DAYLIGHT
BEGIN:STANDARD
TZNAME:CET
TZOFFSETFROM:+0200
TZOFFSETTO:+0100
DTSTART:19161001T010000
RDATE:19421102T030000
RDATE:19431004T030000
RDATE:19441002T030000
RDATE:19451118T030000
RDATE:19461007T030000
END:STANDARD
BEGIN:DAYLIGHT
TZNAME:CEST
TZOFFSETFROM:+0100
TZOFFSETTO:+0200
DTSTART:19170416T020000
RRULE:FREQ=YEARLY;UNTIL=19180415T010000Z;BYMONTH=4;BYDAY=3MO
END:DAYLIGHT
BEGIN:STANDARD
TZNAME:CET
TZOFFSETFROM:+0200
TZOFFSETTO:+0100
DTSTART:19170917T030000
RRULE:FREQ=YEARLY;UNTIL=19180916T010000Z;BYMONTH=9;BYDAY=3MO
END:STANDARD
BEGIN:DAYLIGHT
TZNAME:CEST
TZOFFSETFROM:+0100
TZOFFSETTO:+0200
DTSTART:19440403T020000
RRULE:FREQ=YEARLY;UNTIL=19450402T010000Z;BYMONTH=4;BYDAY=1MO
END:DAYLIGHT
BEGIN:DAYLIGHT
TZNAME:CEMT
TZOFFSETFROM:+0200
TZOFFSETTO:+0300
DTSTART:19450524T020000
RDATE:19470511T030000
END:DAYLIGHT
BEGIN:DAYLIGHT
TZNAME:CEST
TZOFFSETFROM:+0300
TZOFFSETTO:+0200
DTSTART:19450924T030000
RDATE:19470629T030000
END:DAYLIGHT
BEGIN:STANDARD
TZNAME:CET
TZOFFSETFROM:+0100
TZOFFSETTO:+0100
DTSTART:19460101T000000
RDATE:19800101T000000
END:STANDARD
BEGIN:STANDARD
TZNAME:CET
TZOFFSETFROM:+0200
TZOFFSETTO:+0100
DTSTART:19471005T030000
RRULE:FREQ=YEARLY;UNTIL=19491002T010000Z;BYMONTH=10;BYDAY=1SU
END:STANDARD
BEGIN:STANDARD
TZNAME:CET
TZOFFSETFROM:+0200
TZOFFSETTO:+0100
DTSTART:19800928T030000
RRULE:FREQ=YEARLY;UNTIL=19950924T010000Z;BYMONTH=9;BYDAY=-1SU
END:STANDARD
BEGIN:DAYLIGHT
TZNAME:CEST
TZOFFSETFROM:+0100
TZOFFSETTO:+0200
DTSTART:19810329T020000
RRULE:FREQ=YEARLY;BYMONTH=3;BYDAY=-1SU
END:DAYLIGHT
BEGIN:STANDARD
TZNAME:CET
TZOFFSETFROM:+0200
TZOFFSETTO:+0100
DTSTART:19961027T030000
RRULE:FREQ=YEARLY;BYMONTH=10;BYDAY=-1SU
END:STANDARD
END:VTIMEZONE
BEGIN:VEVENT
DTSTAMP:20260424T044417Z
DTSTART;TZID=Europe/Berlin:20241018T201500
DTEND;TZID=Europe/Berlin:20241018T231500
SUMMARY:HE 6. Liga Gr. 4 Bremgarten X vs Menziken II (0)
UID:2110cc12-7128-4c52-9e1a-6ca0263d72a1
STATUS:CONFIRMED
LAST-MODIFIED:20241021T115113Z
DESCRIPTION:6. Liga Herren Gruppe 4\nBegegnungs-Nr: 0\nHeim: Bremgarten X\nGast: Menziken II\n\nAdresse: Badstrasse 3\, 5620 Bremgarten\n
LOCATION:Badstrasse 3\, 5620 Bremgarten
CATEGORIES:Saison 2024/25
END:VEVENT
BEGIN:VEVENT
DTSTAMP:20260424T044417Z
DTSTART;TZID=Europe/Berlin:20240906T201500
DTEND;TZID=Europe/Berlin:20240906T231500
SUMMARY:HE 6. Liga Gr. 4 Bremgarten X vs Zofingen IV (0)
UID:9f7b579d-d9b0-4726-9a48-bff832e3aca4
STATUS:CONFIRMED
LAST-MODIFIED:20240910T095237Z
DESCRIPTION:6. Liga Herren Gruppe 4\nBegegnungs-Nr: 0\nHeim: Bremgarten X\nGast: Zofingen IV\n\nAdresse: Badstrasse 3\, 5620 Bremgarten\n
LOCATION:Badstrasse 3\, 5620 Bremgarten
CATEGORIES:Saison 2024/25
END:VEVENT
BEGIN:VEVENT
DTSTAMP:20260424T044417Z
DTSTART;TZID=Europe/Berlin:20241102T133000
DTEND;TZID=Europe/Berlin:20241102T163000
SUMMARY:HE 6. Liga Gr. 4 Bremgarten X vs Brugg IV (0)
UID:48091379-88b4-4bda-a5be-f5455a4fd071
STATUS:CONFIRMED
LAST-MODIFIED:20241104T091932Z
DESCRIPTION:6. Liga Herren Gruppe 4\nBegegnungs-Nr: 0\nHeim: Bremgarten X\nGast: Brugg IV\n\nAdresse: Badstrasse 3\, 5620 Bremgarten\n
LOCATION:Badstrasse 3\, 5620 Bremgarten
CATEGORIES:Saison 2024/25
END:VEVENT
BEGIN:VEVENT
DTSTAMP:20260424T044417Z
DTSTART;TZID=Europe/Berlin:20250110T201500
DTEND;TZID=Europe/Berlin:20250110T231500
SUMMARY:HE 6. Liga Gr. 4 Bremgarten X vs Mellingen IV (0)
UID:dd6011e8-6186-4d8d-b2aa-da841bd7fa3b
STATUS:CONFIRMED
LAST-MODIFIED:20250113T131852Z
DESCRIPTION:6. Liga Herren Gruppe 4\nBegegnungs-Nr: 0\nHeim: Bremgarten X\nGast: Mellingen IV\n\nAdresse: Badstrasse 3\, 5620 Bremgarten\n
LOCATION:Badstrasse 3\, 5620 Bremgarten
CATEGORIES:Saison 2024/25
END:VEVENT
BEGIN:VEVENT
DTSTAMP:20260424T044417Z
DTSTART;TZID=Europe/Berlin:20250225T201500
DTEND;TZID=Europe/Berlin:20250225T231500
SUMMARY:HE 6. Liga Gr. 4 Bremgarten X vs Birrfeld (0)
UID:55044acf-365a-4c06-a569-b0b3859f40a0
STATUS:CONFIRMED
LAST-MODIFIED:20250227T074437Z
DESCRIPTION:6. Liga Herren Gruppe 4\nBegegnungs-Nr: 0\nHeim: Bremgarten X\nGast: Birrfeld\n\nAdresse: Badstrasse 3\, 5620 Bremgarten\n
LOCATION:Badstrasse 3\, 5620 Bremgarten
CATEGORIES:Saison 2024/25
END:VEVENT
BEGIN:VEVENT
DTSTAMP:20260424T044417Z
DTSTART;TZID=Europe/Berlin:20250314T201500
DTEND;TZID=Europe/Berlin:20250314T231500
SUMMARY:HE 6. Liga Gr. 4 Bremgarten X vs Baden-Wettingen VII (0)
UID:069e2c5d-a856-47bb-b312-7958c2cf24e8
STATUS:CONFIRMED
LAST-MODIFIED:20250320T083245Z
DESCRIPTION:6. Liga Herren Gruppe 4\nBegegnungs-Nr: 0\nHeim: Bremgarten X\nGast: Baden-Wettingen VII\n\nAdresse: Badstrasse 3\, 5620 Bremgarten\n
LOCATION:Badstrasse 3\, 5620 Bremgarten
CATEGORIES:Saison 2024/25
END:VEVENT
BEGIN:VEVENT
DTSTAMP:20260424T044417Z
DTSTART;TZID=Europe/Berlin:20250328T201500
DTEND;TZID=Europe/Berlin:20250328T231500
SUMMARY:HE 6. Liga Gr. 4 Bremgarten X vs Schöftland V (0)
UID:13e43e12-3a5c-49e9-acc4-72d5cfe0d4e5
STATUS:CONFIRMED
LAST-MODIFIED:20250404T090924Z
DESCRIPTION:6. Liga Herren Gruppe 4\nBegegnungs-Nr: 0\nHeim: Bremgarten X\nGast: Schöftland V\n\nAdresse: Badstrasse 3\, 5620 Bremgarten\n
LOCATION:Badstrasse 3\, 5620 Bremgarten
CATEGORIES:Saison 2024/25
END:VEVENT
BEGIN:VEVENT
DTSTAMP:20260424T044417Z
DTSTART;TZID=Europe/Berlin:20240829T200000
DTEND;TZID=Europe/Berlin:20240829T230000
SUMMARY:HE 6. Liga Gr. 4 Mellingen IV vs Bremgarten X (0)
UID:7d3b7faa-0402-44f9-a145-beb7a13901f9
STATUS:CONFIRMED
LAST-MODIFIED:20240905T091429Z
DESCRIPTION:6. Liga Herren Gruppe 4\nBegegnungs-Nr: 0\nHeim: Mellingen IV\nGast: Bremgarten X\n\nAdresse: Bahnhofstrasse 22\, 5507 Mellingen\n
LOCATION:Bahnhofstrasse 22\, 5507 Mellingen
CATEGORIES:Saison 2024/25
END:VEVENT
BEGIN:VEVENT
DTSTAMP:20260424T044417Z
DTSTART;TZID=Europe/Berlin:20240918T194500
DTEND;TZID=Europe/Berlin:20240918T224500
SUMMARY:HE 6. Liga Gr. 4 Birrfeld vs Bremgarten X (0)
UID:5b57a595-843e-45c9-b00e-a067502717d9
STATUS:CONFIRMED
LAST-MODIFIED:20240919T094715Z
DESCRIPTION:6. Liga Herren Gruppe 4\nBegegnungs-Nr: 0\nHeim: Birrfeld\nGast: Bremgarten X\n\nAdresse: Zentralstrasse 30\, 5242 Birr\n
LOCATION:Zentralstrasse 30\, 5242 Birr
CATEGORIES:Saison 2024/25
END:VEVENT
BEGIN:VEVENT
DTSTAMP:20260424T044417Z
DTSTART;TZID=Europe/Berlin:20241204T194500
DTEND;TZID=Europe/Berlin:20241204T224500
SUMMARY:HE 6. Liga Gr. 4 Baden-Wettingen VII vs Bremgarten X (0)
UID:bac810b7-90e1-424a-b956-59f6fc5887b9
STATUS:CONFIRMED
LAST-MODIFIED:20241205T084437Z
DESCRIPTION:6. Liga Herren Gruppe 4\nBegegnungs-Nr: 0\nHeim: Baden-Wettingen VII\nGast: Bremgarten X\n\nAdresse: Wiesenstrasse 32 (Parkhaus Schmiede Fabrikstrasse)\, 5400 Baden\n
LOCATION:Wiesenstrasse 32 (Parkhaus Schmiede Fabrikstrasse)\, 5400 Baden
CATEGORIES:Saison 2024/25
END:VEVENT
BEGIN:VEVENT
DTSTAMP:20260424T044417Z
DTSTART;TZID=Europe/Berlin:20241129T200000
DTEND;TZID=Europe/Berlin:20241129T230000
SUMMARY:HE 6. Liga Gr. 4 Schöftland V vs Bremgarten X (0)
UID:babc1123-e82b-49bf-83ed-487270f05bea
STATUS:CONFIRMED
LAST-MODIFIED:20241203T091643Z
DESCRIPTION:6. Liga Herren Gruppe 4\nBegegnungs-Nr: 0\nHeim: Schöftland V\nGast: Bremgarten X\n\nAdresse: Birkenweg\, 5040 Schöftland\n
LOCATION:Birkenweg\, 5040 Schöftland
CATEGORIES:Saison 2024/25
END:VEVENT
BEGIN:VEVENT
DTSTAMP:20260424T044417Z
DTSTART;TZID=Europe/Berlin:20250113T194500
DTEND;TZID=Europe/Berlin:20250113T224500
SUMMARY:HE 6. Liga Gr. 4 Zofingen IV vs Bremgarten X (0)
UID:fe192b9b-08fd-4326-8387-2a1b60848298
STATUS:CONFIRMED
LAST-MODIFIED:20250114T120348Z
DESCRIPTION:6. Liga Herren Gruppe 4\nBegegnungs-Nr: 0\nHeim: Zofingen IV\nGast: Bremgarten X\n\nAdresse: Kreuzplatz\, 4802 Strengelbach\n
LOCATION:Kreuzplatz\, 4802 Strengelbach
CATEGORIES:Saison 2024/25
END:VEVENT
BEGIN:VEVENT
DTSTAMP:20260424T044417Z
DTSTART;TZID=Europe/Berlin:20250319T200000
DTEND;TZID=Europe/Berlin:20250319T230000
SUMMARY:HE 6. Liga Gr. 4 Menziken II vs Bremgarten X (0)
UID:2f659dfc-7b56-42c8-bb93-cc7ef431f014
STATUS:CONFIRMED
LAST-MODIFIED:20250321T123921Z
DESCRIPTION:6. Liga Herren Gruppe 4\nBegegnungs-Nr: 0\nHeim: Menziken II\nGast: Bremgarten X\n\nAdresse: Turnplatzstrasse\, 5737 Menziken\n
LOCATION:Turnplatzstrasse\, 5737 Menziken
CATEGORIES:Saison 2024/25
END:VEVENT
BEGIN:VEVENT
DTSTAMP:20260424T044417Z
DTSTART;TZID=Europe/Berlin:20250311T194500
DTEND;TZID=Europe/Berlin:20250311T224500
SUMMARY:HE 6. Liga Gr. 4 Brugg IV vs Bremgarten X (0)
UID:6867a7fd-214f-4d54-baa9-31a77380aaf3
STATUS:CONFIRMED
LAST-MODIFIED:20250314T123922Z
DESCRIPTION:6. Liga Herren Gruppe 4\nBegegnungs-Nr: 0\nHeim: Brugg IV\nGast: Bremgarten X\n\nAdresse: Sommerhaldenstrasse 29\, 5200 Brugg/Lauffohr\n
LOCATION:Sommerhaldenstrasse 29\, 5200 Brugg/Lauffohr
CATEGORIES:Saison 2024/25
END:VEVENT
END:VCALENDAR
