BEGIN:VCALENDAR
PRODID:-//nuDatenautomaten//framework iCal4j //DE
VERSION:2.0
CALSCALE:GREGORIAN
BEGIN:VTIMEZONE
TZID:Europe/Berlin
LAST-MODIFIED:20260306T231828Z
TZURL:https://www.tzurl.org/zoneinfo/Europe/Berlin
X-LIC-LOCATION:Europe/Berlin
X-PROLEPTIC-TZNAME:LMT
BEGIN:STANDARD
TZNAME:CET
TZOFFSETFROM:+005328
TZOFFSETTO:+0100
DTSTART:18930401T000000
END:STANDARD
BEGIN:DAYLIGHT
TZNAME:CEST
TZOFFSETFROM:+0100
TZOFFSETTO:+0200
DTSTART:19160430T230000
RDATE:19400401T020000
RDATE:19430329T020000
RDATE:19460414T020000
RDATE:19470406T030000
RDATE:19480418T020000
RDATE:19490410T020000
RDATE:19800406T020000
END:DAYLIGHT
BEGIN:STANDARD
TZNAME:CET
TZOFFSETFROM:+0200
TZOFFSETTO:+0100
DTSTART:19161001T010000
RDATE:19421102T030000
RDATE:19431004T030000
RDATE:19441002T030000
RDATE:19451118T030000
RDATE:19461007T030000
END:STANDARD
BEGIN:DAYLIGHT
TZNAME:CEST
TZOFFSETFROM:+0100
TZOFFSETTO:+0200
DTSTART:19170416T020000
RRULE:FREQ=YEARLY;UNTIL=19180415T010000Z;BYMONTH=4;BYDAY=3MO
END:DAYLIGHT
BEGIN:STANDARD
TZNAME:CET
TZOFFSETFROM:+0200
TZOFFSETTO:+0100
DTSTART:19170917T030000
RRULE:FREQ=YEARLY;UNTIL=19180916T010000Z;BYMONTH=9;BYDAY=3MO
END:STANDARD
BEGIN:DAYLIGHT
TZNAME:CEST
TZOFFSETFROM:+0100
TZOFFSETTO:+0200
DTSTART:19440403T020000
RRULE:FREQ=YEARLY;UNTIL=19450402T010000Z;BYMONTH=4;BYDAY=1MO
END:DAYLIGHT
BEGIN:DAYLIGHT
TZNAME:CEMT
TZOFFSETFROM:+0200
TZOFFSETTO:+0300
DTSTART:19450524T020000
RDATE:19470511T030000
END:DAYLIGHT
BEGIN:DAYLIGHT
TZNAME:CEST
TZOFFSETFROM:+0300
TZOFFSETTO:+0200
DTSTART:19450924T030000
RDATE:19470629T030000
END:DAYLIGHT
BEGIN:STANDARD
TZNAME:CET
TZOFFSETFROM:+0100
TZOFFSETTO:+0100
DTSTART:19460101T000000
RDATE:19800101T000000
END:STANDARD
BEGIN:STANDARD
TZNAME:CET
TZOFFSETFROM:+0200
TZOFFSETTO:+0100
DTSTART:19471005T030000
RRULE:FREQ=YEARLY;UNTIL=19491002T010000Z;BYMONTH=10;BYDAY=1SU
END:STANDARD
BEGIN:STANDARD
TZNAME:CET
TZOFFSETFROM:+0200
TZOFFSETTO:+0100
DTSTART:19800928T030000
RRULE:FREQ=YEARLY;UNTIL=19950924T010000Z;BYMONTH=9;BYDAY=-1SU
END:STANDARD
BEGIN:DAYLIGHT
TZNAME:CEST
TZOFFSETFROM:+0100
TZOFFSETTO:+0200
DTSTART:19810329T020000
RRULE:FREQ=YEARLY;BYMONTH=3;BYDAY=-1SU
END:DAYLIGHT
BEGIN:STANDARD
TZNAME:CET
TZOFFSETFROM:+0200
TZOFFSETTO:+0100
DTSTART:19961027T030000
RRULE:FREQ=YEARLY;BYMONTH=10;BYDAY=-1SU
END:STANDARD
END:VTIMEZONE
BEGIN:VEVENT
DTSTAMP:20260423T190716Z
DTSTART;TZID=Europe/Berlin:20250124T201500
DTEND;TZID=Europe/Berlin:20250124T231500
SUMMARY:He 4. Liga Gr. 3 Buochs IV vs Rothenburg IV (0)
UID:0754bf18-1d9d-43f9-8877-6fcba354d5a5
STATUS:CONFIRMED
LAST-MODIFIED:20250204T205024Z
DESCRIPTION:4. Liga Herren Gruppe 3\nBegegnungs-Nr: 0\nHeim: Buochs IV\nGast: Rothenburg IV\n\nAdresse: -\, Buochs\n
LOCATION:-\, Buochs
CATEGORIES:Saison 2024/25
END:VEVENT
BEGIN:VEVENT
DTSTAMP:20260423T190716Z
DTSTART;TZID=Europe/Berlin:20241206T201500
DTEND;TZID=Europe/Berlin:20241206T231500
SUMMARY:He 4. Liga Gr. 3 Buochs IV vs Sarnen IV (0)
UID:f7fa8114-440a-41a6-ba48-3ae48a69cf84
STATUS:CONFIRMED
LAST-MODIFIED:20241210T110326Z
DESCRIPTION:4. Liga Herren Gruppe 3\nBegegnungs-Nr: 0\nHeim: Buochs IV\nGast: Sarnen IV\n\nAdresse: -\, Buochs\n
LOCATION:-\, Buochs
CATEGORIES:Saison 2024/25
END:VEVENT
BEGIN:VEVENT
DTSTAMP:20260423T190716Z
DTSTART;TZID=Europe/Berlin:20250221T201500
DTEND;TZID=Europe/Berlin:20250221T231500
SUMMARY:He 4. Liga Gr. 3 Buochs IV vs Baar V (0)
UID:866c6b1d-0f8a-4a00-882e-269af1403a04
STATUS:CONFIRMED
LAST-MODIFIED:20250226T102248Z
DESCRIPTION:4. Liga Herren Gruppe 3\nBegegnungs-Nr: 0\nHeim: Buochs IV\nGast: Baar V\n\nAdresse: -\, Buochs\n
LOCATION:-\, Buochs
CATEGORIES:Saison 2024/25
END:VEVENT
BEGIN:VEVENT
DTSTAMP:20260423T190716Z
DTSTART;TZID=Europe/Berlin:20240920T201500
DTEND;TZID=Europe/Berlin:20240920T231500
SUMMARY:He 4. Liga Gr. 3 Buochs IV vs Reussbühl V (0)
UID:8b0f84e7-79d0-432a-b976-5cb646b1869d
STATUS:CONFIRMED
LAST-MODIFIED:20240923T140517Z
DESCRIPTION:4. Liga Herren Gruppe 3\nBegegnungs-Nr: 0\nHeim: Buochs IV\nGast: Reussbühl V\n\nAdresse: -\, Buochs\n
LOCATION:-\, Buochs
CATEGORIES:Saison 2024/25
END:VEVENT
BEGIN:VEVENT
DTSTAMP:20260423T190716Z
DTSTART;TZID=Europe/Berlin:20241025T201500
DTEND;TZID=Europe/Berlin:20241025T231500
SUMMARY:He 4. Liga Gr. 3 Buochs IV vs Emmen V (0)
UID:a60626d5-7c71-4844-8b5c-956d643fc92a
STATUS:CONFIRMED
LAST-MODIFIED:20241106T133318Z
DESCRIPTION:4. Liga Herren Gruppe 3\nBegegnungs-Nr: 0\nHeim: Buochs IV\nGast: Emmen V\n\nAdresse: -\, Buochs\n
LOCATION:-\, Buochs
CATEGORIES:Saison 2024/25
END:VEVENT
BEGIN:VEVENT
DTSTAMP:20260423T190716Z
DTSTART;TZID=Europe/Berlin:20250320T200000
DTEND;TZID=Europe/Berlin:20250320T230000
SUMMARY:He 4. Liga Gr. 3 Reussbühl V vs Buochs IV (0)
UID:cfa600e1-12cc-486a-9631-6f1e1c56e679
STATUS:CONFIRMED
LAST-MODIFIED:20250326T152423Z
DESCRIPTION:4. Liga Herren Gruppe 3\nBegegnungs-Nr: 0\nHeim: Reussbühl V\nGast: Buochs IV\n\nAdresse: Obermättlistrasse 44\, 6015 Luzern\n
LOCATION:Obermättlistrasse 44\, 6015 Luzern
CATEGORIES:Saison 2024/25
END:VEVENT
BEGIN:VEVENT
DTSTAMP:20260423T190716Z
DTSTART;TZID=Europe/Berlin:20250108T194500
DTEND;TZID=Europe/Berlin:20250108T224500
SUMMARY:He 4. Liga Gr. 3 Emmen V vs Buochs IV (0)
UID:5d8273a2-8f9c-4c67-9bec-0ad1dfddcb7d
STATUS:CONFIRMED
LAST-MODIFIED:20250112T155351Z
DESCRIPTION:4. Liga Herren Gruppe 3\nBegegnungs-Nr: 0\nHeim: Emmen V\nGast: Buochs IV\n\nAdresse: Rüeggisingerstrasse 26\, 6020 Emmenbrücke\n
LOCATION:Rüeggisingerstrasse 26\, 6020 Emmenbrücke
CATEGORIES:Saison 2024/25
END:VEVENT
BEGIN:VEVENT
DTSTAMP:20260423T190716Z
DTSTART;TZID=Europe/Berlin:20240902T201500
DTEND;TZID=Europe/Berlin:20240902T231500
SUMMARY:He 4. Liga Gr. 3 Sarnen IV vs Buochs IV (0)
UID:2c953d0e-4959-4e73-a6c4-41a670e2dada
STATUS:CONFIRMED
LAST-MODIFIED:20240904T092213Z
DESCRIPTION:4. Liga Herren Gruppe 3\nBegegnungs-Nr: 0\nHeim: Sarnen IV\nGast: Buochs IV\n\nAdresse: Rütistrasse 3\, 6060 Sarnen\n
LOCATION:Rütistrasse 3\, 6060 Sarnen
CATEGORIES:Saison 2024/25
END:VEVENT
BEGIN:VEVENT
DTSTAMP:20260423T190716Z
DTSTART;TZID=Europe/Berlin:20241029T200000
DTEND;TZID=Europe/Berlin:20241029T230000
SUMMARY:He 4. Liga Gr. 3 Rothenburg IV vs Buochs IV (0)
UID:3397b174-9d78-495c-be17-0fbdbcf1801a
STATUS:CONFIRMED
LAST-MODIFIED:20241106T133335Z
DESCRIPTION:4. Liga Herren Gruppe 3\nBegegnungs-Nr: 0\nHeim: Rothenburg IV\nGast: Buochs IV\n\nAdresse: Schulhausstrasse 6a\, 6023 Rothenburg\n
LOCATION:Schulhausstrasse 6a\, 6023 Rothenburg
CATEGORIES:Saison 2024/25
END:VEVENT
BEGIN:VEVENT
DTSTAMP:20260423T190716Z
DTSTART;TZID=Europe/Berlin:20241122T200000
DTEND;TZID=Europe/Berlin:20241122T230000
SUMMARY:He 4. Liga Gr. 3 Baar V vs Buochs IV (0)
UID:35bdfb82-1907-4780-850b-348a06b06dc0
STATUS:CONFIRMED
LAST-MODIFIED:20241129T104213Z
DESCRIPTION:4. Liga Herren Gruppe 3\nBegegnungs-Nr: 0\nHeim: Baar V\nGast: Buochs IV\n\nAdresse: Rigistrasse 175/177\, 6340 Baar\n
LOCATION:Rigistrasse 175/177\, 6340 Baar
CATEGORIES:Saison 2024/25
END:VEVENT
END:VCALENDAR
