BEGIN:VCALENDAR
PRODID:-//nuDatenautomaten//framework iCal4j //DE
VERSION:2.0
CALSCALE:GREGORIAN
BEGIN:VTIMEZONE
TZID:Europe/Berlin
LAST-MODIFIED:20260306T231828Z
TZURL:https://www.tzurl.org/zoneinfo/Europe/Berlin
X-LIC-LOCATION:Europe/Berlin
X-PROLEPTIC-TZNAME:LMT
BEGIN:STANDARD
TZNAME:CET
TZOFFSETFROM:+005328
TZOFFSETTO:+0100
DTSTART:18930401T000000
END:STANDARD
BEGIN:DAYLIGHT
TZNAME:CEST
TZOFFSETFROM:+0100
TZOFFSETTO:+0200
DTSTART:19160430T230000
RDATE:19400401T020000
RDATE:19430329T020000
RDATE:19460414T020000
RDATE:19470406T030000
RDATE:19480418T020000
RDATE:19490410T020000
RDATE:19800406T020000
END:DAYLIGHT
BEGIN:STANDARD
TZNAME:CET
TZOFFSETFROM:+0200
TZOFFSETTO:+0100
DTSTART:19161001T010000
RDATE:19421102T030000
RDATE:19431004T030000
RDATE:19441002T030000
RDATE:19451118T030000
RDATE:19461007T030000
END:STANDARD
BEGIN:DAYLIGHT
TZNAME:CEST
TZOFFSETFROM:+0100
TZOFFSETTO:+0200
DTSTART:19170416T020000
RRULE:FREQ=YEARLY;UNTIL=19180415T010000Z;BYMONTH=4;BYDAY=3MO
END:DAYLIGHT
BEGIN:STANDARD
TZNAME:CET
TZOFFSETFROM:+0200
TZOFFSETTO:+0100
DTSTART:19170917T030000
RRULE:FREQ=YEARLY;UNTIL=19180916T010000Z;BYMONTH=9;BYDAY=3MO
END:STANDARD
BEGIN:DAYLIGHT
TZNAME:CEST
TZOFFSETFROM:+0100
TZOFFSETTO:+0200
DTSTART:19440403T020000
RRULE:FREQ=YEARLY;UNTIL=19450402T010000Z;BYMONTH=4;BYDAY=1MO
END:DAYLIGHT
BEGIN:DAYLIGHT
TZNAME:CEMT
TZOFFSETFROM:+0200
TZOFFSETTO:+0300
DTSTART:19450524T020000
RDATE:19470511T030000
END:DAYLIGHT
BEGIN:DAYLIGHT
TZNAME:CEST
TZOFFSETFROM:+0300
TZOFFSETTO:+0200
DTSTART:19450924T030000
RDATE:19470629T030000
END:DAYLIGHT
BEGIN:STANDARD
TZNAME:CET
TZOFFSETFROM:+0100
TZOFFSETTO:+0100
DTSTART:19460101T000000
RDATE:19800101T000000
END:STANDARD
BEGIN:STANDARD
TZNAME:CET
TZOFFSETFROM:+0200
TZOFFSETTO:+0100
DTSTART:19471005T030000
RRULE:FREQ=YEARLY;UNTIL=19491002T010000Z;BYMONTH=10;BYDAY=1SU
END:STANDARD
BEGIN:STANDARD
TZNAME:CET
TZOFFSETFROM:+0200
TZOFFSETTO:+0100
DTSTART:19800928T030000
RRULE:FREQ=YEARLY;UNTIL=19950924T010000Z;BYMONTH=9;BYDAY=-1SU
END:STANDARD
BEGIN:DAYLIGHT
TZNAME:CEST
TZOFFSETFROM:+0100
TZOFFSETTO:+0200
DTSTART:19810329T020000
RRULE:FREQ=YEARLY;BYMONTH=3;BYDAY=-1SU
END:DAYLIGHT
BEGIN:STANDARD
TZNAME:CET
TZOFFSETFROM:+0200
TZOFFSETTO:+0100
DTSTART:19961027T030000
RRULE:FREQ=YEARLY;BYMONTH=10;BYDAY=-1SU
END:STANDARD
END:VTIMEZONE
BEGIN:VEVENT
DTSTAMP:20260423T190042Z
DTSTART;TZID=Europe/Berlin:20240904T200000
DTEND;TZID=Europe/Berlin:20240904T230000
SUMMARY:He 4. Liga Gr. 1 Sarnen V vs Dierikon-Ebikon V (0)
UID:f4caaf5d-64d8-46f5-8718-ca94f7651bdb
STATUS:CONFIRMED
LAST-MODIFIED:20240911T141007Z
DESCRIPTION:4. Liga Herren Gruppe 1\nBegegnungs-Nr: 0\nHeim: Sarnen V\nGast: Dierikon-Ebikon V\n\nAdresse: Schulhausstrasse 5\, 6056 Kägiswil\n
LOCATION:Schulhausstrasse 5\, 6056 Kägiswil
CATEGORIES:Saison 2024/25
END:VEVENT
BEGIN:VEVENT
DTSTAMP:20260423T190042Z
DTSTART;TZID=Europe/Berlin:20241030T200000
DTEND;TZID=Europe/Berlin:20241030T230000
SUMMARY:He 4. Liga Gr. 1 Sarnen V vs Buochs III (0)
UID:e710f7b8-851b-45e4-8489-4deb6f299dde
STATUS:CONFIRMED
LAST-MODIFIED:20241106T133234Z
DESCRIPTION:4. Liga Herren Gruppe 1\nBegegnungs-Nr: 0\nHeim: Sarnen V\nGast: Buochs III\n\nAdresse: Schulhausstrasse 5\, 6056 Kägiswil\n
LOCATION:Schulhausstrasse 5\, 6056 Kägiswil
CATEGORIES:Saison 2024/25
END:VEVENT
BEGIN:VEVENT
DTSTAMP:20260423T190042Z
DTSTART;TZID=Europe/Berlin:20241120T200000
DTEND;TZID=Europe/Berlin:20241120T230000
SUMMARY:He 4. Liga Gr. 1 Sarnen V vs Schenkon V (0)
UID:2002a2ba-8b79-49a3-9311-12683726ba00
STATUS:CONFIRMED
LAST-MODIFIED:20241129T104103Z
DESCRIPTION:4. Liga Herren Gruppe 1\nBegegnungs-Nr: 0\nHeim: Sarnen V\nGast: Schenkon V\n\nAdresse: Schulhausstrasse 5\, 6056 Kägiswil\n
LOCATION:Schulhausstrasse 5\, 6056 Kägiswil
CATEGORIES:Saison 2024/25
END:VEVENT
BEGIN:VEVENT
DTSTAMP:20260423T190042Z
DTSTART;TZID=Europe/Berlin:20241218T200000
DTEND;TZID=Europe/Berlin:20241218T230000
SUMMARY:He 4. Liga Gr. 1 Sarnen V vs Emmen IV (0)
UID:ce89e8cf-731c-4770-bce6-e86e0768a9de
STATUS:CONFIRMED
LAST-MODIFIED:20241223T171518Z
DESCRIPTION:4. Liga Herren Gruppe 1\nBegegnungs-Nr: 0\nHeim: Sarnen V\nGast: Emmen IV\n\nAdresse: Schulhausstrasse 5\, 6056 Kägiswil\n
LOCATION:Schulhausstrasse 5\, 6056 Kägiswil
CATEGORIES:Saison 2024/25
END:VEVENT
BEGIN:VEVENT
DTSTAMP:20260423T190042Z
DTSTART;TZID=Europe/Berlin:20250108T200000
DTEND;TZID=Europe/Berlin:20250108T230000
SUMMARY:He 4. Liga Gr. 1 Sarnen V vs Zug V (0)
UID:fd5bf62b-794a-4e81-be03-dc432f726c5d
STATUS:CONFIRMED
LAST-MODIFIED:20250112T155231Z
DESCRIPTION:4. Liga Herren Gruppe 1\nBegegnungs-Nr: 0\nHeim: Sarnen V\nGast: Zug V\n\nAdresse: Schulhausstrasse 5\, 6056 Kägiswil\n
LOCATION:Schulhausstrasse 5\, 6056 Kägiswil
CATEGORIES:Saison 2024/25
END:VEVENT
BEGIN:VEVENT
DTSTAMP:20260423T190042Z
DTSTART;TZID=Europe/Berlin:20250124T201500
DTEND;TZID=Europe/Berlin:20250124T231500
SUMMARY:He 4. Liga Gr. 1 Buochs III vs Sarnen V (0)
UID:16ffa0bc-be32-4eb0-bfa1-0f372e84ba1d
STATUS:CONFIRMED
LAST-MODIFIED:20250204T210238Z
DESCRIPTION:4. Liga Herren Gruppe 1\nBegegnungs-Nr: 0\nHeim: Buochs III\nGast: Sarnen V\n\nAdresse: -\, Buochs\n
LOCATION:-\, Buochs
CATEGORIES:Saison 2024/25
END:VEVENT
BEGIN:VEVENT
DTSTAMP:20260423T190042Z
DTSTART;TZID=Europe/Berlin:20240924T194500
DTEND;TZID=Europe/Berlin:20240924T224500
SUMMARY:He 4. Liga Gr. 1 Emmen IV vs Sarnen V (0)
UID:34a2e024-f579-4487-ac7c-694329743117
STATUS:CONFIRMED
LAST-MODIFIED:20240925T085319Z
DESCRIPTION:4. Liga Herren Gruppe 1\nBegegnungs-Nr: 0\nHeim: Emmen IV\nGast: Sarnen V\n\nAdresse: Rüeggisingerstrasse 26\, 6020 Emmenbrücke\n
LOCATION:Rüeggisingerstrasse 26\, 6020 Emmenbrücke
CATEGORIES:Saison 2024/25
END:VEVENT
BEGIN:VEVENT
DTSTAMP:20260423T190042Z
DTSTART;TZID=Europe/Berlin:20241025T200000
DTEND;TZID=Europe/Berlin:20241025T230000
SUMMARY:He 4. Liga Gr. 1 Zug V vs Sarnen V (0)
UID:ff2715c9-94dd-4993-b411-35e5fa6eff13
STATUS:CONFIRMED
LAST-MODIFIED:20241030T210102Z
DESCRIPTION:4. Liga Herren Gruppe 1\nBegegnungs-Nr: 0\nHeim: Zug V\nGast: Sarnen V\n\nAdresse: Lüssiweg 24\, 6300 Zug\n
LOCATION:Lüssiweg 24\, 6300 Zug
CATEGORIES:Saison 2024/25
END:VEVENT
BEGIN:VEVENT
DTSTAMP:20260423T190042Z
DTSTART;TZID=Europe/Berlin:20241202T200000
DTEND;TZID=Europe/Berlin:20241202T230000
SUMMARY:He 4. Liga Gr. 1 Dierikon-Ebikon V vs Sarnen V (0)
UID:76b90978-e5f8-498c-ac14-4f5f6d490e10
STATUS:CONFIRMED
LAST-MODIFIED:20241210T110255Z
DESCRIPTION:4. Liga Herren Gruppe 1\nBegegnungs-Nr: 0\nHeim: Dierikon-Ebikon V\nGast: Sarnen V\n\nAdresse: Rankstrasse\, 6030 Ebikon\n
LOCATION:Rankstrasse\, 6030 Ebikon
CATEGORIES:Saison 2024/25
END:VEVENT
BEGIN:VEVENT
DTSTAMP:20260423T190042Z
DTSTART;TZID=Europe/Berlin:20250221T201500
DTEND;TZID=Europe/Berlin:20250221T231500
SUMMARY:He 4. Liga Gr. 1 Schenkon V vs Sarnen V (0)
UID:9afb2bb6-c163-496e-a790-9269f39c46e7
STATUS:CONFIRMED
LAST-MODIFIED:20250226T102217Z
DESCRIPTION:4. Liga Herren Gruppe 1\nBegegnungs-Nr: 0\nHeim: Schenkon V\nGast: Sarnen V\n6214 Schenkon\n
LOCATION:6214 Schenkon
CATEGORIES:Saison 2024/25
END:VEVENT
END:VCALENDAR
