BEGIN:VCALENDAR
PRODID:-//nuDatenautomaten//framework iCal4j //DE
VERSION:2.0
CALSCALE:GREGORIAN
BEGIN:VTIMEZONE
TZID:Europe/Berlin
LAST-MODIFIED:20260306T231828Z
TZURL:https://www.tzurl.org/zoneinfo/Europe/Berlin
X-LIC-LOCATION:Europe/Berlin
X-PROLEPTIC-TZNAME:LMT
BEGIN:STANDARD
TZNAME:CET
TZOFFSETFROM:+005328
TZOFFSETTO:+0100
DTSTART:18930401T000000
END:STANDARD
BEGIN:DAYLIGHT
TZNAME:CEST
TZOFFSETFROM:+0100
TZOFFSETTO:+0200
DTSTART:19160430T230000
RDATE:19400401T020000
RDATE:19430329T020000
RDATE:19460414T020000
RDATE:19470406T030000
RDATE:19480418T020000
RDATE:19490410T020000
RDATE:19800406T020000
END:DAYLIGHT
BEGIN:STANDARD
TZNAME:CET
TZOFFSETFROM:+0200
TZOFFSETTO:+0100
DTSTART:19161001T010000
RDATE:19421102T030000
RDATE:19431004T030000
RDATE:19441002T030000
RDATE:19451118T030000
RDATE:19461007T030000
END:STANDARD
BEGIN:DAYLIGHT
TZNAME:CEST
TZOFFSETFROM:+0100
TZOFFSETTO:+0200
DTSTART:19170416T020000
RRULE:FREQ=YEARLY;UNTIL=19180415T010000Z;BYMONTH=4;BYDAY=3MO
END:DAYLIGHT
BEGIN:STANDARD
TZNAME:CET
TZOFFSETFROM:+0200
TZOFFSETTO:+0100
DTSTART:19170917T030000
RRULE:FREQ=YEARLY;UNTIL=19180916T010000Z;BYMONTH=9;BYDAY=3MO
END:STANDARD
BEGIN:DAYLIGHT
TZNAME:CEST
TZOFFSETFROM:+0100
TZOFFSETTO:+0200
DTSTART:19440403T020000
RRULE:FREQ=YEARLY;UNTIL=19450402T010000Z;BYMONTH=4;BYDAY=1MO
END:DAYLIGHT
BEGIN:DAYLIGHT
TZNAME:CEMT
TZOFFSETFROM:+0200
TZOFFSETTO:+0300
DTSTART:19450524T020000
RDATE:19470511T030000
END:DAYLIGHT
BEGIN:DAYLIGHT
TZNAME:CEST
TZOFFSETFROM:+0300
TZOFFSETTO:+0200
DTSTART:19450924T030000
RDATE:19470629T030000
END:DAYLIGHT
BEGIN:STANDARD
TZNAME:CET
TZOFFSETFROM:+0100
TZOFFSETTO:+0100
DTSTART:19460101T000000
RDATE:19800101T000000
END:STANDARD
BEGIN:STANDARD
TZNAME:CET
TZOFFSETFROM:+0200
TZOFFSETTO:+0100
DTSTART:19471005T030000
RRULE:FREQ=YEARLY;UNTIL=19491002T010000Z;BYMONTH=10;BYDAY=1SU
END:STANDARD
BEGIN:STANDARD
TZNAME:CET
TZOFFSETFROM:+0200
TZOFFSETTO:+0100
DTSTART:19800928T030000
RRULE:FREQ=YEARLY;UNTIL=19950924T010000Z;BYMONTH=9;BYDAY=-1SU
END:STANDARD
BEGIN:DAYLIGHT
TZNAME:CEST
TZOFFSETFROM:+0100
TZOFFSETTO:+0200
DTSTART:19810329T020000
RRULE:FREQ=YEARLY;BYMONTH=3;BYDAY=-1SU
END:DAYLIGHT
BEGIN:STANDARD
TZNAME:CET
TZOFFSETFROM:+0200
TZOFFSETTO:+0100
DTSTART:19961027T030000
RRULE:FREQ=YEARLY;BYMONTH=10;BYDAY=-1SU
END:STANDARD
END:VTIMEZONE
BEGIN:VEVENT
DTSTAMP:20260423T190006Z
DTSTART;TZID=Europe/Berlin:20240924T194500
DTEND;TZID=Europe/Berlin:20240924T224500
SUMMARY:He 4. Liga Gr. 1 Emmen IV vs Sarnen V (0)
UID:34a2e024-f579-4487-ac7c-694329743117
STATUS:CONFIRMED
LAST-MODIFIED:20240925T085319Z
DESCRIPTION:4. Liga Herren Gruppe 1\nBegegnungs-Nr: 0\nHeim: Emmen IV\nGast: Sarnen V\n\nAdresse: Rüeggisingerstrasse 26\, 6020 Emmenbrücke\n
LOCATION:Rüeggisingerstrasse 26\, 6020 Emmenbrücke
CATEGORIES:Saison 2024/25
END:VEVENT
BEGIN:VEVENT
DTSTAMP:20260423T190006Z
DTSTART;TZID=Europe/Berlin:20241126T194500
DTEND;TZID=Europe/Berlin:20241126T224500
SUMMARY:He 4. Liga Gr. 1 Emmen IV vs Schenkon V (0)
UID:1f09c414-343c-4a17-8c94-475480c4a2f3
STATUS:CONFIRMED
LAST-MODIFIED:20241129T104129Z
DESCRIPTION:4. Liga Herren Gruppe 1\nBegegnungs-Nr: 0\nHeim: Emmen IV\nGast: Schenkon V\n\nAdresse: Rüeggisingerstrasse 26\, 6020 Emmenbrücke\n
LOCATION:Rüeggisingerstrasse 26\, 6020 Emmenbrücke
CATEGORIES:Saison 2024/25
END:VEVENT
BEGIN:VEVENT
DTSTAMP:20260423T190006Z
DTSTART;TZID=Europe/Berlin:20250212T194500
DTEND;TZID=Europe/Berlin:20250212T224500
SUMMARY:He 4. Liga Gr. 1 Emmen IV vs Dierikon-Ebikon V (0)
UID:3d5125a4-1b61-4513-8cdd-1bffb7115259
STATUS:CONFIRMED
LAST-MODIFIED:20250219T081025Z
DESCRIPTION:4. Liga Herren Gruppe 1\nBegegnungs-Nr: 0\nHeim: Emmen IV\nGast: Dierikon-Ebikon V\n\nAdresse: Rüeggisingerstrasse 26\, 6020 Emmenbrücke\n
LOCATION:Rüeggisingerstrasse 26\, 6020 Emmenbrücke
CATEGORIES:Saison 2024/25
END:VEVENT
BEGIN:VEVENT
DTSTAMP:20260423T190006Z
DTSTART;TZID=Europe/Berlin:20250325T194500
DTEND;TZID=Europe/Berlin:20250325T224500
SUMMARY:He 4. Liga Gr. 1 Emmen IV vs Zug V (0)
UID:6c915dee-e50b-458e-af2e-908772e43462
STATUS:CONFIRMED
LAST-MODIFIED:20250331T131937Z
DESCRIPTION:4. Liga Herren Gruppe 1\nBegegnungs-Nr: 0\nHeim: Emmen IV\nGast: Zug V\n\nAdresse: Rüeggisingerstrasse 26\, 6020 Emmenbrücke\n
LOCATION:Rüeggisingerstrasse 26\, 6020 Emmenbrücke
CATEGORIES:Saison 2024/25
END:VEVENT
BEGIN:VEVENT
DTSTAMP:20260423T190006Z
DTSTART;TZID=Europe/Berlin:20250318T194500
DTEND;TZID=Europe/Berlin:20250318T224500
SUMMARY:He 4. Liga Gr. 1 Emmen IV vs Buochs III (0)
UID:160a8a13-3e9e-46c3-8525-0106cef56c34
STATUS:CONFIRMED
LAST-MODIFIED:20250320T183726Z
DESCRIPTION:4. Liga Herren Gruppe 1\nBegegnungs-Nr: 0\nHeim: Emmen IV\nGast: Buochs III\n\nAdresse: Rüeggisingerstrasse 26\, 6020 Emmenbrücke\n
LOCATION:Rüeggisingerstrasse 26\, 6020 Emmenbrücke
CATEGORIES:Saison 2024/25
END:VEVENT
BEGIN:VEVENT
DTSTAMP:20260423T190006Z
DTSTART;TZID=Europe/Berlin:20241115T200000
DTEND;TZID=Europe/Berlin:20241115T230000
SUMMARY:He 4. Liga Gr. 1 Zug V vs Emmen IV (0)
UID:30e53b2f-a4e8-4dd3-b6cb-a37e7526ac67
STATUS:CONFIRMED
LAST-MODIFIED:20241118T180023Z
DESCRIPTION:4. Liga Herren Gruppe 1\nBegegnungs-Nr: 0\nHeim: Zug V\nGast: Emmen IV\n\nAdresse: Lüssiweg 24\, 6300 Zug\n
LOCATION:Lüssiweg 24\, 6300 Zug
CATEGORIES:Saison 2024/25
END:VEVENT
BEGIN:VEVENT
DTSTAMP:20260423T190006Z
DTSTART;TZID=Europe/Berlin:20241129T201500
DTEND;TZID=Europe/Berlin:20241129T231500
SUMMARY:He 4. Liga Gr. 1 Buochs III vs Emmen IV (0)
UID:a0008ac6-446a-41ca-8c8f-25573b1e4604
STATUS:CONFIRMED
LAST-MODIFIED:20241204T154504Z
DESCRIPTION:4. Liga Herren Gruppe 1\nBegegnungs-Nr: 0\nHeim: Buochs III\nGast: Emmen IV\n\nAdresse: -\, Buochs\n
LOCATION:-\, Buochs
CATEGORIES:Saison 2024/25
END:VEVENT
BEGIN:VEVENT
DTSTAMP:20260423T190006Z
DTSTART;TZID=Europe/Berlin:20241218T200000
DTEND;TZID=Europe/Berlin:20241218T230000
SUMMARY:He 4. Liga Gr. 1 Sarnen V vs Emmen IV (0)
UID:ce89e8cf-731c-4770-bce6-e86e0768a9de
STATUS:CONFIRMED
LAST-MODIFIED:20241223T171518Z
DESCRIPTION:4. Liga Herren Gruppe 1\nBegegnungs-Nr: 0\nHeim: Sarnen V\nGast: Emmen IV\n\nAdresse: Schulhausstrasse 5\, 6056 Kägiswil\n
LOCATION:Schulhausstrasse 5\, 6056 Kägiswil
CATEGORIES:Saison 2024/25
END:VEVENT
BEGIN:VEVENT
DTSTAMP:20260423T190006Z
DTSTART;TZID=Europe/Berlin:20250117T201500
DTEND;TZID=Europe/Berlin:20250117T231500
SUMMARY:He 4. Liga Gr. 1 Schenkon V vs Emmen IV (0)
UID:8c42fa99-6acb-4293-a88d-9de872e43559
STATUS:CONFIRMED
LAST-MODIFIED:20250123T145653Z
DESCRIPTION:4. Liga Herren Gruppe 1\nBegegnungs-Nr: 0\nHeim: Schenkon V\nGast: Emmen IV\n6214 Schenkon\n
LOCATION:6214 Schenkon
CATEGORIES:Saison 2024/25
END:VEVENT
BEGIN:VEVENT
DTSTAMP:20260423T190006Z
DTSTART;TZID=Europe/Berlin:20250217T200000
DTEND;TZID=Europe/Berlin:20250217T230000
SUMMARY:He 4. Liga Gr. 1 Dierikon-Ebikon V vs Emmen IV (0)
UID:c43577d5-2b64-48fa-acc1-c35b041cf3ad
STATUS:CONFIRMED
LAST-MODIFIED:20250226T102153Z
DESCRIPTION:4. Liga Herren Gruppe 1\nBegegnungs-Nr: 0\nHeim: Dierikon-Ebikon V\nGast: Emmen IV\n\nAdresse: Rankstrasse\, 6030 Ebikon\n
LOCATION:Rankstrasse\, 6030 Ebikon
CATEGORIES:Saison 2024/25
END:VEVENT
END:VCALENDAR
