BEGIN:VCALENDAR
PRODID:-//nuDatenautomaten//framework iCal4j //DE
VERSION:2.0
CALSCALE:GREGORIAN
BEGIN:VTIMEZONE
TZID:Europe/Berlin
LAST-MODIFIED:20260306T231828Z
TZURL:https://www.tzurl.org/zoneinfo/Europe/Berlin
X-LIC-LOCATION:Europe/Berlin
X-PROLEPTIC-TZNAME:LMT
BEGIN:STANDARD
TZNAME:CET
TZOFFSETFROM:+005328
TZOFFSETTO:+0100
DTSTART:18930401T000000
END:STANDARD
BEGIN:DAYLIGHT
TZNAME:CEST
TZOFFSETFROM:+0100
TZOFFSETTO:+0200
DTSTART:19160430T230000
RDATE:19400401T020000
RDATE:19430329T020000
RDATE:19460414T020000
RDATE:19470406T030000
RDATE:19480418T020000
RDATE:19490410T020000
RDATE:19800406T020000
END:DAYLIGHT
BEGIN:STANDARD
TZNAME:CET
TZOFFSETFROM:+0200
TZOFFSETTO:+0100
DTSTART:19161001T010000
RDATE:19421102T030000
RDATE:19431004T030000
RDATE:19441002T030000
RDATE:19451118T030000
RDATE:19461007T030000
END:STANDARD
BEGIN:DAYLIGHT
TZNAME:CEST
TZOFFSETFROM:+0100
TZOFFSETTO:+0200
DTSTART:19170416T020000
RRULE:FREQ=YEARLY;UNTIL=19180415T010000Z;BYMONTH=4;BYDAY=3MO
END:DAYLIGHT
BEGIN:STANDARD
TZNAME:CET
TZOFFSETFROM:+0200
TZOFFSETTO:+0100
DTSTART:19170917T030000
RRULE:FREQ=YEARLY;UNTIL=19180916T010000Z;BYMONTH=9;BYDAY=3MO
END:STANDARD
BEGIN:DAYLIGHT
TZNAME:CEST
TZOFFSETFROM:+0100
TZOFFSETTO:+0200
DTSTART:19440403T020000
RRULE:FREQ=YEARLY;UNTIL=19450402T010000Z;BYMONTH=4;BYDAY=1MO
END:DAYLIGHT
BEGIN:DAYLIGHT
TZNAME:CEMT
TZOFFSETFROM:+0200
TZOFFSETTO:+0300
DTSTART:19450524T020000
RDATE:19470511T030000
END:DAYLIGHT
BEGIN:DAYLIGHT
TZNAME:CEST
TZOFFSETFROM:+0300
TZOFFSETTO:+0200
DTSTART:19450924T030000
RDATE:19470629T030000
END:DAYLIGHT
BEGIN:STANDARD
TZNAME:CET
TZOFFSETFROM:+0100
TZOFFSETTO:+0100
DTSTART:19460101T000000
RDATE:19800101T000000
END:STANDARD
BEGIN:STANDARD
TZNAME:CET
TZOFFSETFROM:+0200
TZOFFSETTO:+0100
DTSTART:19471005T030000
RRULE:FREQ=YEARLY;UNTIL=19491002T010000Z;BYMONTH=10;BYDAY=1SU
END:STANDARD
BEGIN:STANDARD
TZNAME:CET
TZOFFSETFROM:+0200
TZOFFSETTO:+0100
DTSTART:19800928T030000
RRULE:FREQ=YEARLY;UNTIL=19950924T010000Z;BYMONTH=9;BYDAY=-1SU
END:STANDARD
BEGIN:DAYLIGHT
TZNAME:CEST
TZOFFSETFROM:+0100
TZOFFSETTO:+0200
DTSTART:19810329T020000
RRULE:FREQ=YEARLY;BYMONTH=3;BYDAY=-1SU
END:DAYLIGHT
BEGIN:STANDARD
TZNAME:CET
TZOFFSETFROM:+0200
TZOFFSETTO:+0100
DTSTART:19961027T030000
RRULE:FREQ=YEARLY;BYMONTH=10;BYDAY=-1SU
END:STANDARD
END:VTIMEZONE
BEGIN:VEVENT
DTSTAMP:20260424T024008Z
DTSTART;TZID=Europe/Berlin:20240904T194500
DTEND;TZID=Europe/Berlin:20240904T224500
SUMMARY:Ligue 3 Gr.1 Rapid-Genève II vs Châtelaine IV (2)
UID:fcf9a0ef-b12c-47a0-bae7-4e1e06dcc666
STATUS:CONFIRMED
LAST-MODIFIED:20240905T170659Z
DESCRIPTION:3ème ligue O40 1er Groupe\nBegegnungs-Nr: 2\nHeim: Rapid-Genève II\nGast: Châtelaine IV\n
LOCATION:
CATEGORIES:Saison 2024/25
END:VEVENT
BEGIN:VEVENT
DTSTAMP:20260424T024008Z
DTSTART;TZID=Europe/Berlin:20241106T194500
DTEND;TZID=Europe/Berlin:20241106T224500
SUMMARY:Ligue 3 Gr.1 Rapid-Genève II vs Versoix II (8)
UID:074c3a1c-83ab-4e40-9671-7e7dfcd15da9
STATUS:CONFIRMED
LAST-MODIFIED:20241107T095953Z
DESCRIPTION:3ème ligue O40 1er Groupe\nBegegnungs-Nr: 8\nHeim: Rapid-Genève II\nGast: Versoix II\n
LOCATION:
CATEGORIES:Saison 2024/25
END:VEVENT
BEGIN:VEVENT
DTSTAMP:20260424T024008Z
DTSTART;TZID=Europe/Berlin:20250507T194500
DTEND;TZID=Europe/Berlin:20250507T224500
SUMMARY:Ligue 3 Gr.1 Rapid-Genève II vs ZZ-Lancy III (28)
UID:fd28e992-bcb5-4c7a-9be9-2024be9b6ba0
STATUS:CONFIRMED
LAST-MODIFIED:20250508T100156Z
DESCRIPTION:3ème ligue O40 1er Groupe\nBegegnungs-Nr: 28\nHeim: Rapid-Genève II\nGast: ZZ-Lancy III\n
LOCATION:
CATEGORIES:Saison 2024/25
END:VEVENT
BEGIN:VEVENT
DTSTAMP:20260424T024008Z
DTSTART;TZID=Europe/Berlin:20250205T194500
DTEND;TZID=Europe/Berlin:20250205T224500
SUMMARY:Ligue 3 Gr.1 Rapid-Genève II vs Collex-Bossy (20)
UID:c0298102-684f-4cbe-ac47-9a80f388a19a
STATUS:CONFIRMED
LAST-MODIFIED:20250206T085304Z
DESCRIPTION:3ème ligue O40 1er Groupe\nBegegnungs-Nr: 20\nHeim: Rapid-Genève II\nGast: Collex-Bossy\n
LOCATION:
CATEGORIES:Saison 2024/25
END:VEVENT
BEGIN:VEVENT
DTSTAMP:20260424T024008Z
DTSTART;TZID=Europe/Berlin:20250108T194500
DTEND;TZID=Europe/Berlin:20250108T224500
SUMMARY:Ligue 3 Gr.1 Châtelaine IV vs Rapid-Genève II (17)
UID:7b97a125-35dc-4e2b-a35e-a23064ad209b
STATUS:CONFIRMED
LAST-MODIFIED:20250109T183609Z
DESCRIPTION:3ème ligue O40 1er Groupe\nBegegnungs-Nr: 17\nHeim: Châtelaine IV\nGast: Rapid-Genève II\n
LOCATION:
CATEGORIES:Saison 2024/25
END:VEVENT
BEGIN:VEVENT
DTSTAMP:20260424T024008Z
DTSTART;TZID=Europe/Berlin:20241218T201500
DTEND;TZID=Europe/Berlin:20241218T231500
SUMMARY:Ligue 3 Gr.1 ZZ-Lancy III vs Rapid-Genève II (13)
UID:c8affdb2-016b-4523-adb6-835fb17dc07d
STATUS:CONFIRMED
LAST-MODIFIED:20241219T152703Z
DESCRIPTION:3ème ligue O40 1er Groupe\nBegegnungs-Nr: 13\nHeim: ZZ-Lancy III\nGast: Rapid-Genève II\n
LOCATION:
CATEGORIES:Saison 2024/25
END:VEVENT
BEGIN:VEVENT
DTSTAMP:20260424T024008Z
DTSTART;TZID=Europe/Berlin:20241001T194500
DTEND;TZID=Europe/Berlin:20241001T224500
SUMMARY:Ligue 3 Gr.1 Collex-Bossy vs Rapid-Genève II (5)
UID:d4cb3898-093a-4daf-9a90-a78c2825ce79
STATUS:CONFIRMED
LAST-MODIFIED:20241002T120235Z
DESCRIPTION:3ème ligue O40 1er Groupe\nBegegnungs-Nr: 5\nHeim: Collex-Bossy\nGast: Rapid-Genève II\n
LOCATION:
CATEGORIES:Saison 2024/25
END:VEVENT
BEGIN:VEVENT
DTSTAMP:20260424T024008Z
DTSTART;TZID=Europe/Berlin:20250305T194500
DTEND;TZID=Europe/Berlin:20250305T224500
SUMMARY:Ligue 3 Gr.1 Versoix II vs Rapid-Genève II (23)
UID:43978eb4-993a-40fe-9c4f-8fef54bd74b4
STATUS:CONFIRMED
LAST-MODIFIED:20250306T072035Z
DESCRIPTION:3ème ligue O40 1er Groupe\nBegegnungs-Nr: 23\nHeim: Versoix II\nGast: Rapid-Genève II\n
LOCATION:
CATEGORIES:Saison 2024/25
END:VEVENT
END:VCALENDAR
