BEGIN:VCALENDAR
PRODID:-//nuDatenautomaten//framework iCal4j //DE
VERSION:2.0
CALSCALE:GREGORIAN
BEGIN:VTIMEZONE
TZID:Europe/Berlin
LAST-MODIFIED:20260306T231828Z
TZURL:https://www.tzurl.org/zoneinfo/Europe/Berlin
X-LIC-LOCATION:Europe/Berlin
X-PROLEPTIC-TZNAME:LMT
BEGIN:STANDARD
TZNAME:CET
TZOFFSETFROM:+005328
TZOFFSETTO:+0100
DTSTART:18930401T000000
END:STANDARD
BEGIN:DAYLIGHT
TZNAME:CEST
TZOFFSETFROM:+0100
TZOFFSETTO:+0200
DTSTART:19160430T230000
RDATE:19400401T020000
RDATE:19430329T020000
RDATE:19460414T020000
RDATE:19470406T030000
RDATE:19480418T020000
RDATE:19490410T020000
RDATE:19800406T020000
END:DAYLIGHT
BEGIN:STANDARD
TZNAME:CET
TZOFFSETFROM:+0200
TZOFFSETTO:+0100
DTSTART:19161001T010000
RDATE:19421102T030000
RDATE:19431004T030000
RDATE:19441002T030000
RDATE:19451118T030000
RDATE:19461007T030000
END:STANDARD
BEGIN:DAYLIGHT
TZNAME:CEST
TZOFFSETFROM:+0100
TZOFFSETTO:+0200
DTSTART:19170416T020000
RRULE:FREQ=YEARLY;UNTIL=19180415T010000Z;BYMONTH=4;BYDAY=3MO
END:DAYLIGHT
BEGIN:STANDARD
TZNAME:CET
TZOFFSETFROM:+0200
TZOFFSETTO:+0100
DTSTART:19170917T030000
RRULE:FREQ=YEARLY;UNTIL=19180916T010000Z;BYMONTH=9;BYDAY=3MO
END:STANDARD
BEGIN:DAYLIGHT
TZNAME:CEST
TZOFFSETFROM:+0100
TZOFFSETTO:+0200
DTSTART:19440403T020000
RRULE:FREQ=YEARLY;UNTIL=19450402T010000Z;BYMONTH=4;BYDAY=1MO
END:DAYLIGHT
BEGIN:DAYLIGHT
TZNAME:CEMT
TZOFFSETFROM:+0200
TZOFFSETTO:+0300
DTSTART:19450524T020000
RDATE:19470511T030000
END:DAYLIGHT
BEGIN:DAYLIGHT
TZNAME:CEST
TZOFFSETFROM:+0300
TZOFFSETTO:+0200
DTSTART:19450924T030000
RDATE:19470629T030000
END:DAYLIGHT
BEGIN:STANDARD
TZNAME:CET
TZOFFSETFROM:+0100
TZOFFSETTO:+0100
DTSTART:19460101T000000
RDATE:19800101T000000
END:STANDARD
BEGIN:STANDARD
TZNAME:CET
TZOFFSETFROM:+0200
TZOFFSETTO:+0100
DTSTART:19471005T030000
RRULE:FREQ=YEARLY;UNTIL=19491002T010000Z;BYMONTH=10;BYDAY=1SU
END:STANDARD
BEGIN:STANDARD
TZNAME:CET
TZOFFSETFROM:+0200
TZOFFSETTO:+0100
DTSTART:19800928T030000
RRULE:FREQ=YEARLY;UNTIL=19950924T010000Z;BYMONTH=9;BYDAY=-1SU
END:STANDARD
BEGIN:DAYLIGHT
TZNAME:CEST
TZOFFSETFROM:+0100
TZOFFSETTO:+0200
DTSTART:19810329T020000
RRULE:FREQ=YEARLY;BYMONTH=3;BYDAY=-1SU
END:DAYLIGHT
BEGIN:STANDARD
TZNAME:CET
TZOFFSETFROM:+0200
TZOFFSETTO:+0100
DTSTART:19961027T030000
RRULE:FREQ=YEARLY;BYMONTH=10;BYDAY=-1SU
END:STANDARD
END:VTIMEZONE
BEGIN:VEVENT
DTSTAMP:20260423T190035Z
DTSTART;TZID=Europe/Berlin:20240826T200000
DTEND;TZID=Europe/Berlin:20240826T230000
SUMMARY:He 3. Liga Gr. 1 Baar IV vs Dierikon-Ebikon IV (0)
UID:7e95704b-d861-4032-a7a2-b035f38afec6
STATUS:CONFIRMED
LAST-MODIFIED:20240902T181726Z
DESCRIPTION:3. Liga Herren Gruppe 1\nBegegnungs-Nr: 0\nHeim: Baar IV\nGast: Dierikon-Ebikon IV\n\nAdresse: Rigistrasse 175/177\, 6340 Baar\n
LOCATION:Rigistrasse 175/177\, 6340 Baar
CATEGORIES:Saison 2024/25
END:VEVENT
BEGIN:VEVENT
DTSTAMP:20260423T190035Z
DTSTART;TZID=Europe/Berlin:20240923T200000
DTEND;TZID=Europe/Berlin:20240923T230000
SUMMARY:He 3. Liga Gr. 1 Baar IV vs Hergiswil (0)
UID:f7305ea7-6ac7-47c7-87e6-37bb5fa7c464
STATUS:CONFIRMED
LAST-MODIFIED:20241001T093429Z
DESCRIPTION:3. Liga Herren Gruppe 1\nBegegnungs-Nr: 0\nHeim: Baar IV\nGast: Hergiswil\n\nAdresse: Rigistrasse 175/177\, 6340 Baar\n
LOCATION:Rigistrasse 175/177\, 6340 Baar
CATEGORIES:Saison 2024/25
END:VEVENT
BEGIN:VEVENT
DTSTAMP:20260423T190035Z
DTSTART;TZID=Europe/Berlin:20241125T200000
DTEND;TZID=Europe/Berlin:20241125T230000
SUMMARY:He 3. Liga Gr. 1 Baar IV vs Zug II (0)
UID:47429258-eb5e-42cf-adda-f2174b48f5fa
STATUS:CONFIRMED
LAST-MODIFIED:20241129T103709Z
DESCRIPTION:3. Liga Herren Gruppe 1\nBegegnungs-Nr: 0\nHeim: Baar IV\nGast: Zug II\n\nAdresse: Rigistrasse 175/177\, 6340 Baar\n
LOCATION:Rigistrasse 175/177\, 6340 Baar
CATEGORIES:Saison 2024/25
END:VEVENT
BEGIN:VEVENT
DTSTAMP:20260423T190035Z
DTSTART;TZID=Europe/Berlin:20241216T200000
DTEND;TZID=Europe/Berlin:20241216T230000
SUMMARY:He 3. Liga Gr. 1 Baar IV vs Emmen III (0)
UID:9d5ad6b3-5acc-4848-b78d-7bf6fa6bcfe1
STATUS:CONFIRMED
LAST-MODIFIED:20241223T171353Z
DESCRIPTION:3. Liga Herren Gruppe 1\nBegegnungs-Nr: 0\nHeim: Baar IV\nGast: Emmen III\n\nAdresse: Rigistrasse 175/177\, 6340 Baar\n
LOCATION:Rigistrasse 175/177\, 6340 Baar
CATEGORIES:Saison 2024/25
END:VEVENT
BEGIN:VEVENT
DTSTAMP:20260423T190035Z
DTSTART;TZID=Europe/Berlin:20241209T200000
DTEND;TZID=Europe/Berlin:20241209T230000
SUMMARY:He 3. Liga Gr. 1 Baar IV vs Reussbühl III (0)
UID:f3175d69-617c-4a44-b18c-ec1d60c00add
STATUS:CONFIRMED
LAST-MODIFIED:20241211T153159Z
DESCRIPTION:3. Liga Herren Gruppe 1\nBegegnungs-Nr: 0\nHeim: Baar IV\nGast: Reussbühl III\n\nAdresse: Rigistrasse 175/177\, 6340 Baar\n
LOCATION:Rigistrasse 175/177\, 6340 Baar
CATEGORIES:Saison 2024/25
END:VEVENT
BEGIN:VEVENT
DTSTAMP:20260423T190035Z
DTSTART;TZID=Europe/Berlin:20250120T200000
DTEND;TZID=Europe/Berlin:20250120T230000
SUMMARY:He 3. Liga Gr. 1 Baar IV vs Goldau II (0)
UID:58710413-65c0-4e11-b592-750e1292c3b6
STATUS:CONFIRMED
LAST-MODIFIED:20250123T145401Z
DESCRIPTION:3. Liga Herren Gruppe 1\nBegegnungs-Nr: 0\nHeim: Baar IV\nGast: Goldau II\n\nAdresse: Rigistrasse 175/177\, 6340 Baar\n
LOCATION:Rigistrasse 175/177\, 6340 Baar
CATEGORIES:Saison 2024/25
END:VEVENT
BEGIN:VEVENT
DTSTAMP:20260423T190035Z
DTSTART;TZID=Europe/Berlin:20250505T200000
DTEND;TZID=Europe/Berlin:20250505T230000
SUMMARY:He 3. Liga ES Baar IV vs Emmen II (0)
UID:c4edeb35-9d55-4c13-8c2d-72fae3c2c108
STATUS:CONFIRMED
LAST-MODIFIED:20250603T141213Z
DESCRIPTION:3. Liga Herren ES\nBegegnungs-Nr: 0\nHeim: Baar IV\nGast: Emmen II\n
LOCATION:
CATEGORIES:Saison 2024/25
END:VEVENT
BEGIN:VEVENT
DTSTAMP:20260423T190035Z
DTSTART;TZID=Europe/Berlin:20240917T194500
DTEND;TZID=Europe/Berlin:20240917T224500
SUMMARY:He 3. Liga Gr. 1 Emmen III vs Baar IV (0)
UID:6386a120-7806-4d48-9cc5-e1a2df333e97
STATUS:CONFIRMED
LAST-MODIFIED:20240918T130344Z
DESCRIPTION:3. Liga Herren Gruppe 1\nBegegnungs-Nr: 0\nHeim: Emmen III\nGast: Baar IV\n\nAdresse: Rüeggisingerstrasse 26\, 6020 Emmenbrücke\n
LOCATION:Rüeggisingerstrasse 26\, 6020 Emmenbrücke
CATEGORIES:Saison 2024/25
END:VEVENT
BEGIN:VEVENT
DTSTAMP:20260423T190035Z
DTSTART;TZID=Europe/Berlin:20241031T200000
DTEND;TZID=Europe/Berlin:20241031T230000
SUMMARY:He 3. Liga Gr. 1 Reussbühl III vs Baar IV (0)
UID:080a23e9-07cf-47b9-82fb-4143fd6bba00
STATUS:CONFIRMED
LAST-MODIFIED:20241106T132910Z
DESCRIPTION:3. Liga Herren Gruppe 1\nBegegnungs-Nr: 0\nHeim: Reussbühl III\nGast: Baar IV\n\nAdresse: Obermättlistrasse 44\, 6015 Luzern\n
LOCATION:Obermättlistrasse 44\, 6015 Luzern
CATEGORIES:Saison 2024/25
END:VEVENT
BEGIN:VEVENT
DTSTAMP:20260423T190035Z
DTSTART;TZID=Europe/Berlin:20241114T200000
DTEND;TZID=Europe/Berlin:20241114T230000
SUMMARY:He 3. Liga Gr. 1 Goldau II vs Baar IV (0)
UID:5b565c6c-9999-4435-9831-a581a99bb5f7
STATUS:CONFIRMED
LAST-MODIFIED:20241118T175937Z
DESCRIPTION:3. Liga Herren Gruppe 1\nBegegnungs-Nr: 0\nHeim: Goldau II\nGast: Baar IV\n\nAdresse: Zaystrasse\, 6410 Goldau\n
LOCATION:Zaystrasse\, 6410 Goldau
CATEGORIES:Saison 2024/25
END:VEVENT
BEGIN:VEVENT
DTSTAMP:20260423T190035Z
DTSTART;TZID=Europe/Berlin:20241202T200000
DTEND;TZID=Europe/Berlin:20241202T230000
SUMMARY:He 3. Liga Gr. 1 Dierikon-Ebikon IV vs Baar IV (0)
UID:098f0893-0d38-4470-83ca-b76eccaa06fa
STATUS:CONFIRMED
LAST-MODIFIED:20241204T154354Z
DESCRIPTION:3. Liga Herren Gruppe 1\nBegegnungs-Nr: 0\nHeim: Dierikon-Ebikon IV\nGast: Baar IV\n\nAdresse: Rankstrasse\, 6030 Ebikon\n
LOCATION:Rankstrasse\, 6030 Ebikon
CATEGORIES:Saison 2024/25
END:VEVENT
BEGIN:VEVENT
DTSTAMP:20260423T190035Z
DTSTART;TZID=Europe/Berlin:20250219T194500
DTEND;TZID=Europe/Berlin:20250219T224500
SUMMARY:He 3. Liga Gr. 1 Hergiswil vs Baar IV (0)
UID:6f39581c-acf4-4b64-ac6f-6aa2202af790
STATUS:CONFIRMED
LAST-MODIFIED:20250226T101612Z
DESCRIPTION:3. Liga Herren Gruppe 1\nBegegnungs-Nr: 0\nHeim: Hergiswil\nGast: Baar IV\n\nAdresse: Grossmatt 5\, 6052 Hergiswil NW\n
LOCATION:Grossmatt 5\, 6052 Hergiswil NW
CATEGORIES:Saison 2024/25
END:VEVENT
BEGIN:VEVENT
DTSTAMP:20260423T190035Z
DTSTART;TZID=Europe/Berlin:20250317T200000
DTEND;TZID=Europe/Berlin:20250317T230000
SUMMARY:He 3. Liga Gr. 1 Zug II vs Baar IV (0)
UID:f3eb0bc6-aea0-4d6d-86f2-a975a28e0010
STATUS:CONFIRMED
LAST-MODIFIED:20250320T183433Z
DESCRIPTION:3. Liga Herren Gruppe 1\nBegegnungs-Nr: 0\nHeim: Zug II\nGast: Baar IV\n\nAdresse: Lüssiweg 24\, 6300 Zug\n
LOCATION:Lüssiweg 24\, 6300 Zug
CATEGORIES:Saison 2024/25
END:VEVENT
BEGIN:VEVENT
DTSTAMP:20260423T190035Z
DTSTART;TZID=Europe/Berlin:20250520T201500
DTEND;TZID=Europe/Berlin:20250520T231500
SUMMARY:He 3. Liga ES Schenkon III vs Baar IV (0)
UID:957f22be-0063-4836-b805-c161d0c57509
STATUS:CONFIRMED
LAST-MODIFIED:20250603T141227Z
DESCRIPTION:3. Liga Herren ES\nBegegnungs-Nr: 0\nHeim: Schenkon III\nGast: Baar IV\n
LOCATION:
CATEGORIES:Saison 2024/25
END:VEVENT
END:VCALENDAR
