BEGIN:VCALENDAR
PRODID:-//nuDatenautomaten//framework iCal4j //DE
VERSION:2.0
CALSCALE:GREGORIAN
BEGIN:VTIMEZONE
TZID:Europe/Berlin
LAST-MODIFIED:20260306T231828Z
TZURL:https://www.tzurl.org/zoneinfo/Europe/Berlin
X-LIC-LOCATION:Europe/Berlin
X-PROLEPTIC-TZNAME:LMT
BEGIN:STANDARD
TZNAME:CET
TZOFFSETFROM:+005328
TZOFFSETTO:+0100
DTSTART:18930401T000000
END:STANDARD
BEGIN:DAYLIGHT
TZNAME:CEST
TZOFFSETFROM:+0100
TZOFFSETTO:+0200
DTSTART:19160430T230000
RDATE:19400401T020000
RDATE:19430329T020000
RDATE:19460414T020000
RDATE:19470406T030000
RDATE:19480418T020000
RDATE:19490410T020000
RDATE:19800406T020000
END:DAYLIGHT
BEGIN:STANDARD
TZNAME:CET
TZOFFSETFROM:+0200
TZOFFSETTO:+0100
DTSTART:19161001T010000
RDATE:19421102T030000
RDATE:19431004T030000
RDATE:19441002T030000
RDATE:19451118T030000
RDATE:19461007T030000
END:STANDARD
BEGIN:DAYLIGHT
TZNAME:CEST
TZOFFSETFROM:+0100
TZOFFSETTO:+0200
DTSTART:19170416T020000
RRULE:FREQ=YEARLY;UNTIL=19180415T010000Z;BYMONTH=4;BYDAY=3MO
END:DAYLIGHT
BEGIN:STANDARD
TZNAME:CET
TZOFFSETFROM:+0200
TZOFFSETTO:+0100
DTSTART:19170917T030000
RRULE:FREQ=YEARLY;UNTIL=19180916T010000Z;BYMONTH=9;BYDAY=3MO
END:STANDARD
BEGIN:DAYLIGHT
TZNAME:CEST
TZOFFSETFROM:+0100
TZOFFSETTO:+0200
DTSTART:19440403T020000
RRULE:FREQ=YEARLY;UNTIL=19450402T010000Z;BYMONTH=4;BYDAY=1MO
END:DAYLIGHT
BEGIN:DAYLIGHT
TZNAME:CEMT
TZOFFSETFROM:+0200
TZOFFSETTO:+0300
DTSTART:19450524T020000
RDATE:19470511T030000
END:DAYLIGHT
BEGIN:DAYLIGHT
TZNAME:CEST
TZOFFSETFROM:+0300
TZOFFSETTO:+0200
DTSTART:19450924T030000
RDATE:19470629T030000
END:DAYLIGHT
BEGIN:STANDARD
TZNAME:CET
TZOFFSETFROM:+0100
TZOFFSETTO:+0100
DTSTART:19460101T000000
RDATE:19800101T000000
END:STANDARD
BEGIN:STANDARD
TZNAME:CET
TZOFFSETFROM:+0200
TZOFFSETTO:+0100
DTSTART:19471005T030000
RRULE:FREQ=YEARLY;UNTIL=19491002T010000Z;BYMONTH=10;BYDAY=1SU
END:STANDARD
BEGIN:STANDARD
TZNAME:CET
TZOFFSETFROM:+0200
TZOFFSETTO:+0100
DTSTART:19800928T030000
RRULE:FREQ=YEARLY;UNTIL=19950924T010000Z;BYMONTH=9;BYDAY=-1SU
END:STANDARD
BEGIN:DAYLIGHT
TZNAME:CEST
TZOFFSETFROM:+0100
TZOFFSETTO:+0200
DTSTART:19810329T020000
RRULE:FREQ=YEARLY;BYMONTH=3;BYDAY=-1SU
END:DAYLIGHT
BEGIN:STANDARD
TZNAME:CET
TZOFFSETFROM:+0200
TZOFFSETTO:+0100
DTSTART:19961027T030000
RRULE:FREQ=YEARLY;BYMONTH=10;BYDAY=-1SU
END:STANDARD
END:VTIMEZONE
BEGIN:VEVENT
DTSTAMP:20260423T185908Z
DTSTART;TZID=Europe/Berlin:20250317T200000
DTEND;TZID=Europe/Berlin:20250317T230000
SUMMARY:He 3. Liga Gr. 4 Zug III vs Goldau IV (0)
UID:0a843f5f-e2c0-414d-b714-cd8c064003bb
STATUS:CONFIRMED
LAST-MODIFIED:20250320T183701Z
DESCRIPTION:3. Liga Herren Gruppe 4\nBegegnungs-Nr: 0\nHeim: Zug III\nGast: Goldau IV\n\nAdresse: Lüssiweg 24\, 6300 Zug\n
LOCATION:Lüssiweg 24\, 6300 Zug
CATEGORIES:Saison 2024/25
END:VEVENT
BEGIN:VEVENT
DTSTAMP:20260423T185908Z
DTSTART;TZID=Europe/Berlin:20240902T200000
DTEND;TZID=Europe/Berlin:20240902T230000
SUMMARY:He 3. Liga Gr. 4 Zug III vs Kriens VI (0)
UID:54edbeab-4d89-44e1-9379-5031105eecea
STATUS:CONFIRMED
LAST-MODIFIED:20240911T140939Z
DESCRIPTION:3. Liga Herren Gruppe 4\nBegegnungs-Nr: 0\nHeim: Zug III\nGast: Kriens VI\n\nAdresse: Lüssiweg 24\, 6300 Zug\n
LOCATION:Lüssiweg 24\, 6300 Zug
CATEGORIES:Saison 2024/25
END:VEVENT
BEGIN:VEVENT
DTSTAMP:20260423T185908Z
DTSTART;TZID=Europe/Berlin:20241021T200000
DTEND;TZID=Europe/Berlin:20241021T230000
SUMMARY:He 3. Liga Gr. 4 Zug III vs Sarnen III (0)
UID:9c481f1e-3ae4-438c-a6c7-02ba24428ad7
STATUS:CONFIRMED
LAST-MODIFIED:20241027T093643Z
DESCRIPTION:3. Liga Herren Gruppe 4\nBegegnungs-Nr: 0\nHeim: Zug III\nGast: Sarnen III\n\nAdresse: Lüssiweg 24\, 6300 Zug\n
LOCATION:Lüssiweg 24\, 6300 Zug
CATEGORIES:Saison 2024/25
END:VEVENT
BEGIN:VEVENT
DTSTAMP:20260423T185908Z
DTSTART;TZID=Europe/Berlin:20250120T200000
DTEND;TZID=Europe/Berlin:20250120T230000
SUMMARY:He 3. Liga Gr. 4 Zug III vs Rothenburg III (0)
UID:598eeb30-489c-47b2-80f3-3c06a8eed615
STATUS:CONFIRMED
LAST-MODIFIED:20250123T145633Z
DESCRIPTION:3. Liga Herren Gruppe 4\nBegegnungs-Nr: 0\nHeim: Zug III\nGast: Rothenburg III\n\nAdresse: Lüssiweg 24\, 6300 Zug\n
LOCATION:Lüssiweg 24\, 6300 Zug
CATEGORIES:Saison 2024/25
END:VEVENT
BEGIN:VEVENT
DTSTAMP:20260423T185908Z
DTSTART;TZID=Europe/Berlin:20241216T200000
DTEND;TZID=Europe/Berlin:20241216T230000
SUMMARY:He 3. Liga Gr. 4 Zug III vs Rapid Luzern VIII (0)
UID:95808248-7c7b-4fbe-b7cf-bdabe3352a82
STATUS:CONFIRMED
LAST-MODIFIED:20241218T105148Z
DESCRIPTION:3. Liga Herren Gruppe 4\nBegegnungs-Nr: 0\nHeim: Zug III\nGast: Rapid Luzern VIII\n\nAdresse: Lüssiweg 24\, 6300 Zug\n
LOCATION:Lüssiweg 24\, 6300 Zug
CATEGORIES:Saison 2024/25
END:VEVENT
BEGIN:VEVENT
DTSTAMP:20260423T185908Z
DTSTART;TZID=Europe/Berlin:20241118T200000
DTEND;TZID=Europe/Berlin:20241118T230000
SUMMARY:He 3. Liga Gr. 4 Zug III vs Dierikon-Ebikon III (0)
UID:cf982135-0734-450c-a909-990c368afa60
STATUS:CONFIRMED
LAST-MODIFIED:20241121T121149Z
DESCRIPTION:3. Liga Herren Gruppe 4\nBegegnungs-Nr: 0\nHeim: Zug III\nGast: Dierikon-Ebikon III\n\nAdresse: Lüssiweg 24\, 6300 Zug\n
LOCATION:Lüssiweg 24\, 6300 Zug
CATEGORIES:Saison 2024/25
END:VEVENT
BEGIN:VEVENT
DTSTAMP:20260423T185908Z
DTSTART;TZID=Europe/Berlin:20250218T200000
DTEND;TZID=Europe/Berlin:20250218T230000
SUMMARY:He 3. Liga Gr. 4 Dierikon-Ebikon III vs Zug III (0)
UID:cc1f6224-3f6e-466a-99e5-c58592080fd9
STATUS:CONFIRMED
LAST-MODIFIED:20250226T101743Z
DESCRIPTION:3. Liga Herren Gruppe 4\nBegegnungs-Nr: 0\nHeim: Dierikon-Ebikon III\nGast: Zug III\n\nAdresse: Rigistrasse 14\, 6036 Dierikon\n
LOCATION:Rigistrasse 14\, 6036 Dierikon
CATEGORIES:Saison 2024/25
END:VEVENT
BEGIN:VEVENT
DTSTAMP:20260423T185908Z
DTSTART;TZID=Europe/Berlin:20240921T130000
DTEND;TZID=Europe/Berlin:20240921T160000
SUMMARY:He 3. Liga Gr. 4 Rapid Luzern VIII vs Zug III (0)
UID:baf3dda2-3911-41b3-8ac4-4358285a1b3d
STATUS:CONFIRMED
LAST-MODIFIED:20240923T140431Z
DESCRIPTION:3. Liga Herren Gruppe 4\nBegegnungs-Nr: 0\nHeim: Rapid Luzern VIII\nGast: Zug III\n\nAdresse: Kreuzbuchstr. 60\, 6006 Luzern\n
LOCATION:Kreuzbuchstr. 60\, 6006 Luzern
CATEGORIES:Saison 2024/25
END:VEVENT
BEGIN:VEVENT
DTSTAMP:20260423T185908Z
DTSTART;TZID=Europe/Berlin:20241115T200000
DTEND;TZID=Europe/Berlin:20241115T230000
SUMMARY:He 3. Liga Gr. 4 Rothenburg III vs Zug III (0)
UID:e5d68953-38f2-4378-8472-5de911226f79
STATUS:CONFIRMED
LAST-MODIFIED:20241118T180103Z
DESCRIPTION:3. Liga Herren Gruppe 4\nBegegnungs-Nr: 0\nHeim: Rothenburg III\nGast: Zug III\n\nAdresse: Schulhausstrasse 6a\, 6023 Rothenburg\n
LOCATION:Schulhausstrasse 6a\, 6023 Rothenburg
CATEGORIES:Saison 2024/25
END:VEVENT
BEGIN:VEVENT
DTSTAMP:20260423T185908Z
DTSTART;TZID=Europe/Berlin:20250106T201500
DTEND;TZID=Europe/Berlin:20250106T231500
SUMMARY:He 3. Liga Gr. 4 Sarnen III vs Zug III (0)
UID:a068d125-e551-4bf0-8a04-1ebaa67cdae0
STATUS:CONFIRMED
LAST-MODIFIED:20250107T134458Z
DESCRIPTION:3. Liga Herren Gruppe 4\nBegegnungs-Nr: 0\nHeim: Sarnen III\nGast: Zug III\n\nAdresse: Rütistrasse 3\, 6060 Sarnen\n
LOCATION:Rütistrasse 3\, 6060 Sarnen
CATEGORIES:Saison 2024/25
END:VEVENT
BEGIN:VEVENT
DTSTAMP:20260423T185908Z
DTSTART;TZID=Europe/Berlin:20241128T200000
DTEND;TZID=Europe/Berlin:20241128T230000
SUMMARY:He 3. Liga Gr. 4 Goldau IV vs Zug III (0)
UID:9bda6d5b-9e05-4e79-a9a5-b0c1c4525229
STATUS:CONFIRMED
LAST-MODIFIED:20241129T104051Z
DESCRIPTION:3. Liga Herren Gruppe 4\nBegegnungs-Nr: 0\nHeim: Goldau IV\nGast: Zug III\n\nAdresse: Zaystrasse\, 6410 Goldau\n
LOCATION:Zaystrasse\, 6410 Goldau
CATEGORIES:Saison 2024/25
END:VEVENT
BEGIN:VEVENT
DTSTAMP:20260423T185908Z
DTSTART;TZID=Europe/Berlin:20241210T200000
DTEND;TZID=Europe/Berlin:20241210T230000
SUMMARY:He 3. Liga Gr. 4 Kriens VI vs Zug III (0)
UID:b0061e3b-2f95-4321-aba0-ce7dbfc5c5bc
STATUS:CONFIRMED
LAST-MODIFIED:20241217T140654Z
DESCRIPTION:3. Liga Herren Gruppe 4\nBegegnungs-Nr: 0\nHeim: Kriens VI\nGast: Zug III\n\nAdresse: Krauerstrasse 1\, 6010 Kriens\n
LOCATION:Krauerstrasse 1\, 6010 Kriens
CATEGORIES:Saison 2024/25
END:VEVENT
BEGIN:VEVENT
DTSTAMP:20260423T185908Z
DTSTART;TZID=Europe/Berlin:20250415T200000
DTEND;TZID=Europe/Berlin:20250415T230000
SUMMARY:He 3. Liga ES Schenkon III vs Zug III (0)
UID:168fb676-ea0c-43a7-b6e1-ab6ddb5a0e96
STATUS:CONFIRMED
LAST-MODIFIED:20250428T205411Z
DESCRIPTION:3. Liga Herren ES\nBegegnungs-Nr: 0\nHeim: Schenkon III\nGast: Zug III\n
LOCATION:
CATEGORIES:Saison 2024/25
END:VEVENT
END:VCALENDAR
