BEGIN:VCALENDAR
PRODID:-//nuDatenautomaten//framework iCal4j //DE
VERSION:2.0
CALSCALE:GREGORIAN
BEGIN:VTIMEZONE
TZID:Europe/Berlin
LAST-MODIFIED:20260306T231828Z
TZURL:https://www.tzurl.org/zoneinfo/Europe/Berlin
X-LIC-LOCATION:Europe/Berlin
X-PROLEPTIC-TZNAME:LMT
BEGIN:STANDARD
TZNAME:CET
TZOFFSETFROM:+005328
TZOFFSETTO:+0100
DTSTART:18930401T000000
END:STANDARD
BEGIN:DAYLIGHT
TZNAME:CEST
TZOFFSETFROM:+0100
TZOFFSETTO:+0200
DTSTART:19160430T230000
RDATE:19400401T020000
RDATE:19430329T020000
RDATE:19460414T020000
RDATE:19470406T030000
RDATE:19480418T020000
RDATE:19490410T020000
RDATE:19800406T020000
END:DAYLIGHT
BEGIN:STANDARD
TZNAME:CET
TZOFFSETFROM:+0200
TZOFFSETTO:+0100
DTSTART:19161001T010000
RDATE:19421102T030000
RDATE:19431004T030000
RDATE:19441002T030000
RDATE:19451118T030000
RDATE:19461007T030000
END:STANDARD
BEGIN:DAYLIGHT
TZNAME:CEST
TZOFFSETFROM:+0100
TZOFFSETTO:+0200
DTSTART:19170416T020000
RRULE:FREQ=YEARLY;UNTIL=19180415T010000Z;BYMONTH=4;BYDAY=3MO
END:DAYLIGHT
BEGIN:STANDARD
TZNAME:CET
TZOFFSETFROM:+0200
TZOFFSETTO:+0100
DTSTART:19170917T030000
RRULE:FREQ=YEARLY;UNTIL=19180916T010000Z;BYMONTH=9;BYDAY=3MO
END:STANDARD
BEGIN:DAYLIGHT
TZNAME:CEST
TZOFFSETFROM:+0100
TZOFFSETTO:+0200
DTSTART:19440403T020000
RRULE:FREQ=YEARLY;UNTIL=19450402T010000Z;BYMONTH=4;BYDAY=1MO
END:DAYLIGHT
BEGIN:DAYLIGHT
TZNAME:CEMT
TZOFFSETFROM:+0200
TZOFFSETTO:+0300
DTSTART:19450524T020000
RDATE:19470511T030000
END:DAYLIGHT
BEGIN:DAYLIGHT
TZNAME:CEST
TZOFFSETFROM:+0300
TZOFFSETTO:+0200
DTSTART:19450924T030000
RDATE:19470629T030000
END:DAYLIGHT
BEGIN:STANDARD
TZNAME:CET
TZOFFSETFROM:+0100
TZOFFSETTO:+0100
DTSTART:19460101T000000
RDATE:19800101T000000
END:STANDARD
BEGIN:STANDARD
TZNAME:CET
TZOFFSETFROM:+0200
TZOFFSETTO:+0100
DTSTART:19471005T030000
RRULE:FREQ=YEARLY;UNTIL=19491002T010000Z;BYMONTH=10;BYDAY=1SU
END:STANDARD
BEGIN:STANDARD
TZNAME:CET
TZOFFSETFROM:+0200
TZOFFSETTO:+0100
DTSTART:19800928T030000
RRULE:FREQ=YEARLY;UNTIL=19950924T010000Z;BYMONTH=9;BYDAY=-1SU
END:STANDARD
BEGIN:DAYLIGHT
TZNAME:CEST
TZOFFSETFROM:+0100
TZOFFSETTO:+0200
DTSTART:19810329T020000
RRULE:FREQ=YEARLY;BYMONTH=3;BYDAY=-1SU
END:DAYLIGHT
BEGIN:STANDARD
TZNAME:CET
TZOFFSETFROM:+0200
TZOFFSETTO:+0100
DTSTART:19961027T030000
RRULE:FREQ=YEARLY;BYMONTH=10;BYDAY=-1SU
END:STANDARD
END:VTIMEZONE
BEGIN:VEVENT
DTSTAMP:20260424T022658Z
DTSTART;TZID=Europe/Berlin:20241212T193000
DTEND;TZID=Europe/Berlin:20241212T223000
SUMMARY:ME L6 Gr 3\, Tours 1&2 Montriond-Ouchy  V vs Lausanne XII (0)
UID:c9f72d5e-288f-44f8-bb8e-72060aeb12e0
STATUS:CONFIRMED
LAST-MODIFIED:20241215T010427Z
DESCRIPTION:6ème ligue Hommes Groupe 3\, Tours 1&2\nBegegnungs-Nr: 0\nHeim: Montriond-Ouchy  V\nGast: Lausanne XII\n\nAdresse: Avenue d'Ouchy 45\, 1006 Lausanne\n
LOCATION:Avenue d'Ouchy 45\, 1006 Lausanne
CATEGORIES:Saison 2024/25
END:VEVENT
BEGIN:VEVENT
DTSTAMP:20260424T022658Z
DTSTART;TZID=Europe/Berlin:20241128T193000
DTEND;TZID=Europe/Berlin:20241128T223000
SUMMARY:ME L6 Gr 3\, Tours 1&2 Montriond-Ouchy  V vs Montreux-Riviera II (0)
UID:8fc2c1b2-3c29-49e6-aa8d-e5a71e6ac907
STATUS:CONFIRMED
LAST-MODIFIED:20241130T173224Z
DESCRIPTION:6ème ligue Hommes Groupe 3\, Tours 1&2\nBegegnungs-Nr: 0\nHeim: Montriond-Ouchy  V\nGast: Montreux-Riviera II\n\nAdresse: Avenue d'Ouchy 45\, 1006 Lausanne\n
LOCATION:Avenue d'Ouchy 45\, 1006 Lausanne
CATEGORIES:Saison 2024/25
END:VEVENT
BEGIN:VEVENT
DTSTAMP:20260424T022658Z
DTSTART;TZID=Europe/Berlin:20241107T193000
DTEND;TZID=Europe/Berlin:20241107T223000
SUMMARY:ME L6 Gr 3\, Tours 1&2 Montriond-Ouchy  V vs Lausanne XV (0)
UID:809b9861-097a-496d-97d9-8f4e9b8b1ae2
STATUS:CONFIRMED
LAST-MODIFIED:20241108T195351Z
DESCRIPTION:6ème ligue Hommes Groupe 3\, Tours 1&2\nBegegnungs-Nr: 0\nHeim: Montriond-Ouchy  V\nGast: Lausanne XV\n\nAdresse: Avenue d'Ouchy 45\, 1006 Lausanne\n
LOCATION:Avenue d'Ouchy 45\, 1006 Lausanne
CATEGORIES:Saison 2024/25
END:VEVENT
BEGIN:VEVENT
DTSTAMP:20260424T022658Z
DTSTART;TZID=Europe/Berlin:20240919T193000
DTEND;TZID=Europe/Berlin:20240919T223000
SUMMARY:ME L6 Gr 3\, Tours 1&2 Montriond-Ouchy  V vs Crissier VII (0)
UID:1549c8e2-960c-4733-8a67-7b7fddd8d6b4
STATUS:CONFIRMED
LAST-MODIFIED:20240922T140054Z
DESCRIPTION:6ème ligue Hommes Groupe 3\, Tours 1&2\nBegegnungs-Nr: 0\nHeim: Montriond-Ouchy  V\nGast: Crissier VII\n\nAdresse: Avenue d'Ouchy 45\, 1006 Lausanne\n
LOCATION:Avenue d'Ouchy 45\, 1006 Lausanne
CATEGORIES:Saison 2024/25
END:VEVENT
BEGIN:VEVENT
DTSTAMP:20260424T022658Z
DTSTART;TZID=Europe/Berlin:20240906T193000
DTEND;TZID=Europe/Berlin:20240906T223000
SUMMARY:ME L6 Gr 3\, Tours 1&2 Montriond-Ouchy  V vs Romanel V (0)
UID:89815539-f471-4d51-9a55-454cbbd5358c
STATUS:CONFIRMED
LAST-MODIFIED:20240908T134718Z
DESCRIPTION:6ème ligue Hommes Groupe 3\, Tours 1&2\nBegegnungs-Nr: 0\nHeim: Montriond-Ouchy  V\nGast: Romanel V\n\nAdresse: Avenue d'Ouchy 45\, 1006 Lausanne\n
LOCATION:Avenue d'Ouchy 45\, 1006 Lausanne
CATEGORIES:Saison 2024/25
END:VEVENT
BEGIN:VEVENT
DTSTAMP:20260424T022658Z
DTSTART;TZID=Europe/Berlin:20250410T193000
DTEND;TZID=Europe/Berlin:20250410T223000
SUMMARY:ME L6 Gr 3\, Tours 3&4 Montriond-Ouchy  V vs Vaudoise-Assurances II (0)
UID:e628538f-8ca8-47c2-b025-a95f08521c5d
STATUS:CONFIRMED
LAST-MODIFIED:20250411T073111Z
DESCRIPTION:6ème ligue Hommes Groupe 3\, Tours 3&4\nBegegnungs-Nr: 0\nHeim: Montriond-Ouchy  V\nGast: Vaudoise-Assurances II\n\nAdresse: Avenue d'Ouchy 45\, 1006 Lausanne\n
LOCATION:Avenue d'Ouchy 45\, 1006 Lausanne
CATEGORIES:Saison 2024/25
END:VEVENT
BEGIN:VEVENT
DTSTAMP:20260424T022658Z
DTSTART;TZID=Europe/Berlin:20250313T193000
DTEND;TZID=Europe/Berlin:20250313T223000
SUMMARY:ME L6 Gr 3\, Tours 3&4 Montriond-Ouchy  V vs Crissier VIII (0)
UID:29704cf4-afaa-465f-8cbe-f95bccdc4786
STATUS:CONFIRMED
LAST-MODIFIED:20250316T123523Z
DESCRIPTION:6ème ligue Hommes Groupe 3\, Tours 3&4\nBegegnungs-Nr: 0\nHeim: Montriond-Ouchy  V\nGast: Crissier VIII\n\nAdresse: Avenue d'Ouchy 45\, 1006 Lausanne\n
LOCATION:Avenue d'Ouchy 45\, 1006 Lausanne
CATEGORIES:Saison 2024/25
END:VEVENT
BEGIN:VEVENT
DTSTAMP:20260424T022658Z
DTSTART;TZID=Europe/Berlin:20250227T193000
DTEND;TZID=Europe/Berlin:20250227T223000
SUMMARY:ME L6 Gr 3\, Tours 3&4 Montriond-Ouchy  V vs Lausanne X (0)
UID:5981e19c-c45e-4327-8208-563b748b667a
STATUS:CONFIRMED
LAST-MODIFIED:20250228T165108Z
DESCRIPTION:6ème ligue Hommes Groupe 3\, Tours 3&4\nBegegnungs-Nr: 0\nHeim: Montriond-Ouchy  V\nGast: Lausanne X\n\nAdresse: Avenue d'Ouchy 45\, 1006 Lausanne\n
LOCATION:Avenue d'Ouchy 45\, 1006 Lausanne
CATEGORIES:Saison 2024/25
END:VEVENT
BEGIN:VEVENT
DTSTAMP:20260424T022658Z
DTSTART;TZID=Europe/Berlin:20250116T193000
DTEND;TZID=Europe/Berlin:20250116T223000
SUMMARY:ME L6 Gr 3\, Tours 3&4 Montriond-Ouchy  V vs Lausanne XII (0)
UID:7d10ae24-5017-4cf4-a65f-cf5df32c0209
STATUS:CONFIRMED
LAST-MODIFIED:20250117T194933Z
DESCRIPTION:6ème ligue Hommes Groupe 3\, Tours 3&4\nBegegnungs-Nr: 0\nHeim: Montriond-Ouchy  V\nGast: Lausanne XII\n\nAdresse: Avenue d'Ouchy 45\, 1006 Lausanne\n
LOCATION:Avenue d'Ouchy 45\, 1006 Lausanne
CATEGORIES:Saison 2024/25
END:VEVENT
BEGIN:VEVENT
DTSTAMP:20260424T022658Z
DTSTART;TZID=Europe/Berlin:20250130T193000
DTEND;TZID=Europe/Berlin:20250130T223000
SUMMARY:ME L6 Gr 3\, Tours 3&4 Montriond-Ouchy  V vs Romont-Villaz IV (0)
UID:d4e7aa6b-654c-4235-84a3-fcac7c7b0d8d
STATUS:CONFIRMED
LAST-MODIFIED:20250130T233146Z
DESCRIPTION:6ème ligue Hommes Groupe 3\, Tours 3&4\nBegegnungs-Nr: 0\nHeim: Montriond-Ouchy  V\nGast: Romont-Villaz IV\n\nAdresse: Avenue d'Ouchy 45\, 1006 Lausanne\n
LOCATION:Avenue d'Ouchy 45\, 1006 Lausanne
CATEGORIES:Saison 2024/25
END:VEVENT
BEGIN:VEVENT
DTSTAMP:20260424T022658Z
DTSTART;TZID=Europe/Berlin:20241122T193000
DTEND;TZID=Europe/Berlin:20241122T223000
SUMMARY:ME L6 Gr 3\, Tours 1&2 Crissier VII vs Montriond-Ouchy  V (0)
UID:c3dad3c2-f93e-4166-94fa-b1d8a043fd9c
STATUS:CONFIRMED
LAST-MODIFIED:20241126T112921Z
DESCRIPTION:6ème ligue Hommes Groupe 3\, Tours 1&2\nBegegnungs-Nr: 0\nHeim: Crissier VII\nGast: Montriond-Ouchy  V\n\nAdresse: ch. des Oches du Mur\, 1023 Crissier\n
LOCATION:ch. des Oches du Mur\, 1023 Crissier
CATEGORIES:Saison 2024/25
END:VEVENT
BEGIN:VEVENT
DTSTAMP:20260424T022658Z
DTSTART;TZID=Europe/Berlin:20241105T200000
DTEND;TZID=Europe/Berlin:20241105T230000
SUMMARY:ME L6 Gr 3\, Tours 1&2 Romanel V vs Montriond-Ouchy  V (0)
UID:6fdb2570-6da2-4f18-95b6-5a771905b5cb
STATUS:CONFIRMED
LAST-MODIFIED:20241106T210820Z
DESCRIPTION:6ème ligue Hommes Groupe 3\, Tours 1&2\nBegegnungs-Nr: 0\nHeim: Romanel V\nGast: Montriond-Ouchy  V\n\nAdresse: Ch des Epinettes 1\, 1032 Romanel-sur-Lausanne\n
LOCATION:Ch des Epinettes 1\, 1032 Romanel-sur-Lausanne
CATEGORIES:Saison 2024/25
END:VEVENT
BEGIN:VEVENT
DTSTAMP:20260424T022658Z
DTSTART;TZID=Europe/Berlin:20241007T200000
DTEND;TZID=Europe/Berlin:20241007T230000
SUMMARY:ME L6 Gr 3\, Tours 1&2 Lausanne XII vs Montriond-Ouchy  V (0)
UID:6c9d4f97-1b68-478b-8927-52d60aeaee9f
STATUS:CONFIRMED
LAST-MODIFIED:20241008T105147Z
DESCRIPTION:6ème ligue Hommes Groupe 3\, Tours 1&2\nBegegnungs-Nr: 0\nHeim: Lausanne XII\nGast: Montriond-Ouchy  V\n\nAdresse: Vaudoise Aréna\, Ch. du Viaduc 14\, 1008 Prilly\n
LOCATION:Vaudoise Aréna\, Ch. du Viaduc 14\, 1008 Prilly
CATEGORIES:Saison 2024/25
END:VEVENT
BEGIN:VEVENT
DTSTAMP:20260424T022658Z
DTSTART;TZID=Europe/Berlin:20241003T200000
DTEND;TZID=Europe/Berlin:20241003T230000
SUMMARY:ME L6 Gr 3\, Tours 1&2 Montreux-Riviera II vs Montriond-Ouchy  V (0)
UID:1db9385f-79c6-43e6-87a6-4c9e3435c9b5
STATUS:CONFIRMED
LAST-MODIFIED:20241012T214508Z
DESCRIPTION:6ème ligue Hommes Groupe 3\, Tours 1&2\nBegegnungs-Nr: 0\nHeim: Montreux-Riviera II\nGast: Montriond-Ouchy  V\n\nAdresse: Rue de la Gare 33\, 1820 Montreux\n
LOCATION:Rue de la Gare 33\, 1820 Montreux
CATEGORIES:Saison 2024/25
END:VEVENT
BEGIN:VEVENT
DTSTAMP:20260424T022658Z
DTSTART;TZID=Europe/Berlin:20240911T200000
DTEND;TZID=Europe/Berlin:20240911T230000
SUMMARY:ME L6 Gr 3\, Tours 1&2 Lausanne XV vs Montriond-Ouchy  V (0)
UID:9a3c23b7-b1d1-457c-9cf8-2e1373b57049
STATUS:CONFIRMED
LAST-MODIFIED:20241009T224122Z
DESCRIPTION:6ème ligue Hommes Groupe 3\, Tours 1&2\nBegegnungs-Nr: 0\nHeim: Lausanne XV\nGast: Montriond-Ouchy  V\n\nAdresse: Vaudoise Aréna\, Ch. du Viaduc 14\, 1008 Prilly\n
LOCATION:Vaudoise Aréna\, Ch. du Viaduc 14\, 1008 Prilly
CATEGORIES:Saison 2024/25
END:VEVENT
BEGIN:VEVENT
DTSTAMP:20260424T022658Z
DTSTART;TZID=Europe/Berlin:20250317T200000
DTEND;TZID=Europe/Berlin:20250317T230000
SUMMARY:ME L6 Gr 3\, Tours 3&4 Lausanne X vs Montriond-Ouchy  V (0)
UID:2fe6ca03-c1e4-4104-becd-fb09fee93729
STATUS:CONFIRMED
LAST-MODIFIED:20250318T100206Z
DESCRIPTION:6ème ligue Hommes Groupe 3\, Tours 3&4\nBegegnungs-Nr: 0\nHeim: Lausanne X\nGast: Montriond-Ouchy  V\n\nAdresse: Vaudoise Aréna\, Ch. du Viaduc 14\, 1008 Prilly\n
LOCATION:Vaudoise Aréna\, Ch. du Viaduc 14\, 1008 Prilly
CATEGORIES:Saison 2024/25
END:VEVENT
BEGIN:VEVENT
DTSTAMP:20260424T022658Z
DTSTART;TZID=Europe/Berlin:20250428T200000
DTEND;TZID=Europe/Berlin:20250428T230000
SUMMARY:ME L6 Gr 3\, Tours 3&4 Lausanne XII vs Montriond-Ouchy  V (0)
UID:be625010-390b-4417-8542-482a89608331
STATUS:CONFIRMED
LAST-MODIFIED:20250428T220359Z
DESCRIPTION:6ème ligue Hommes Groupe 3\, Tours 3&4\nBegegnungs-Nr: 0\nHeim: Lausanne XII\nGast: Montriond-Ouchy  V\n\nAdresse: Vaudoise Aréna\, Ch. du Viaduc 14\, 1008 Prilly\n
LOCATION:Vaudoise Aréna\, Ch. du Viaduc 14\, 1008 Prilly
CATEGORIES:Saison 2024/25
END:VEVENT
BEGIN:VEVENT
DTSTAMP:20260424T022658Z
DTSTART;TZID=Europe/Berlin:20250401T194500
DTEND;TZID=Europe/Berlin:20250401T224500
SUMMARY:ME L6 Gr 3\, Tours 3&4 Romont-Villaz IV vs Montriond-Ouchy  V (0)
UID:a520f701-0572-4e49-8d4c-764b6d79fd75
STATUS:CONFIRMED
LAST-MODIFIED:20250403T172700Z
DESCRIPTION:6ème ligue Hommes Groupe 3\, Tours 3&4\nBegegnungs-Nr: 0\nHeim: Romont-Villaz IV\nGast: Montriond-Ouchy  V\n\nAdresse: Route de la Gare 5\, 1690 Villaz-St-Pierre\n
LOCATION:Route de la Gare 5\, 1690 Villaz-St-Pierre
CATEGORIES:Saison 2024/25
END:VEVENT
BEGIN:VEVENT
DTSTAMP:20260424T022658Z
DTSTART;TZID=Europe/Berlin:20250213T193000
DTEND;TZID=Europe/Berlin:20250213T223000
SUMMARY:ME L6 Gr 3\, Tours 3&4 Vaudoise-Assurances II vs Montriond-Ouchy  V (0)
UID:9a8837aa-edd9-4c15-9b05-f5dc8e705da6
STATUS:CONFIRMED
LAST-MODIFIED:20250214T134710Z
DESCRIPTION:6ème ligue Hommes Groupe 3\, Tours 3&4\nBegegnungs-Nr: 0\nHeim: Vaudoise-Assurances II\nGast: Montriond-Ouchy  V\n\nAdresse: Ch de Bellerive 36\, 1007 Lausanne\n
LOCATION:Ch de Bellerive 36\, 1007 Lausanne
CATEGORIES:Saison 2024/25
END:VEVENT
BEGIN:VEVENT
DTSTAMP:20260424T022658Z
DTSTART;TZID=Europe/Berlin:20250123T193000
DTEND;TZID=Europe/Berlin:20250123T223000
SUMMARY:ME L6 Gr 3\, Tours 3&4 Crissier VIII vs Montriond-Ouchy  V (0)
UID:d17e86c3-3390-4ca6-8113-3eb8e80d756c
STATUS:CONFIRMED
LAST-MODIFIED:20250125T162021Z
DESCRIPTION:6ème ligue Hommes Groupe 3\, Tours 3&4\nBegegnungs-Nr: 0\nHeim: Crissier VIII\nGast: Montriond-Ouchy  V\n\nAdresse: ch. des Oches du Mur\, 1023 Crissier\n
LOCATION:ch. des Oches du Mur\, 1023 Crissier
CATEGORIES:Saison 2024/25
END:VEVENT
END:VCALENDAR
