BEGIN:VCALENDAR
PRODID:-//nuDatenautomaten//framework iCal4j //DE
VERSION:2.0
CALSCALE:GREGORIAN
BEGIN:VTIMEZONE
TZID:Europe/Berlin
LAST-MODIFIED:20260306T231828Z
TZURL:https://www.tzurl.org/zoneinfo/Europe/Berlin
X-LIC-LOCATION:Europe/Berlin
X-PROLEPTIC-TZNAME:LMT
BEGIN:STANDARD
TZNAME:CET
TZOFFSETFROM:+005328
TZOFFSETTO:+0100
DTSTART:18930401T000000
END:STANDARD
BEGIN:DAYLIGHT
TZNAME:CEST
TZOFFSETFROM:+0100
TZOFFSETTO:+0200
DTSTART:19160430T230000
RDATE:19400401T020000
RDATE:19430329T020000
RDATE:19460414T020000
RDATE:19470406T030000
RDATE:19480418T020000
RDATE:19490410T020000
RDATE:19800406T020000
END:DAYLIGHT
BEGIN:STANDARD
TZNAME:CET
TZOFFSETFROM:+0200
TZOFFSETTO:+0100
DTSTART:19161001T010000
RDATE:19421102T030000
RDATE:19431004T030000
RDATE:19441002T030000
RDATE:19451118T030000
RDATE:19461007T030000
END:STANDARD
BEGIN:DAYLIGHT
TZNAME:CEST
TZOFFSETFROM:+0100
TZOFFSETTO:+0200
DTSTART:19170416T020000
RRULE:FREQ=YEARLY;UNTIL=19180415T010000Z;BYMONTH=4;BYDAY=3MO
END:DAYLIGHT
BEGIN:STANDARD
TZNAME:CET
TZOFFSETFROM:+0200
TZOFFSETTO:+0100
DTSTART:19170917T030000
RRULE:FREQ=YEARLY;UNTIL=19180916T010000Z;BYMONTH=9;BYDAY=3MO
END:STANDARD
BEGIN:DAYLIGHT
TZNAME:CEST
TZOFFSETFROM:+0100
TZOFFSETTO:+0200
DTSTART:19440403T020000
RRULE:FREQ=YEARLY;UNTIL=19450402T010000Z;BYMONTH=4;BYDAY=1MO
END:DAYLIGHT
BEGIN:DAYLIGHT
TZNAME:CEMT
TZOFFSETFROM:+0200
TZOFFSETTO:+0300
DTSTART:19450524T020000
RDATE:19470511T030000
END:DAYLIGHT
BEGIN:DAYLIGHT
TZNAME:CEST
TZOFFSETFROM:+0300
TZOFFSETTO:+0200
DTSTART:19450924T030000
RDATE:19470629T030000
END:DAYLIGHT
BEGIN:STANDARD
TZNAME:CET
TZOFFSETFROM:+0100
TZOFFSETTO:+0100
DTSTART:19460101T000000
RDATE:19800101T000000
END:STANDARD
BEGIN:STANDARD
TZNAME:CET
TZOFFSETFROM:+0200
TZOFFSETTO:+0100
DTSTART:19471005T030000
RRULE:FREQ=YEARLY;UNTIL=19491002T010000Z;BYMONTH=10;BYDAY=1SU
END:STANDARD
BEGIN:STANDARD
TZNAME:CET
TZOFFSETFROM:+0200
TZOFFSETTO:+0100
DTSTART:19800928T030000
RRULE:FREQ=YEARLY;UNTIL=19950924T010000Z;BYMONTH=9;BYDAY=-1SU
END:STANDARD
BEGIN:DAYLIGHT
TZNAME:CEST
TZOFFSETFROM:+0100
TZOFFSETTO:+0200
DTSTART:19810329T020000
RRULE:FREQ=YEARLY;BYMONTH=3;BYDAY=-1SU
END:DAYLIGHT
BEGIN:STANDARD
TZNAME:CET
TZOFFSETFROM:+0200
TZOFFSETTO:+0100
DTSTART:19961027T030000
RRULE:FREQ=YEARLY;BYMONTH=10;BYDAY=-1SU
END:STANDARD
END:VTIMEZONE
BEGIN:VEVENT
DTSTAMP:20260424T062159Z
DTSTART;TZID=Europe/Berlin:20241011T193000
DTEND;TZID=Europe/Berlin:20241011T223000
SUMMARY:ME L6 Gr 8\, Tours 1&2 Gland IV vs Eysins IV (5)
UID:00596c55-ca60-43cf-b724-8b52309df17d
STATUS:CONFIRMED
LAST-MODIFIED:20241012T202631Z
DESCRIPTION:6ème ligue Hommes Groupe 8\,Tours 1&2\nBegegnungs-Nr: 5\nHeim: Gland IV\nGast: Eysins IV\n\nAdresse: Chemin de la Perroude 1\, 1196 Gland\n
LOCATION:Chemin de la Perroude 1\, 1196 Gland
CATEGORIES:Saison 2024/25
END:VEVENT
BEGIN:VEVENT
DTSTAMP:20260424T062159Z
DTSTART;TZID=Europe/Berlin:20241108T193000
DTEND;TZID=Europe/Berlin:20241108T223000
SUMMARY:ME L6 Gr 8\, Tours 1&2 Gland IV vs Rolle III (30)
UID:53bdde85-501b-4649-840c-257448461105
STATUS:CONFIRMED
LAST-MODIFIED:20241109T225129Z
DESCRIPTION:6ème ligue Hommes Groupe 8\,Tours 1&2\nBegegnungs-Nr: 30\nHeim: Gland IV\nGast: Rolle III\n\nAdresse: Chemin de la Perroude 1\, 1196 Gland\n
LOCATION:Chemin de la Perroude 1\, 1196 Gland
CATEGORIES:Saison 2024/25
END:VEVENT
BEGIN:VEVENT
DTSTAMP:20260424T062159Z
DTSTART;TZID=Europe/Berlin:20241122T193000
DTEND;TZID=Europe/Berlin:20241122T223000
SUMMARY:ME L6 Gr 8\, Tours 1&2 Gland IV vs Nyon II (24)
UID:30eb98e9-5e15-45d4-8629-a662820413ed
STATUS:CONFIRMED
LAST-MODIFIED:20241126T113059Z
DESCRIPTION:6ème ligue Hommes Groupe 8\,Tours 1&2\nBegegnungs-Nr: 24\nHeim: Gland IV\nGast: Nyon II\n\nAdresse: Chemin de la Perroude 1\, 1196 Gland\n
LOCATION:Chemin de la Perroude 1\, 1196 Gland
CATEGORIES:Saison 2024/25
END:VEVENT
BEGIN:VEVENT
DTSTAMP:20260424T062159Z
DTSTART;TZID=Europe/Berlin:20241101T193000
DTEND;TZID=Europe/Berlin:20241101T223000
SUMMARY:ME L6 Gr 8\, Tours 1&2 Gland IV vs Bougy II (18)
UID:baf3a89c-0488-474d-a7cd-3d591e7dcb22
STATUS:CONFIRMED
LAST-MODIFIED:20241104T104725Z
DESCRIPTION:6ème ligue Hommes Groupe 8\,Tours 1&2\nBegegnungs-Nr: 18\nHeim: Gland IV\nGast: Bougy II\n\nAdresse: Chemin de la Perroude 1\, 1196 Gland\n
LOCATION:Chemin de la Perroude 1\, 1196 Gland
CATEGORIES:Saison 2024/25
END:VEVENT
BEGIN:VEVENT
DTSTAMP:20260424T062159Z
DTSTART;TZID=Europe/Berlin:20241004T193000
DTEND;TZID=Europe/Berlin:20241004T223000
SUMMARY:ME L6 Gr 8\, Tours 1&2 Gland IV vs Rolle II (10)
UID:8c13491a-3097-4d9d-a0d2-f49a03b23e28
STATUS:CONFIRMED
LAST-MODIFIED:20241007T063956Z
DESCRIPTION:6ème ligue Hommes Groupe 8\,Tours 1&2\nBegegnungs-Nr: 10\nHeim: Gland IV\nGast: Rolle II\n\nAdresse: Chemin de la Perroude 1\, 1196 Gland\n
LOCATION:Chemin de la Perroude 1\, 1196 Gland
CATEGORIES:Saison 2024/25
END:VEVENT
BEGIN:VEVENT
DTSTAMP:20260424T062159Z
DTSTART;TZID=Europe/Berlin:20250509T193000
DTEND;TZID=Europe/Berlin:20250509T223000
SUMMARY:ME L5 Gr 3\, Tours 3&4 Gland IV vs Romanel V (0)
UID:068120ab-4992-49cd-8cf4-bfb26e613fc5
STATUS:CONFIRMED
LAST-MODIFIED:20250511T173040Z
DESCRIPTION:5ème ligue Hommes Groupe 3\, Tours 3&4\nBegegnungs-Nr: 0\nHeim: Gland IV\nGast: Romanel V\n\nAdresse: Chemin de la Perroude 1\, 1196 Gland\n
LOCATION:Chemin de la Perroude 1\, 1196 Gland
CATEGORIES:Saison 2024/25
END:VEVENT
BEGIN:VEVENT
DTSTAMP:20260424T062159Z
DTSTART;TZID=Europe/Berlin:20250502T193000
DTEND;TZID=Europe/Berlin:20250502T223000
SUMMARY:ME L5 Gr 3\, Tours 3&4 Gland IV vs Mézières III (0)
UID:33fbe7aa-f803-47b0-b57f-9f26e2b42b7b
STATUS:CONFIRMED
LAST-MODIFIED:20250504T112009Z
DESCRIPTION:5ème ligue Hommes Groupe 3\, Tours 3&4\nBegegnungs-Nr: 0\nHeim: Gland IV\nGast: Mézières III\n\nAdresse: Chemin de la Perroude 1\, 1196 Gland\n
LOCATION:Chemin de la Perroude 1\, 1196 Gland
CATEGORIES:Saison 2024/25
END:VEVENT
BEGIN:VEVENT
DTSTAMP:20260424T062159Z
DTSTART;TZID=Europe/Berlin:20250321T193000
DTEND;TZID=Europe/Berlin:20250321T223000
SUMMARY:ME L5 Gr 3\, Tours 3&4 Gland IV vs Trams-Renens III (0)
UID:03eb9aeb-f65d-4841-b26a-0a4bf3157f37
STATUS:CONFIRMED
LAST-MODIFIED:20250322T135242Z
DESCRIPTION:5ème ligue Hommes Groupe 3\, Tours 3&4\nBegegnungs-Nr: 0\nHeim: Gland IV\nGast: Trams-Renens III\n\nAdresse: Chemin de la Perroude 1\, 1196 Gland\n
LOCATION:Chemin de la Perroude 1\, 1196 Gland
CATEGORIES:Saison 2024/25
END:VEVENT
BEGIN:VEVENT
DTSTAMP:20260424T062159Z
DTSTART;TZID=Europe/Berlin:20250225T193000
DTEND;TZID=Europe/Berlin:20250225T223000
SUMMARY:ME L5 Gr 3\, Tours 3&4 Gland IV vs Lausanne IX (0)
UID:373ef945-230b-488f-967b-f7149507e0b5
STATUS:CONFIRMED
LAST-MODIFIED:20250226T232114Z
DESCRIPTION:5ème ligue Hommes Groupe 3\, Tours 3&4\nBegegnungs-Nr: 0\nHeim: Gland IV\nGast: Lausanne IX\n\nAdresse: Chemin de la Perroude 1\, 1196 Gland\n
LOCATION:Chemin de la Perroude 1\, 1196 Gland
CATEGORIES:Saison 2024/25
END:VEVENT
BEGIN:VEVENT
DTSTAMP:20260424T062159Z
DTSTART;TZID=Europe/Berlin:20250124T193000
DTEND;TZID=Europe/Berlin:20250124T223000
SUMMARY:ME L5 Gr 3\, Tours 3&4 Gland IV vs Montriond-Ouchy  IV (0)
UID:3e2286af-b7fd-4c0e-9251-4bae3678a056
STATUS:CONFIRMED
LAST-MODIFIED:20250125T161826Z
DESCRIPTION:5ème ligue Hommes Groupe 3\, Tours 3&4\nBegegnungs-Nr: 0\nHeim: Gland IV\nGast: Montriond-Ouchy  IV\n\nAdresse: Chemin de la Perroude 1\, 1196 Gland\n
LOCATION:Chemin de la Perroude 1\, 1196 Gland
CATEGORIES:Saison 2024/25
END:VEVENT
BEGIN:VEVENT
DTSTAMP:20260424T062159Z
DTSTART;TZID=Europe/Berlin:20240902T193000
DTEND;TZID=Europe/Berlin:20240902T223000
SUMMARY:ME L6 Gr 8\, Tours 1&2 Bougy II vs Gland IV (3)
UID:39752bf5-77e0-468e-b7b4-01793dd58f8c
STATUS:CONFIRMED
LAST-MODIFIED:20240905T101426Z
DESCRIPTION:6ème ligue Hommes Groupe 8\,Tours 1&2\nBegegnungs-Nr: 3\nHeim: Bougy II\nGast: Gland IV\n\nAdresse: Grand-Rue 11\, 1172 Bougy-Villars\n
LOCATION:Grand-Rue 11\, 1172 Bougy-Villars
CATEGORIES:Saison 2024/25
END:VEVENT
BEGIN:VEVENT
DTSTAMP:20260424T062159Z
DTSTART;TZID=Europe/Berlin:20241125T200000
DTEND;TZID=Europe/Berlin:20241125T230000
SUMMARY:ME L6 Gr 8\, Tours 1&2 Rolle II vs Gland IV (25)
UID:289b2829-7749-4dbe-a0b8-e37ba1be072b
STATUS:CONFIRMED
LAST-MODIFIED:20241128T003443Z
DESCRIPTION:6ème ligue Hommes Groupe 8\,Tours 1&2\nBegegnungs-Nr: 25\nHeim: Rolle II\nGast: Gland IV\n\nAdresse: Route des Quatre-Communes 7\, 1180 Rolle\n
LOCATION:Route des Quatre-Communes 7\, 1180 Rolle
CATEGORIES:Saison 2024/25
END:VEVENT
BEGIN:VEVENT
DTSTAMP:20260424T062159Z
DTSTART;TZID=Europe/Berlin:20241106T200000
DTEND;TZID=Europe/Berlin:20241106T230000
SUMMARY:ME L6 Gr 8\, Tours 1&2 Eysins IV vs Gland IV (20)
UID:3f69511b-63e5-4e3d-9ed4-b4e9999af3be
STATUS:CONFIRMED
LAST-MODIFIED:20241109T080146Z
DESCRIPTION:6ème ligue Hommes Groupe 8\,Tours 1&2\nBegegnungs-Nr: 20\nHeim: Eysins IV\nGast: Gland IV\n\nAdresse: En Bellossiez 1\, 1262 Eysins\n
LOCATION:En Bellossiez 1\, 1262 Eysins
CATEGORIES:Saison 2024/25
END:VEVENT
BEGIN:VEVENT
DTSTAMP:20260424T062159Z
DTSTART;TZID=Europe/Berlin:20241009T200000
DTEND;TZID=Europe/Berlin:20241009T230000
SUMMARY:ME L6 Gr 8\, Tours 1&2 Rolle III vs Gland IV (15)
UID:5c52bf2e-4566-4859-aa01-15a2a743602e
STATUS:CONFIRMED
LAST-MODIFIED:20241013T161429Z
DESCRIPTION:6ème ligue Hommes Groupe 8\,Tours 1&2\nBegegnungs-Nr: 15\nHeim: Rolle III\nGast: Gland IV\n\nAdresse: Route des Quatre-Communes 7\, 1180 Rolle\n
LOCATION:Route des Quatre-Communes 7\, 1180 Rolle
CATEGORIES:Saison 2024/25
END:VEVENT
BEGIN:VEVENT
DTSTAMP:20260424T062159Z
DTSTART;TZID=Europe/Berlin:20240919T193000
DTEND;TZID=Europe/Berlin:20240919T223000
SUMMARY:ME L6 Gr 8\, Tours 1&2 Nyon II vs Gland IV (9)
UID:5866d60e-38b2-4d79-b0df-608eb0ab5fa8
STATUS:CONFIRMED
LAST-MODIFIED:20240922T140219Z
DESCRIPTION:6ème ligue Hommes Groupe 8\,Tours 1&2\nBegegnungs-Nr: 9\nHeim: Nyon II\nGast: Gland IV\n\nAdresse: Rte des Tattes-d'Oie 97\, 1260 Nyon\n
LOCATION:Rte des Tattes-d'Oie 97\, 1260 Nyon
CATEGORIES:Saison 2024/25
END:VEVENT
BEGIN:VEVENT
DTSTAMP:20260424T062159Z
DTSTART;TZID=Europe/Berlin:20250410T193000
DTEND;TZID=Europe/Berlin:20250410T223000
SUMMARY:ME L5 Gr 3\, Tours 3&4 Lausanne IX vs Gland IV (0)
UID:8f652377-26ad-4307-99b9-cc52c4896128
STATUS:CONFIRMED
LAST-MODIFIED:20250411T192340Z
DESCRIPTION:5ème ligue Hommes Groupe 3\, Tours 3&4\nBegegnungs-Nr: 0\nHeim: Lausanne IX\nGast: Gland IV\n\nAdresse: Vaudoise Aréna\, Ch. du Viaduc 14\, 1008 Prilly\n
LOCATION:Vaudoise Aréna\, Ch. du Viaduc 14\, 1008 Prilly
CATEGORIES:Saison 2024/25
END:VEVENT
BEGIN:VEVENT
DTSTAMP:20260424T062159Z
DTSTART;TZID=Europe/Berlin:20250313T193000
DTEND;TZID=Europe/Berlin:20250313T223000
SUMMARY:ME L5 Gr 3\, Tours 3&4 Montriond-Ouchy  IV vs Gland IV (0)
UID:ff93e94f-c8b5-4c86-9db2-d758a2bb9b8b
STATUS:CONFIRMED
LAST-MODIFIED:20250314T181726Z
DESCRIPTION:5ème ligue Hommes Groupe 3\, Tours 3&4\nBegegnungs-Nr: 0\nHeim: Montriond-Ouchy  IV\nGast: Gland IV\n\nAdresse: Avenue d'Ouchy 45\, 1006 Lausanne\n
LOCATION:Avenue d'Ouchy 45\, 1006 Lausanne
CATEGORIES:Saison 2024/25
END:VEVENT
BEGIN:VEVENT
DTSTAMP:20260424T062159Z
DTSTART;TZID=Europe/Berlin:20250408T200000
DTEND;TZID=Europe/Berlin:20250408T230000
SUMMARY:ME L5 Gr 3\, Tours 3&4 Romanel V vs Gland IV (0)
UID:34283bc0-21c0-4d77-ab6f-53be83ac3f97
STATUS:CONFIRMED
LAST-MODIFIED:20250409T180219Z
DESCRIPTION:5ème ligue Hommes Groupe 3\, Tours 3&4\nBegegnungs-Nr: 0\nHeim: Romanel V\nGast: Gland IV\n\nAdresse: Ch des Epinettes 1\, 1032 Romanel-sur-Lausanne\n
LOCATION:Ch des Epinettes 1\, 1032 Romanel-sur-Lausanne
CATEGORIES:Saison 2024/25
END:VEVENT
BEGIN:VEVENT
DTSTAMP:20260424T062159Z
DTSTART;TZID=Europe/Berlin:20250220T200000
DTEND;TZID=Europe/Berlin:20250220T230000
SUMMARY:ME L5 Gr 3\, Tours 3&4 Mézières III vs Gland IV (0)
UID:5cfa70eb-be8b-4afc-821e-c279910085dd
STATUS:CONFIRMED
LAST-MODIFIED:20250222T180845Z
DESCRIPTION:5ème ligue Hommes Groupe 3\, Tours 3&4\nBegegnungs-Nr: 0\nHeim: Mézières III\nGast: Gland IV\n\nAdresse: -\, 1083 Mézières\n
LOCATION:-\, 1083 Mézières
CATEGORIES:Saison 2024/25
END:VEVENT
BEGIN:VEVENT
DTSTAMP:20260424T062159Z
DTSTART;TZID=Europe/Berlin:20250131T193000
DTEND;TZID=Europe/Berlin:20250131T223000
SUMMARY:ME L5 Gr 3\, Tours 3&4 Trams-Renens III vs Gland IV (0)
UID:c824e20e-f703-425c-aa94-e890487e39c9
STATUS:CONFIRMED
LAST-MODIFIED:20250201T003041Z
DESCRIPTION:5ème ligue Hommes Groupe 3\, Tours 3&4\nBegegnungs-Nr: 0\nHeim: Trams-Renens III\nGast: Gland IV\n\nAdresse: Av Saugiaz\, 1020 Renens\n
LOCATION:Av Saugiaz\, 1020 Renens
CATEGORIES:Saison 2024/25
END:VEVENT
END:VCALENDAR
