BEGIN:VCALENDAR
PRODID:-//nuDatenautomaten//framework iCal4j //DE
VERSION:2.0
CALSCALE:GREGORIAN
BEGIN:VTIMEZONE
TZID:Europe/Berlin
LAST-MODIFIED:20260306T231828Z
TZURL:https://www.tzurl.org/zoneinfo/Europe/Berlin
X-LIC-LOCATION:Europe/Berlin
X-PROLEPTIC-TZNAME:LMT
BEGIN:STANDARD
TZNAME:CET
TZOFFSETFROM:+005328
TZOFFSETTO:+0100
DTSTART:18930401T000000
END:STANDARD
BEGIN:DAYLIGHT
TZNAME:CEST
TZOFFSETFROM:+0100
TZOFFSETTO:+0200
DTSTART:19160430T230000
RDATE:19400401T020000
RDATE:19430329T020000
RDATE:19460414T020000
RDATE:19470406T030000
RDATE:19480418T020000
RDATE:19490410T020000
RDATE:19800406T020000
END:DAYLIGHT
BEGIN:STANDARD
TZNAME:CET
TZOFFSETFROM:+0200
TZOFFSETTO:+0100
DTSTART:19161001T010000
RDATE:19421102T030000
RDATE:19431004T030000
RDATE:19441002T030000
RDATE:19451118T030000
RDATE:19461007T030000
END:STANDARD
BEGIN:DAYLIGHT
TZNAME:CEST
TZOFFSETFROM:+0100
TZOFFSETTO:+0200
DTSTART:19170416T020000
RRULE:FREQ=YEARLY;UNTIL=19180415T010000Z;BYMONTH=4;BYDAY=3MO
END:DAYLIGHT
BEGIN:STANDARD
TZNAME:CET
TZOFFSETFROM:+0200
TZOFFSETTO:+0100
DTSTART:19170917T030000
RRULE:FREQ=YEARLY;UNTIL=19180916T010000Z;BYMONTH=9;BYDAY=3MO
END:STANDARD
BEGIN:DAYLIGHT
TZNAME:CEST
TZOFFSETFROM:+0100
TZOFFSETTO:+0200
DTSTART:19440403T020000
RRULE:FREQ=YEARLY;UNTIL=19450402T010000Z;BYMONTH=4;BYDAY=1MO
END:DAYLIGHT
BEGIN:DAYLIGHT
TZNAME:CEMT
TZOFFSETFROM:+0200
TZOFFSETTO:+0300
DTSTART:19450524T020000
RDATE:19470511T030000
END:DAYLIGHT
BEGIN:DAYLIGHT
TZNAME:CEST
TZOFFSETFROM:+0300
TZOFFSETTO:+0200
DTSTART:19450924T030000
RDATE:19470629T030000
END:DAYLIGHT
BEGIN:STANDARD
TZNAME:CET
TZOFFSETFROM:+0100
TZOFFSETTO:+0100
DTSTART:19460101T000000
RDATE:19800101T000000
END:STANDARD
BEGIN:STANDARD
TZNAME:CET
TZOFFSETFROM:+0200
TZOFFSETTO:+0100
DTSTART:19471005T030000
RRULE:FREQ=YEARLY;UNTIL=19491002T010000Z;BYMONTH=10;BYDAY=1SU
END:STANDARD
BEGIN:STANDARD
TZNAME:CET
TZOFFSETFROM:+0200
TZOFFSETTO:+0100
DTSTART:19800928T030000
RRULE:FREQ=YEARLY;UNTIL=19950924T010000Z;BYMONTH=9;BYDAY=-1SU
END:STANDARD
BEGIN:DAYLIGHT
TZNAME:CEST
TZOFFSETFROM:+0100
TZOFFSETTO:+0200
DTSTART:19810329T020000
RRULE:FREQ=YEARLY;BYMONTH=3;BYDAY=-1SU
END:DAYLIGHT
BEGIN:STANDARD
TZNAME:CET
TZOFFSETFROM:+0200
TZOFFSETTO:+0100
DTSTART:19961027T030000
RRULE:FREQ=YEARLY;BYMONTH=10;BYDAY=-1SU
END:STANDARD
END:VTIMEZONE
BEGIN:VEVENT
DTSTAMP:20260424T180559Z
DTSTART;TZID=Europe/Berlin:20241005T093000
DTEND;TZID=Europe/Berlin:20241005T123000
SUMMARY:Ligue 4 Versoix II vs Versoix III (1)
UID:457af5fa-ee43-421e-bbdb-997969a78d51
STATUS:CONFIRMED
DESCRIPTION:4ème ligue jeunesse - Groupe unique\nBegegnungs-Nr: 1\nHeim: Versoix II\nGast: Versoix III\n
LOCATION:
CATEGORIES:Saison 2024/25
END:VEVENT
BEGIN:VEVENT
DTSTAMP:20260424T180559Z
DTSTART;TZID=Europe/Berlin:20250315T113000
DTEND;TZID=Europe/Berlin:20250315T143000
SUMMARY:Ligue 4 Versoix II vs Meyrin (50)
UID:9be09d85-769a-4567-9a71-9d834c549031
STATUS:CONFIRMED
DESCRIPTION:4ème ligue jeunesse - Groupe unique\nBegegnungs-Nr: 50\nHeim: Versoix II\nGast: Meyrin\n
LOCATION:
CATEGORIES:Saison 2024/25
END:VEVENT
BEGIN:VEVENT
DTSTAMP:20260424T180559Z
DTSTART;TZID=Europe/Berlin:20241207T113000
DTEND;TZID=Europe/Berlin:20241207T143000
SUMMARY:Ligue 4 Versoix II vs ZZ-Lancy IV (30)
UID:0e9681e5-f248-4ae8-9e09-34779250f609
STATUS:CONFIRMED
DESCRIPTION:4ème ligue jeunesse - Groupe unique\nBegegnungs-Nr: 30\nHeim: Versoix II\nGast: ZZ-Lancy IV\n
LOCATION:
CATEGORIES:Saison 2024/25
END:VEVENT
BEGIN:VEVENT
DTSTAMP:20260424T180559Z
DTSTART;TZID=Europe/Berlin:20241005T133000
DTEND;TZID=Europe/Berlin:20241005T163000
SUMMARY:Ligue 4 UGS-Chênois V vs Versoix II (16)
UID:d9c2fe88-cf5e-4402-8376-c0002c42bc2a
STATUS:CONFIRMED
DESCRIPTION:4ème ligue jeunesse - Groupe unique\nBegegnungs-Nr: 16\nHeim: UGS-Chênois V\nGast: Versoix II\n
LOCATION:
CATEGORIES:Saison 2024/25
END:VEVENT
BEGIN:VEVENT
DTSTAMP:20260424T180559Z
DTSTART;TZID=Europe/Berlin:20250315T093000
DTEND;TZID=Europe/Berlin:20250315T123000
SUMMARY:Ligue 4 ZZ-Lancy V vs Versoix II (41)
UID:fd7de36d-82dc-4538-8277-6e99b2c35f42
STATUS:CONFIRMED
LAST-MODIFIED:20250331T093049Z
DESCRIPTION:4ème ligue jeunesse - Groupe unique\nBegegnungs-Nr: 41\nHeim: ZZ-Lancy V\nGast: Versoix II\n
LOCATION:
CATEGORIES:Saison 2024/25
END:VEVENT
BEGIN:VEVENT
DTSTAMP:20260424T180559Z
DTSTART;TZID=Europe/Berlin:20250315T133000
DTEND;TZID=Europe/Berlin:20250315T163000
SUMMARY:Ligue 4 Silver Star V vs Versoix II (55)
UID:1be9f489-9095-406a-adfa-641bf6a6a207
STATUS:CONFIRMED
DESCRIPTION:4ème ligue jeunesse - Groupe unique\nBegegnungs-Nr: 55\nHeim: Silver Star V\nGast: Versoix II\n
LOCATION:
CATEGORIES:Saison 2024/25
END:VEVENT
BEGIN:VEVENT
DTSTAMP:20260424T180559Z
DTSTART;TZID=Europe/Berlin:20241207T093000
DTEND;TZID=Europe/Berlin:20241207T123000
SUMMARY:Ligue 4 Mandement vs Versoix II (26)
UID:acf7bf6e-b05f-4fbd-a87b-0c18b36bd874
STATUS:CONFIRMED
DESCRIPTION:4ème ligue jeunesse - Groupe unique\nBegegnungs-Nr: 26\nHeim: Mandement\nGast: Versoix II\n
LOCATION:
CATEGORIES:Saison 2024/25
END:VEVENT
END:VCALENDAR
