BEGIN:VCALENDAR
PRODID:-//nuDatenautomaten//framework iCal4j //DE
VERSION:2.0
CALSCALE:GREGORIAN
BEGIN:VTIMEZONE
TZID:Europe/Berlin
LAST-MODIFIED:20260306T231828Z
TZURL:https://www.tzurl.org/zoneinfo/Europe/Berlin
X-LIC-LOCATION:Europe/Berlin
X-PROLEPTIC-TZNAME:LMT
BEGIN:STANDARD
TZNAME:CET
TZOFFSETFROM:+005328
TZOFFSETTO:+0100
DTSTART:18930401T000000
END:STANDARD
BEGIN:DAYLIGHT
TZNAME:CEST
TZOFFSETFROM:+0100
TZOFFSETTO:+0200
DTSTART:19160430T230000
RDATE:19400401T020000
RDATE:19430329T020000
RDATE:19460414T020000
RDATE:19470406T030000
RDATE:19480418T020000
RDATE:19490410T020000
RDATE:19800406T020000
END:DAYLIGHT
BEGIN:STANDARD
TZNAME:CET
TZOFFSETFROM:+0200
TZOFFSETTO:+0100
DTSTART:19161001T010000
RDATE:19421102T030000
RDATE:19431004T030000
RDATE:19441002T030000
RDATE:19451118T030000
RDATE:19461007T030000
END:STANDARD
BEGIN:DAYLIGHT
TZNAME:CEST
TZOFFSETFROM:+0100
TZOFFSETTO:+0200
DTSTART:19170416T020000
RRULE:FREQ=YEARLY;UNTIL=19180415T010000Z;BYMONTH=4;BYDAY=3MO
END:DAYLIGHT
BEGIN:STANDARD
TZNAME:CET
TZOFFSETFROM:+0200
TZOFFSETTO:+0100
DTSTART:19170917T030000
RRULE:FREQ=YEARLY;UNTIL=19180916T010000Z;BYMONTH=9;BYDAY=3MO
END:STANDARD
BEGIN:DAYLIGHT
TZNAME:CEST
TZOFFSETFROM:+0100
TZOFFSETTO:+0200
DTSTART:19440403T020000
RRULE:FREQ=YEARLY;UNTIL=19450402T010000Z;BYMONTH=4;BYDAY=1MO
END:DAYLIGHT
BEGIN:DAYLIGHT
TZNAME:CEMT
TZOFFSETFROM:+0200
TZOFFSETTO:+0300
DTSTART:19450524T020000
RDATE:19470511T030000
END:DAYLIGHT
BEGIN:DAYLIGHT
TZNAME:CEST
TZOFFSETFROM:+0300
TZOFFSETTO:+0200
DTSTART:19450924T030000
RDATE:19470629T030000
END:DAYLIGHT
BEGIN:STANDARD
TZNAME:CET
TZOFFSETFROM:+0100
TZOFFSETTO:+0100
DTSTART:19460101T000000
RDATE:19800101T000000
END:STANDARD
BEGIN:STANDARD
TZNAME:CET
TZOFFSETFROM:+0200
TZOFFSETTO:+0100
DTSTART:19471005T030000
RRULE:FREQ=YEARLY;UNTIL=19491002T010000Z;BYMONTH=10;BYDAY=1SU
END:STANDARD
BEGIN:STANDARD
TZNAME:CET
TZOFFSETFROM:+0200
TZOFFSETTO:+0100
DTSTART:19800928T030000
RRULE:FREQ=YEARLY;UNTIL=19950924T010000Z;BYMONTH=9;BYDAY=-1SU
END:STANDARD
BEGIN:DAYLIGHT
TZNAME:CEST
TZOFFSETFROM:+0100
TZOFFSETTO:+0200
DTSTART:19810329T020000
RRULE:FREQ=YEARLY;BYMONTH=3;BYDAY=-1SU
END:DAYLIGHT
BEGIN:STANDARD
TZNAME:CET
TZOFFSETFROM:+0200
TZOFFSETTO:+0100
DTSTART:19961027T030000
RRULE:FREQ=YEARLY;BYMONTH=10;BYDAY=-1SU
END:STANDARD
END:VTIMEZONE
BEGIN:VEVENT
DTSTAMP:20260424T002820Z
DTSTART;TZID=Europe/Berlin:20241122T190000
DTEND;TZID=Europe/Berlin:20241122T220000
SUMMARY:ME L2 Gr 1\, Tours 1&2 Sion vs Vevey III (0)
UID:a6c8cf8b-4f59-4aa3-8e4f-300237bab755
STATUS:CONFIRMED
LAST-MODIFIED:20241126T111841Z
DESCRIPTION:2ème ligue Hommes Groupe 1\, Tours 1&2\nBegegnungs-Nr: 0\nHeim: Sion\nGast: Vevey III\n\nAdresse: Rue du Chanoine-Berchtold 17\, 1950 Sion\n
LOCATION:Rue du Chanoine-Berchtold 17\, 1950 Sion
CATEGORIES:Saison 2024/25
END:VEVENT
BEGIN:VEVENT
DTSTAMP:20260424T002820Z
DTSTART;TZID=Europe/Berlin:20241115T190000
DTEND;TZID=Europe/Berlin:20241115T220000
SUMMARY:ME L2 Gr 1\, Tours 1&2 Sion vs Sierre III (0)
UID:0b193855-3eaa-4789-8778-be0b1c63fd6e
STATUS:CONFIRMED
LAST-MODIFIED:20241116T192106Z
DESCRIPTION:2ème ligue Hommes Groupe 1\, Tours 1&2\nBegegnungs-Nr: 0\nHeim: Sion\nGast: Sierre III\n\nAdresse: Rue du Chanoine-Berchtold 17\, 1950 Sion\n
LOCATION:Rue du Chanoine-Berchtold 17\, 1950 Sion
CATEGORIES:Saison 2024/25
END:VEVENT
BEGIN:VEVENT
DTSTAMP:20260424T002820Z
DTSTART;TZID=Europe/Berlin:20240927T190000
DTEND;TZID=Europe/Berlin:20240927T220000
SUMMARY:ME L2 Gr 1\, Tours 1&2 Sion vs Martigny (0)
UID:f38d94ae-bfc5-4fcc-8906-7cc7b8c655e9
STATUS:CONFIRMED
LAST-MODIFIED:20241008T172527Z
DESCRIPTION:2ème ligue Hommes Groupe 1\, Tours 1&2\nBegegnungs-Nr: 0\nHeim: Sion\nGast: Martigny\n\nAdresse: Rue du Chanoine-Berchtold 17\, 1950 Sion\n
LOCATION:Rue du Chanoine-Berchtold 17\, 1950 Sion
CATEGORIES:Saison 2024/25
END:VEVENT
BEGIN:VEVENT
DTSTAMP:20260424T002820Z
DTSTART;TZID=Europe/Berlin:20241024T190000
DTEND;TZID=Europe/Berlin:20241024T220000
SUMMARY:ME L2 Gr 1\, Tours 1&2 Sion vs Romanel (0)
UID:d98b57e3-76eb-41b2-a18d-182a198be2ec
STATUS:CONFIRMED
LAST-MODIFIED:20241026T004546Z
DESCRIPTION:2ème ligue Hommes Groupe 1\, Tours 1&2\nBegegnungs-Nr: 0\nHeim: Sion\nGast: Romanel\n\nAdresse: Rue du Chanoine-Berchtold 17\, 1950 Sion\n
LOCATION:Rue du Chanoine-Berchtold 17\, 1950 Sion
CATEGORIES:Saison 2024/25
END:VEVENT
BEGIN:VEVENT
DTSTAMP:20260424T002820Z
DTSTART;TZID=Europe/Berlin:20241017T190000
DTEND;TZID=Europe/Berlin:20241017T220000
SUMMARY:ME L2 Gr 1\, Tours 1&2 Sion vs Rossens IV (0)
UID:87c8dad4-927b-4470-9034-13d645ff2fd4
STATUS:CONFIRMED
LAST-MODIFIED:20241018T190752Z
DESCRIPTION:2ème ligue Hommes Groupe 1\, Tours 1&2\nBegegnungs-Nr: 0\nHeim: Sion\nGast: Rossens IV\n\nAdresse: Rue du Chanoine-Berchtold 17\, 1950 Sion\n
LOCATION:Rue du Chanoine-Berchtold 17\, 1950 Sion
CATEGORIES:Saison 2024/25
END:VEVENT
BEGIN:VEVENT
DTSTAMP:20260424T002820Z
DTSTART;TZID=Europe/Berlin:20250404T190000
DTEND;TZID=Europe/Berlin:20250404T220000
SUMMARY:ME L2 Gr 1\, Tours 3&4 Sion vs Grône (0)
UID:45bb686f-7b45-4e9b-9d12-2c604e4cc556
STATUS:CONFIRMED
LAST-MODIFIED:20250405T115745Z
DESCRIPTION:2ème ligue Hommes Groupe 1\, Tours 3&4\nBegegnungs-Nr: 0\nHeim: Sion\nGast: Grône\n\nAdresse: Rue du Chanoine-Berchtold 17\, 1950 Sion\n
LOCATION:Rue du Chanoine-Berchtold 17\, 1950 Sion
CATEGORIES:Saison 2024/25
END:VEVENT
BEGIN:VEVENT
DTSTAMP:20260424T002820Z
DTSTART;TZID=Europe/Berlin:20250314T190000
DTEND;TZID=Europe/Berlin:20250314T220000
SUMMARY:ME L2 Gr 1\, Tours 3&4 Sion vs Yvorne (0)
UID:e2978144-110f-4c30-9819-e753d77e272f
STATUS:CONFIRMED
LAST-MODIFIED:20250315T141208Z
DESCRIPTION:2ème ligue Hommes Groupe 1\, Tours 3&4\nBegegnungs-Nr: 0\nHeim: Sion\nGast: Yvorne\n\nAdresse: Rue du Chanoine-Berchtold 17\, 1950 Sion\n
LOCATION:Rue du Chanoine-Berchtold 17\, 1950 Sion
CATEGORIES:Saison 2024/25
END:VEVENT
BEGIN:VEVENT
DTSTAMP:20260424T002820Z
DTSTART;TZID=Europe/Berlin:20250207T190000
DTEND;TZID=Europe/Berlin:20250207T220000
SUMMARY:ME L2 Gr 1\, Tours 3&4 Sion vs Vevey III (0)
UID:75d39dc9-93fd-4d67-b8c4-5fcec995c111
STATUS:CONFIRMED
LAST-MODIFIED:20250210T162336Z
DESCRIPTION:2ème ligue Hommes Groupe 1\, Tours 3&4\nBegegnungs-Nr: 0\nHeim: Sion\nGast: Vevey III\n\nAdresse: Rue du Chanoine-Berchtold 17\, 1950 Sion\n
LOCATION:Rue du Chanoine-Berchtold 17\, 1950 Sion
CATEGORIES:Saison 2024/25
END:VEVENT
BEGIN:VEVENT
DTSTAMP:20260424T002820Z
DTSTART;TZID=Europe/Berlin:20250220T190000
DTEND;TZID=Europe/Berlin:20250220T220000
SUMMARY:ME L2 Gr 1\, Tours 3&4 Sion vs Martigny II (0)
UID:ca95e700-b17a-4d9c-9cab-ac7f24e26b2d
STATUS:CONFIRMED
LAST-MODIFIED:20250222T175801Z
DESCRIPTION:2ème ligue Hommes Groupe 1\, Tours 3&4\nBegegnungs-Nr: 0\nHeim: Sion\nGast: Martigny II\n\nAdresse: Rue du Chanoine-Berchtold 17\, 1950 Sion\n
LOCATION:Rue du Chanoine-Berchtold 17\, 1950 Sion
CATEGORIES:Saison 2024/25
END:VEVENT
BEGIN:VEVENT
DTSTAMP:20260424T002820Z
DTSTART;TZID=Europe/Berlin:20250131T190000
DTEND;TZID=Europe/Berlin:20250131T220000
SUMMARY:ME L2 Gr 1\, Tours 3&4 Sion vs Sierre III (0)
UID:0c9dc305-a0fc-4842-9c56-879e79f94ee2
STATUS:CONFIRMED
LAST-MODIFIED:20250201T200324Z
DESCRIPTION:2ème ligue Hommes Groupe 1\, Tours 3&4\nBegegnungs-Nr: 0\nHeim: Sion\nGast: Sierre III\n\nAdresse: Rue du Chanoine-Berchtold 17\, 1950 Sion\n
LOCATION:Rue du Chanoine-Berchtold 17\, 1950 Sion
CATEGORIES:Saison 2024/25
END:VEVENT
BEGIN:VEVENT
DTSTAMP:20260424T002820Z
DTSTART;TZID=Europe/Berlin:20241212T200000
DTEND;TZID=Europe/Berlin:20241212T230000
SUMMARY:ME L2 Gr 1\, Tours 1&2 Martigny vs Sion (0)
UID:19b7e32b-be8e-425e-9b69-c9f9e519ff85
STATUS:CONFIRMED
LAST-MODIFIED:20241215T005721Z
DESCRIPTION:2ème ligue Hommes Groupe 1\, Tours 1&2\nBegegnungs-Nr: 0\nHeim: Martigny\nGast: Sion\n\nAdresse: Rue des Ecoles 9\, 1920 Martigny\n
LOCATION:Rue des Ecoles 9\, 1920 Martigny
CATEGORIES:Saison 2024/25
END:VEVENT
BEGIN:VEVENT
DTSTAMP:20260424T002820Z
DTSTART;TZID=Europe/Berlin:20241127T200000
DTEND;TZID=Europe/Berlin:20241127T230000
SUMMARY:ME L2 Gr 1\, Tours 1&2 Romanel vs Sion (0)
UID:db32b23a-fb1e-4fde-a5ae-bb97adc1e072
STATUS:CONFIRMED
LAST-MODIFIED:20241130T172938Z
DESCRIPTION:2ème ligue Hommes Groupe 1\, Tours 1&2\nBegegnungs-Nr: 0\nHeim: Romanel\nGast: Sion\n\nAdresse: Ch des Epinettes 1\, 1032 Romanel-sur-Lausanne\n
LOCATION:Ch des Epinettes 1\, 1032 Romanel-sur-Lausanne
CATEGORIES:Saison 2024/25
END:VEVENT
BEGIN:VEVENT
DTSTAMP:20260424T002820Z
DTSTART;TZID=Europe/Berlin:20241108T200000
DTEND;TZID=Europe/Berlin:20241108T230000
SUMMARY:ME L2 Gr 1\, Tours 1&2 Rossens IV vs Sion (0)
UID:9ccb07e5-5ba7-4396-b8cc-0a2b565d42a6
STATUS:CONFIRMED
LAST-MODIFIED:20241110T153648Z
DESCRIPTION:2ème ligue Hommes Groupe 1\, Tours 1&2\nBegegnungs-Nr: 0\nHeim: Rossens IV\nGast: Sion\n\nAdresse: Route du Jordil 14\, 1728 Rossens\n
LOCATION:Route du Jordil 14\, 1728 Rossens
CATEGORIES:Saison 2024/25
END:VEVENT
BEGIN:VEVENT
DTSTAMP:20260424T002820Z
DTSTART;TZID=Europe/Berlin:20240919T200000
DTEND;TZID=Europe/Berlin:20240919T230000
SUMMARY:ME L2 Gr 1\, Tours 1&2 Vevey III vs Sion (0)
UID:1844077d-e138-437f-8da7-f99ab8c95741
STATUS:CONFIRMED
LAST-MODIFIED:20240920T063416Z
DESCRIPTION:2ème ligue Hommes Groupe 1\, Tours 1&2\nBegegnungs-Nr: 0\nHeim: Vevey III\nGast: Sion\n\nAdresse: Rue Louis-Meyer\, 1800 Vevey\n
LOCATION:Rue Louis-Meyer\, 1800 Vevey
CATEGORIES:Saison 2024/25
END:VEVENT
BEGIN:VEVENT
DTSTAMP:20260424T002820Z
DTSTART;TZID=Europe/Berlin:20240902T194500
DTEND;TZID=Europe/Berlin:20240902T224500
SUMMARY:ME L2 Gr 1\, Tours 1&2 Sierre III vs Sion (0)
UID:323c2859-d7ca-4df5-9bd3-bbb57d005645
STATUS:CONFIRMED
LAST-MODIFIED:20240905T111515Z
DESCRIPTION:2ème ligue Hommes Groupe 1\, Tours 1&2\nBegegnungs-Nr: 0\nHeim: Sierre III\nGast: Sion\n\nAdresse: Rte des Liddes 6\, 3960 Sierre\n
LOCATION:Rte des Liddes 6\, 3960 Sierre
CATEGORIES:Saison 2024/25
END:VEVENT
BEGIN:VEVENT
DTSTAMP:20260424T002820Z
DTSTART;TZID=Europe/Berlin:20250508T200000
DTEND;TZID=Europe/Berlin:20250508T230000
SUMMARY:ME L2 Gr 1\, Tours 3&4 Vevey III vs Sion (0)
UID:fb8bc52d-00ba-4b2e-9107-0bbeadd62e03
STATUS:CONFIRMED
LAST-MODIFIED:20250509T150130Z
DESCRIPTION:2ème ligue Hommes Groupe 1\, Tours 3&4\nBegegnungs-Nr: 0\nHeim: Vevey III\nGast: Sion\n\nAdresse: Rue Louis-Meyer\, 1800 Vevey\n
LOCATION:Rue Louis-Meyer\, 1800 Vevey
CATEGORIES:Saison 2024/25
END:VEVENT
BEGIN:VEVENT
DTSTAMP:20260424T002820Z
DTSTART;TZID=Europe/Berlin:20250429T200000
DTEND;TZID=Europe/Berlin:20250429T230000
SUMMARY:ME L2 Gr 1\, Tours 3&4 Martigny II vs Sion (0)
UID:1e04dbb1-36f2-4814-8084-eef282a6bca4
STATUS:CONFIRMED
LAST-MODIFIED:20250430T210444Z
DESCRIPTION:2ème ligue Hommes Groupe 1\, Tours 3&4\nBegegnungs-Nr: 0\nHeim: Martigny II\nGast: Sion\n\nAdresse: Rue des Ecoles 9\, 1920 Martigny\n
LOCATION:Rue des Ecoles 9\, 1920 Martigny
CATEGORIES:Saison 2024/25
END:VEVENT
BEGIN:VEVENT
DTSTAMP:20260424T002820Z
DTSTART;TZID=Europe/Berlin:20250310T194500
DTEND;TZID=Europe/Berlin:20250310T224500
SUMMARY:ME L2 Gr 1\, Tours 3&4 Sierre III vs Sion (0)
UID:365418ca-bb4a-4256-a3d1-cff64dca1419
STATUS:CONFIRMED
LAST-MODIFIED:20250310T233117Z
DESCRIPTION:2ème ligue Hommes Groupe 1\, Tours 3&4\nBegegnungs-Nr: 0\nHeim: Sierre III\nGast: Sion\n\nAdresse: Rte des Liddes 6\, 3960 Sierre\n
LOCATION:Rte des Liddes 6\, 3960 Sierre
CATEGORIES:Saison 2024/25
END:VEVENT
BEGIN:VEVENT
DTSTAMP:20260424T002820Z
DTSTART;TZID=Europe/Berlin:20250212T200000
DTEND;TZID=Europe/Berlin:20250212T230000
SUMMARY:ME L2 Gr 1\, Tours 3&4 Grône vs Sion (0)
UID:1cc5ef63-f0a9-4e43-8170-28994a0baff2
STATUS:CONFIRMED
LAST-MODIFIED:20250216T182636Z
DESCRIPTION:2ème ligue Hommes Groupe 1\, Tours 3&4\nBegegnungs-Nr: 0\nHeim: Grône\nGast: Sion\n\nAdresse:  Rue Centrale\,  \, Rue de la Piscine\, \, 3979 Grône\n
LOCATION: Rue Centrale\,  \, Rue de la Piscine\, \, 3979 Grône
CATEGORIES:Saison 2024/25
END:VEVENT
BEGIN:VEVENT
DTSTAMP:20260424T002820Z
DTSTART;TZID=Europe/Berlin:20250129T200000
DTEND;TZID=Europe/Berlin:20250129T230000
SUMMARY:ME L2 Gr 1\, Tours 3&4 Yvorne vs Sion (0)
UID:bc28f417-4482-407e-b64a-7a3285cdcacf
STATUS:CONFIRMED
LAST-MODIFIED:20250130T103844Z
DESCRIPTION:2ème ligue Hommes Groupe 1\, Tours 3&4\nBegegnungs-Nr: 0\nHeim: Yvorne\nGast: Sion\n\nAdresse: Les Maisons Neuves 38\, 1853 Yvorne\n
LOCATION:Les Maisons Neuves 38\, 1853 Yvorne
CATEGORIES:Saison 2024/25
END:VEVENT
END:VCALENDAR
