BEGIN:VCALENDAR
PRODID:-//nuDatenautomaten//framework iCal4j //DE
VERSION:2.0
CALSCALE:GREGORIAN
BEGIN:VTIMEZONE
TZID:Europe/Berlin
LAST-MODIFIED:20260306T231828Z
TZURL:https://www.tzurl.org/zoneinfo/Europe/Berlin
X-LIC-LOCATION:Europe/Berlin
X-PROLEPTIC-TZNAME:LMT
BEGIN:STANDARD
TZNAME:CET
TZOFFSETFROM:+005328
TZOFFSETTO:+0100
DTSTART:18930401T000000
END:STANDARD
BEGIN:DAYLIGHT
TZNAME:CEST
TZOFFSETFROM:+0100
TZOFFSETTO:+0200
DTSTART:19160430T230000
RDATE:19400401T020000
RDATE:19430329T020000
RDATE:19460414T020000
RDATE:19470406T030000
RDATE:19480418T020000
RDATE:19490410T020000
RDATE:19800406T020000
END:DAYLIGHT
BEGIN:STANDARD
TZNAME:CET
TZOFFSETFROM:+0200
TZOFFSETTO:+0100
DTSTART:19161001T010000
RDATE:19421102T030000
RDATE:19431004T030000
RDATE:19441002T030000
RDATE:19451118T030000
RDATE:19461007T030000
END:STANDARD
BEGIN:DAYLIGHT
TZNAME:CEST
TZOFFSETFROM:+0100
TZOFFSETTO:+0200
DTSTART:19170416T020000
RRULE:FREQ=YEARLY;UNTIL=19180415T010000Z;BYMONTH=4;BYDAY=3MO
END:DAYLIGHT
BEGIN:STANDARD
TZNAME:CET
TZOFFSETFROM:+0200
TZOFFSETTO:+0100
DTSTART:19170917T030000
RRULE:FREQ=YEARLY;UNTIL=19180916T010000Z;BYMONTH=9;BYDAY=3MO
END:STANDARD
BEGIN:DAYLIGHT
TZNAME:CEST
TZOFFSETFROM:+0100
TZOFFSETTO:+0200
DTSTART:19440403T020000
RRULE:FREQ=YEARLY;UNTIL=19450402T010000Z;BYMONTH=4;BYDAY=1MO
END:DAYLIGHT
BEGIN:DAYLIGHT
TZNAME:CEMT
TZOFFSETFROM:+0200
TZOFFSETTO:+0300
DTSTART:19450524T020000
RDATE:19470511T030000
END:DAYLIGHT
BEGIN:DAYLIGHT
TZNAME:CEST
TZOFFSETFROM:+0300
TZOFFSETTO:+0200
DTSTART:19450924T030000
RDATE:19470629T030000
END:DAYLIGHT
BEGIN:STANDARD
TZNAME:CET
TZOFFSETFROM:+0100
TZOFFSETTO:+0100
DTSTART:19460101T000000
RDATE:19800101T000000
END:STANDARD
BEGIN:STANDARD
TZNAME:CET
TZOFFSETFROM:+0200
TZOFFSETTO:+0100
DTSTART:19471005T030000
RRULE:FREQ=YEARLY;UNTIL=19491002T010000Z;BYMONTH=10;BYDAY=1SU
END:STANDARD
BEGIN:STANDARD
TZNAME:CET
TZOFFSETFROM:+0200
TZOFFSETTO:+0100
DTSTART:19800928T030000
RRULE:FREQ=YEARLY;UNTIL=19950924T010000Z;BYMONTH=9;BYDAY=-1SU
END:STANDARD
BEGIN:DAYLIGHT
TZNAME:CEST
TZOFFSETFROM:+0100
TZOFFSETTO:+0200
DTSTART:19810329T020000
RRULE:FREQ=YEARLY;BYMONTH=3;BYDAY=-1SU
END:DAYLIGHT
BEGIN:STANDARD
TZNAME:CET
TZOFFSETFROM:+0200
TZOFFSETTO:+0100
DTSTART:19961027T030000
RRULE:FREQ=YEARLY;BYMONTH=10;BYDAY=-1SU
END:STANDARD
END:VTIMEZONE
BEGIN:VEVENT
DTSTAMP:20260423T190202Z
DTSTART;TZID=Europe/Berlin:20240831T143000
DTEND;TZID=Europe/Berlin:20240831T173000
SUMMARY:U17 Gr Schenkon vs Emmen (4)
UID:03a663c0-f38c-46fb-a1b1-c1688022dca2
STATUS:CONFIRMED
LAST-MODIFIED:20240905T114703Z
DESCRIPTION:U17\, Gruppenrunde\nBegegnungs-Nr: 4\nHeim: Schenkon\nGast: Emmen\n
LOCATION:
CATEGORIES:Saison 2024/25
END:VEVENT
BEGIN:VEVENT
DTSTAMP:20260423T190202Z
DTSTART;TZID=Europe/Berlin:20241214T143000
DTEND;TZID=Europe/Berlin:20241214T173000
SUMMARY:U17 Gr Schenkon vs Baar (9)
UID:6c6250df-1285-4f13-b547-be9bf0855c92
STATUS:CONFIRMED
LAST-MODIFIED:20241215T084754Z
DESCRIPTION:U17\, Gruppenrunde\nBegegnungs-Nr: 9\nHeim: Schenkon\nGast: Baar\n
LOCATION:
CATEGORIES:Saison 2024/25
END:VEVENT
BEGIN:VEVENT
DTSTAMP:20260423T190202Z
DTSTART;TZID=Europe/Berlin:20250315T143000
DTEND;TZID=Europe/Berlin:20250315T173000
SUMMARY:U17 F 1. Div Schenkon vs Emmen (2)
UID:fa6eac63-8d76-4308-a75d-8614588d6a1c
STATUS:CONFIRMED
LAST-MODIFIED:20250316T194303Z
DESCRIPTION:U17\,  Finalrunde\, 1. Division\nBegegnungs-Nr: 2\nHeim: Schenkon\nGast: Emmen\n
LOCATION:
CATEGORIES:Saison 2024/25
END:VEVENT
BEGIN:VEVENT
DTSTAMP:20260423T190202Z
DTSTART;TZID=Europe/Berlin:20240831T130000
DTEND;TZID=Europe/Berlin:20240831T160000
SUMMARY:U17 Gr Sarnen vs Schenkon (2)
UID:f2787bd0-3819-461b-9491-bcadd2b4d305
STATUS:CONFIRMED
LAST-MODIFIED:20240902T182342Z
DESCRIPTION:U17\, Gruppenrunde\nBegegnungs-Nr: 2\nHeim: Sarnen\nGast: Schenkon\n\nAdresse: Rütistrasse 3\, 6060 Sarnen\n
LOCATION:Rütistrasse 3\, 6060 Sarnen
CATEGORIES:Saison 2024/25
END:VEVENT
BEGIN:VEVENT
DTSTAMP:20260423T190202Z
DTSTART;TZID=Europe/Berlin:20241214T130000
DTEND;TZID=Europe/Berlin:20241214T160000
SUMMARY:U17 Gr Kriens vs Schenkon (14)
UID:70e62d12-6dfd-4ab9-98ff-f307f84dff14
STATUS:CONFIRMED
LAST-MODIFIED:20241215T085559Z
DESCRIPTION:U17\, Gruppenrunde\nBegegnungs-Nr: 14\nHeim: Kriens\nGast: Schenkon\n
LOCATION:
CATEGORIES:Saison 2024/25
END:VEVENT
BEGIN:VEVENT
DTSTAMP:20260423T190202Z
DTSTART;TZID=Europe/Berlin:20250315T130000
DTEND;TZID=Europe/Berlin:20250315T160000
SUMMARY:U17 F 1. Div Rapid Luzern vs Schenkon (4)
UID:8301dbd5-c2f1-4fba-bd56-75b2c6f7690a
STATUS:CONFIRMED
LAST-MODIFIED:20250316T194045Z
DESCRIPTION:U17\,  Finalrunde\, 1. Division\nBegegnungs-Nr: 4\nHeim: Rapid Luzern\nGast: Schenkon\n\nAdresse: Kreuzbuchstr. 60\, 6006 Luzern\n
LOCATION:Kreuzbuchstr. 60\, 6006 Luzern
CATEGORIES:Saison 2024/25
END:VEVENT
END:VCALENDAR
