BEGIN:VCALENDAR
PRODID:-//nuDatenautomaten//framework iCal4j //DE
VERSION:2.0
CALSCALE:GREGORIAN
BEGIN:VTIMEZONE
TZID:Europe/Berlin
LAST-MODIFIED:20260306T231828Z
TZURL:https://www.tzurl.org/zoneinfo/Europe/Berlin
X-LIC-LOCATION:Europe/Berlin
X-PROLEPTIC-TZNAME:LMT
BEGIN:STANDARD
TZNAME:CET
TZOFFSETFROM:+005328
TZOFFSETTO:+0100
DTSTART:18930401T000000
END:STANDARD
BEGIN:DAYLIGHT
TZNAME:CEST
TZOFFSETFROM:+0100
TZOFFSETTO:+0200
DTSTART:19160430T230000
RDATE:19400401T020000
RDATE:19430329T020000
RDATE:19460414T020000
RDATE:19470406T030000
RDATE:19480418T020000
RDATE:19490410T020000
RDATE:19800406T020000
END:DAYLIGHT
BEGIN:STANDARD
TZNAME:CET
TZOFFSETFROM:+0200
TZOFFSETTO:+0100
DTSTART:19161001T010000
RDATE:19421102T030000
RDATE:19431004T030000
RDATE:19441002T030000
RDATE:19451118T030000
RDATE:19461007T030000
END:STANDARD
BEGIN:DAYLIGHT
TZNAME:CEST
TZOFFSETFROM:+0100
TZOFFSETTO:+0200
DTSTART:19170416T020000
RRULE:FREQ=YEARLY;UNTIL=19180415T010000Z;BYMONTH=4;BYDAY=3MO
END:DAYLIGHT
BEGIN:STANDARD
TZNAME:CET
TZOFFSETFROM:+0200
TZOFFSETTO:+0100
DTSTART:19170917T030000
RRULE:FREQ=YEARLY;UNTIL=19180916T010000Z;BYMONTH=9;BYDAY=3MO
END:STANDARD
BEGIN:DAYLIGHT
TZNAME:CEST
TZOFFSETFROM:+0100
TZOFFSETTO:+0200
DTSTART:19440403T020000
RRULE:FREQ=YEARLY;UNTIL=19450402T010000Z;BYMONTH=4;BYDAY=1MO
END:DAYLIGHT
BEGIN:DAYLIGHT
TZNAME:CEMT
TZOFFSETFROM:+0200
TZOFFSETTO:+0300
DTSTART:19450524T020000
RDATE:19470511T030000
END:DAYLIGHT
BEGIN:DAYLIGHT
TZNAME:CEST
TZOFFSETFROM:+0300
TZOFFSETTO:+0200
DTSTART:19450924T030000
RDATE:19470629T030000
END:DAYLIGHT
BEGIN:STANDARD
TZNAME:CET
TZOFFSETFROM:+0100
TZOFFSETTO:+0100
DTSTART:19460101T000000
RDATE:19800101T000000
END:STANDARD
BEGIN:STANDARD
TZNAME:CET
TZOFFSETFROM:+0200
TZOFFSETTO:+0100
DTSTART:19471005T030000
RRULE:FREQ=YEARLY;UNTIL=19491002T010000Z;BYMONTH=10;BYDAY=1SU
END:STANDARD
BEGIN:STANDARD
TZNAME:CET
TZOFFSETFROM:+0200
TZOFFSETTO:+0100
DTSTART:19800928T030000
RRULE:FREQ=YEARLY;UNTIL=19950924T010000Z;BYMONTH=9;BYDAY=-1SU
END:STANDARD
BEGIN:DAYLIGHT
TZNAME:CEST
TZOFFSETFROM:+0100
TZOFFSETTO:+0200
DTSTART:19810329T020000
RRULE:FREQ=YEARLY;BYMONTH=3;BYDAY=-1SU
END:DAYLIGHT
BEGIN:STANDARD
TZNAME:CET
TZOFFSETFROM:+0200
TZOFFSETTO:+0100
DTSTART:19961027T030000
RRULE:FREQ=YEARLY;BYMONTH=10;BYDAY=-1SU
END:STANDARD
END:VTIMEZONE
BEGIN:VEVENT
DTSTAMP:20260423T175630Z
DTSTART;TZID=Europe/Berlin:20241024T200000
DTEND;TZID=Europe/Berlin:20241024T230000
SUMMARY:He 3. Liga Gr. 2 Reussbühl IV vs Zug IV (0)
UID:63f2ef4b-f4d1-459e-bb26-114cceb2e952
STATUS:CONFIRMED
LAST-MODIFIED:20241122T135709Z
DESCRIPTION:3. Liga Herren Gruppe 2\nBegegnungs-Nr: 0\nHeim: Reussbühl IV\nGast: Zug IV\n\nAdresse: Obermättlistrasse 44\, 6015 Luzern\n
LOCATION:Obermättlistrasse 44\, 6015 Luzern
CATEGORIES:Saison 2024/25
END:VEVENT
BEGIN:VEVENT
DTSTAMP:20260423T175630Z
DTSTART;TZID=Europe/Berlin:20240829T200000
DTEND;TZID=Europe/Berlin:20240829T230000
SUMMARY:He 3. Liga Gr. 2 Reussbühl IV vs Dierikon-Ebikon II (0)
UID:352027d1-ea0e-4ffb-b522-673461dc95a3
STATUS:CONFIRMED
LAST-MODIFIED:20240902T181844Z
DESCRIPTION:3. Liga Herren Gruppe 2\nBegegnungs-Nr: 0\nHeim: Reussbühl IV\nGast: Dierikon-Ebikon II\n\nAdresse: Obermättlistrasse 44\, 6015 Luzern\n
LOCATION:Obermättlistrasse 44\, 6015 Luzern
CATEGORIES:Saison 2024/25
END:VEVENT
BEGIN:VEVENT
DTSTAMP:20260423T175630Z
DTSTART;TZID=Europe/Berlin:20241219T200000
DTEND;TZID=Europe/Berlin:20241219T230000
SUMMARY:He 3. Liga Gr. 2 Reussbühl IV vs Emmen II (0)
UID:31442d52-9d4d-451f-8f7a-d87a77bd2531
STATUS:CONFIRMED
LAST-MODIFIED:20241223T171429Z
DESCRIPTION:3. Liga Herren Gruppe 2\nBegegnungs-Nr: 0\nHeim: Reussbühl IV\nGast: Emmen II\n\nAdresse: Obermättlistrasse 44\, 6015 Luzern\n
LOCATION:Obermättlistrasse 44\, 6015 Luzern
CATEGORIES:Saison 2024/25
END:VEVENT
BEGIN:VEVENT
DTSTAMP:20260423T175630Z
DTSTART;TZID=Europe/Berlin:20250116T200000
DTEND;TZID=Europe/Berlin:20250116T230000
SUMMARY:He 3. Liga Gr. 2 Reussbühl IV vs Goldau V (0)
UID:0b8a0dab-64bd-4a4b-89ae-83db748779f7
STATUS:CONFIRMED
LAST-MODIFIED:20250123T145453Z
DESCRIPTION:3. Liga Herren Gruppe 2\nBegegnungs-Nr: 0\nHeim: Reussbühl IV\nGast: Goldau V\n\nAdresse: Obermättlistrasse 44\, 6015 Luzern\n
LOCATION:Obermättlistrasse 44\, 6015 Luzern
CATEGORIES:Saison 2024/25
END:VEVENT
BEGIN:VEVENT
DTSTAMP:20260423T175630Z
DTSTART;TZID=Europe/Berlin:20250213T200000
DTEND;TZID=Europe/Berlin:20250213T230000
SUMMARY:He 3. Liga Gr. 2 Reussbühl IV vs Schenkon IV (0)
UID:5d73d3ee-71a2-4887-8e53-96f625afb66c
STATUS:CONFIRMED
LAST-MODIFIED:20250219T080839Z
DESCRIPTION:3. Liga Herren Gruppe 2\nBegegnungs-Nr: 0\nHeim: Reussbühl IV\nGast: Schenkon IV\n\nAdresse: Obermättlistrasse 44\, 6015 Luzern\n
LOCATION:Obermättlistrasse 44\, 6015 Luzern
CATEGORIES:Saison 2024/25
END:VEVENT
BEGIN:VEVENT
DTSTAMP:20260423T175630Z
DTSTART;TZID=Europe/Berlin:20241128T200000
DTEND;TZID=Europe/Berlin:20241128T230000
SUMMARY:He 3. Liga Gr. 2 Reussbühl IV vs Rothenburg (0)
UID:78ec3dfd-bf04-4c36-9a38-c9097478918e
STATUS:CONFIRMED
LAST-MODIFIED:20241129T103821Z
DESCRIPTION:3. Liga Herren Gruppe 2\nBegegnungs-Nr: 0\nHeim: Reussbühl IV\nGast: Rothenburg\n\nAdresse: Obermättlistrasse 44\, 6015 Luzern\n
LOCATION:Obermättlistrasse 44\, 6015 Luzern
CATEGORIES:Saison 2024/25
END:VEVENT
BEGIN:VEVENT
DTSTAMP:20260423T175630Z
DTSTART;TZID=Europe/Berlin:20240917T194500
DTEND;TZID=Europe/Berlin:20240917T224500
SUMMARY:He 3. Liga Gr. 2 Emmen II vs Reussbühl IV (0)
UID:be51a0a6-8729-475a-9883-8b5d8d04a04b
STATUS:CONFIRMED
LAST-MODIFIED:20240918T130423Z
DESCRIPTION:3. Liga Herren Gruppe 2\nBegegnungs-Nr: 0\nHeim: Emmen II\nGast: Reussbühl IV\n\nAdresse: Rüeggisingerstrasse 26\, 6020 Emmenbrücke\n
LOCATION:Rüeggisingerstrasse 26\, 6020 Emmenbrücke
CATEGORIES:Saison 2024/25
END:VEVENT
BEGIN:VEVENT
DTSTAMP:20260423T175630Z
DTSTART;TZID=Europe/Berlin:20241029T200000
DTEND;TZID=Europe/Berlin:20241029T230000
SUMMARY:He 3. Liga Gr. 2 Goldau V vs Reussbühl IV (0)
UID:3f7d0bfa-f5ff-45ee-a13a-379a491dab0e
STATUS:CONFIRMED
LAST-MODIFIED:20241106T133018Z
DESCRIPTION:3. Liga Herren Gruppe 2\nBegegnungs-Nr: 0\nHeim: Goldau V\nGast: Reussbühl IV\n\nAdresse: Zaystrasse\, 6410 Goldau\n
LOCATION:Zaystrasse\, 6410 Goldau
CATEGORIES:Saison 2024/25
END:VEVENT
BEGIN:VEVENT
DTSTAMP:20260423T175630Z
DTSTART;TZID=Europe/Berlin:20241122T201500
DTEND;TZID=Europe/Berlin:20241122T231500
SUMMARY:He 3. Liga Gr. 2 Schenkon IV vs Reussbühl IV (0)
UID:966b1802-05fa-4531-9c57-56b649782b99
STATUS:CONFIRMED
LAST-MODIFIED:20241129T103758Z
DESCRIPTION:3. Liga Herren Gruppe 2\nBegegnungs-Nr: 0\nHeim: Schenkon IV\nGast: Reussbühl IV\n6214 Schenkon\n
LOCATION:6214 Schenkon
CATEGORIES:Saison 2024/25
END:VEVENT
BEGIN:VEVENT
DTSTAMP:20260423T175630Z
DTSTART;TZID=Europe/Berlin:20250110T200000
DTEND;TZID=Europe/Berlin:20250110T230000
SUMMARY:He 3. Liga Gr. 2 Zug IV vs Reussbühl IV (0)
UID:a799f08c-a38c-4cdc-8647-ea7a7d8a8dcb
STATUS:CONFIRMED
LAST-MODIFIED:20250112T155153Z
DESCRIPTION:3. Liga Herren Gruppe 2\nBegegnungs-Nr: 0\nHeim: Zug IV\nGast: Reussbühl IV\n\nAdresse: Lüssiweg 24\, 6300 Zug\n
LOCATION:Lüssiweg 24\, 6300 Zug
CATEGORIES:Saison 2024/25
END:VEVENT
BEGIN:VEVENT
DTSTAMP:20260423T175630Z
DTSTART;TZID=Europe/Berlin:20250121T200000
DTEND;TZID=Europe/Berlin:20250121T230000
SUMMARY:He 3. Liga Gr. 2 Dierikon-Ebikon II vs Reussbühl IV (0)
UID:5082b4e8-2167-4175-ae98-fd2d15925e5b
STATUS:CONFIRMED
LAST-MODIFIED:20250123T145526Z
DESCRIPTION:3. Liga Herren Gruppe 2\nBegegnungs-Nr: 0\nHeim: Dierikon-Ebikon II\nGast: Reussbühl IV\n\nAdresse: Rigistrasse 14\, 6036 Dierikon\n
LOCATION:Rigistrasse 14\, 6036 Dierikon
CATEGORIES:Saison 2024/25
END:VEVENT
BEGIN:VEVENT
DTSTAMP:20260423T175630Z
DTSTART;TZID=Europe/Berlin:20250317T200000
DTEND;TZID=Europe/Berlin:20250317T230000
SUMMARY:He 3. Liga Gr. 2 Rothenburg vs Reussbühl IV (0)
UID:2b9c99d9-114b-4982-a242-529e0894d0be
STATUS:CONFIRMED
LAST-MODIFIED:20250320T183454Z
DESCRIPTION:3. Liga Herren Gruppe 2\nBegegnungs-Nr: 0\nHeim: Rothenburg\nGast: Reussbühl IV\n\nAdresse: Schulhausstrasse 6a\, 6023 Rothenburg\n
LOCATION:Schulhausstrasse 6a\, 6023 Rothenburg
CATEGORIES:Saison 2024/25
END:VEVENT
END:VCALENDAR
