BEGIN:VCALENDAR
PRODID:-//nuDatenautomaten//framework iCal4j //DE
VERSION:2.0
CALSCALE:GREGORIAN
BEGIN:VTIMEZONE
TZID:Europe/Berlin
LAST-MODIFIED:20260306T231828Z
TZURL:https://www.tzurl.org/zoneinfo/Europe/Berlin
X-LIC-LOCATION:Europe/Berlin
X-PROLEPTIC-TZNAME:LMT
BEGIN:STANDARD
TZNAME:CET
TZOFFSETFROM:+005328
TZOFFSETTO:+0100
DTSTART:18930401T000000
END:STANDARD
BEGIN:DAYLIGHT
TZNAME:CEST
TZOFFSETFROM:+0100
TZOFFSETTO:+0200
DTSTART:19160430T230000
RDATE:19400401T020000
RDATE:19430329T020000
RDATE:19460414T020000
RDATE:19470406T030000
RDATE:19480418T020000
RDATE:19490410T020000
RDATE:19800406T020000
END:DAYLIGHT
BEGIN:STANDARD
TZNAME:CET
TZOFFSETFROM:+0200
TZOFFSETTO:+0100
DTSTART:19161001T010000
RDATE:19421102T030000
RDATE:19431004T030000
RDATE:19441002T030000
RDATE:19451118T030000
RDATE:19461007T030000
END:STANDARD
BEGIN:DAYLIGHT
TZNAME:CEST
TZOFFSETFROM:+0100
TZOFFSETTO:+0200
DTSTART:19170416T020000
RRULE:FREQ=YEARLY;UNTIL=19180415T010000Z;BYMONTH=4;BYDAY=3MO
END:DAYLIGHT
BEGIN:STANDARD
TZNAME:CET
TZOFFSETFROM:+0200
TZOFFSETTO:+0100
DTSTART:19170917T030000
RRULE:FREQ=YEARLY;UNTIL=19180916T010000Z;BYMONTH=9;BYDAY=3MO
END:STANDARD
BEGIN:DAYLIGHT
TZNAME:CEST
TZOFFSETFROM:+0100
TZOFFSETTO:+0200
DTSTART:19440403T020000
RRULE:FREQ=YEARLY;UNTIL=19450402T010000Z;BYMONTH=4;BYDAY=1MO
END:DAYLIGHT
BEGIN:DAYLIGHT
TZNAME:CEMT
TZOFFSETFROM:+0200
TZOFFSETTO:+0300
DTSTART:19450524T020000
RDATE:19470511T030000
END:DAYLIGHT
BEGIN:DAYLIGHT
TZNAME:CEST
TZOFFSETFROM:+0300
TZOFFSETTO:+0200
DTSTART:19450924T030000
RDATE:19470629T030000
END:DAYLIGHT
BEGIN:STANDARD
TZNAME:CET
TZOFFSETFROM:+0100
TZOFFSETTO:+0100
DTSTART:19460101T000000
RDATE:19800101T000000
END:STANDARD
BEGIN:STANDARD
TZNAME:CET
TZOFFSETFROM:+0200
TZOFFSETTO:+0100
DTSTART:19471005T030000
RRULE:FREQ=YEARLY;UNTIL=19491002T010000Z;BYMONTH=10;BYDAY=1SU
END:STANDARD
BEGIN:STANDARD
TZNAME:CET
TZOFFSETFROM:+0200
TZOFFSETTO:+0100
DTSTART:19800928T030000
RRULE:FREQ=YEARLY;UNTIL=19950924T010000Z;BYMONTH=9;BYDAY=-1SU
END:STANDARD
BEGIN:DAYLIGHT
TZNAME:CEST
TZOFFSETFROM:+0100
TZOFFSETTO:+0200
DTSTART:19810329T020000
RRULE:FREQ=YEARLY;BYMONTH=3;BYDAY=-1SU
END:DAYLIGHT
BEGIN:STANDARD
TZNAME:CET
TZOFFSETFROM:+0200
TZOFFSETTO:+0100
DTSTART:19961027T030000
RRULE:FREQ=YEARLY;BYMONTH=10;BYDAY=-1SU
END:STANDARD
END:VTIMEZONE
BEGIN:VEVENT
DTSTAMP:20260423T224557Z
DTSTART;TZID=Europe/Berlin:20250406T130000
DTEND;TZID=Europe/Berlin:20250406T160000
SUMMARY:HE NLC Gr. 4 Neuhausen II vs Zürich-Affoltern (25)
UID:f056db65-0e37-4d6b-9c8c-9d91e48a97ae
STATUS:CONFIRMED
LAST-MODIFIED:20250408T102621Z
DESCRIPTION:Herren Nationalliga C Gruppe 4\nBegegnungs-Nr: 25\nHeim: Neuhausen II\nGast: Zürich-Affoltern\n\nAdresse: Ebnatstrasse 35\, 8200 Schaffhausen\n
LOCATION:Ebnatstrasse 35\, 8200 Schaffhausen
CATEGORIES:Saison 2024/25
END:VEVENT
BEGIN:VEVENT
DTSTAMP:20260423T224557Z
DTSTART;TZID=Europe/Berlin:20250301T180000
DTEND;TZID=Europe/Berlin:20250301T210000
SUMMARY:HE NLC Gr. 4 Neuhausen II vs Affoltern A/A (13)
UID:461a3855-c91d-4fec-a3fa-2507fb4a56b5
STATUS:CONFIRMED
LAST-MODIFIED:20250303T071343Z
DESCRIPTION:Herren Nationalliga C Gruppe 4\nBegegnungs-Nr: 13\nHeim: Neuhausen II\nGast: Affoltern A/A\n\nAdresse: Ebnatstrasse 35\, 8200 Schaffhausen\n
LOCATION:Ebnatstrasse 35\, 8200 Schaffhausen
CATEGORIES:Saison 2024/25
END:VEVENT
BEGIN:VEVENT
DTSTAMP:20260423T224557Z
DTSTART;TZID=Europe/Berlin:20250308T180000
DTEND;TZID=Europe/Berlin:20250308T210000
SUMMARY:HE NLC Gr. 4 Neuhausen II vs Wetzikon (17)
UID:f409d90c-10fa-4f46-b9e6-51eaf293eb1c
STATUS:CONFIRMED
LAST-MODIFIED:20250310T103938Z
DESCRIPTION:Herren Nationalliga C Gruppe 4\nBegegnungs-Nr: 17\nHeim: Neuhausen II\nGast: Wetzikon\n\nAdresse: Ebnatstrasse 35\, 8200 Schaffhausen\n
LOCATION:Ebnatstrasse 35\, 8200 Schaffhausen
CATEGORIES:Saison 2024/25
END:VEVENT
BEGIN:VEVENT
DTSTAMP:20260423T224557Z
DTSTART;TZID=Europe/Berlin:20241208T110000
DTEND;TZID=Europe/Berlin:20241208T140000
SUMMARY:HE NLC Gr. 4 Neuhausen II vs Rapid Luzern III (25)
UID:d2f0ed2b-c0a6-4fbe-a991-b4c671ff90fa
STATUS:CONFIRMED
LAST-MODIFIED:20241209T112024Z
DESCRIPTION:Herren Nationalliga C Gruppe 4\nBegegnungs-Nr: 25\nHeim: Neuhausen II\nGast: Rapid Luzern III\n\nAdresse: Ebnatstrasse 35\, 8200 Schaffhausen\n
LOCATION:Ebnatstrasse 35\, 8200 Schaffhausen
CATEGORIES:Saison 2024/25
END:VEVENT
BEGIN:VEVENT
DTSTAMP:20260423T224557Z
DTSTART;TZID=Europe/Berlin:20241109T140000
DTEND;TZID=Europe/Berlin:20241109T170000
SUMMARY:HE NLC Gr. 4 Neuhausen II vs Young Stars ZH III (17)
UID:7fc8551b-66c9-4cfe-a52c-9188a9e97350
STATUS:CONFIRMED
LAST-MODIFIED:20241111T161339Z
DESCRIPTION:Herren Nationalliga C Gruppe 4\nBegegnungs-Nr: 17\nHeim: Neuhausen II\nGast: Young Stars ZH III\n\nAdresse: Ebnatstrasse 35\, 8200 Schaffhausen\n
LOCATION:Ebnatstrasse 35\, 8200 Schaffhausen
CATEGORIES:Saison 2024/25
END:VEVENT
BEGIN:VEVENT
DTSTAMP:20260423T224557Z
DTSTART;TZID=Europe/Berlin:20240907T190000
DTEND;TZID=Europe/Berlin:20240907T220000
SUMMARY:HE NLC Gr. 4 Neuhausen II vs Wädenswil (1)
UID:889cbf70-f5f2-4f31-91f0-85bddfdfac01
STATUS:CONFIRMED
LAST-MODIFIED:20240910T080424Z
DESCRIPTION:Herren Nationalliga C Gruppe 4\nBegegnungs-Nr: 1\nHeim: Neuhausen II\nGast: Wädenswil\n\nAdresse: Ebnatstrasse 35\, 8200 Schaffhausen\n
LOCATION:Ebnatstrasse 35\, 8200 Schaffhausen
CATEGORIES:Saison 2024/25
END:VEVENT
BEGIN:VEVENT
DTSTAMP:20260423T224557Z
DTSTART;TZID=Europe/Berlin:20241019T140000
DTEND;TZID=Europe/Berlin:20241019T170000
SUMMARY:HE NLC Gr. 4 Neuhausen II vs Horgen (11)
UID:44c6dda3-62ee-43b7-be4d-5c9655431934
STATUS:CONFIRMED
LAST-MODIFIED:20241021T100957Z
DESCRIPTION:Herren Nationalliga C Gruppe 4\nBegegnungs-Nr: 11\nHeim: Neuhausen II\nGast: Horgen\n\nAdresse: Ebnatstrasse 35\, 8200 Schaffhausen\n
LOCATION:Ebnatstrasse 35\, 8200 Schaffhausen
CATEGORIES:Saison 2024/25
END:VEVENT
BEGIN:VEVENT
DTSTAMP:20260423T224557Z
DTSTART;TZID=Europe/Berlin:20250111T190000
DTEND;TZID=Europe/Berlin:20250111T220000
SUMMARY:HE NLC Gr. 4 Wädenswil vs Neuhausen II (1)
UID:06c9f83e-03b8-49e3-bce5-fa0d3fd4c413
STATUS:CONFIRMED
LAST-MODIFIED:20250113T084135Z
DESCRIPTION:Herren Nationalliga C Gruppe 4\nBegegnungs-Nr: 1\nHeim: Wädenswil\nGast: Neuhausen II\n\nAdresse: Fuhrstrasse 16b\, 8820 Wädenswil\n
LOCATION:Fuhrstrasse 16b\, 8820 Wädenswil
CATEGORIES:Saison 2024/25
END:VEVENT
BEGIN:VEVENT
DTSTAMP:20260423T224557Z
DTSTART;TZID=Europe/Berlin:20250129T200000
DTEND;TZID=Europe/Berlin:20250129T230000
SUMMARY:HE NLC Gr. 4 Horgen vs Neuhausen II (7)
UID:5265ca32-09a7-431d-b5d2-210818264e82
STATUS:CONFIRMED
LAST-MODIFIED:20250203T093308Z
DESCRIPTION:Herren Nationalliga C Gruppe 4\nBegegnungs-Nr: 7\nHeim: Horgen\nGast: Neuhausen II\n\nAdresse: Seestrasse 110\, 8810 Horgen\n
LOCATION:Seestrasse 110\, 8810 Horgen
CATEGORIES:Saison 2024/25
END:VEVENT
BEGIN:VEVENT
DTSTAMP:20260423T224557Z
DTSTART;TZID=Europe/Berlin:20250405T173000
DTEND;TZID=Europe/Berlin:20250405T203000
SUMMARY:HE NLC Gr. 4 Young Stars ZH III vs Neuhausen II (21)
UID:c1ed089b-3c4b-401b-8ef7-8cf4aefbedd6
STATUS:CONFIRMED
LAST-MODIFIED:20250409T124659Z
DESCRIPTION:Herren Nationalliga C Gruppe 4\nBegegnungs-Nr: 21\nHeim: Young Stars ZH III\nGast: Neuhausen II\n\nAdresse: Seefeldstrasse 93\, 8008 Zürich\n
LOCATION:Seefeldstrasse 93\, 8008 Zürich
CATEGORIES:Saison 2024/25
END:VEVENT
BEGIN:VEVENT
DTSTAMP:20260423T224557Z
DTSTART;TZID=Europe/Berlin:20250208T130000
DTEND;TZID=Europe/Berlin:20250208T160000
SUMMARY:HE NLC Gr. 4 Rapid Luzern III vs Neuhausen II (9)
UID:b2b9ff5f-3d46-46f5-98fa-2d5c8f167b3d
STATUS:CONFIRMED
LAST-MODIFIED:20250210T073826Z
DESCRIPTION:Herren Nationalliga C Gruppe 4\nBegegnungs-Nr: 9\nHeim: Rapid Luzern III\nGast: Neuhausen II\n\nAdresse: Kreuzbuchstr. 60\, 6006 Luzern\n
LOCATION:Kreuzbuchstr. 60\, 6006 Luzern
CATEGORIES:Saison 2024/25
END:VEVENT
BEGIN:VEVENT
DTSTAMP:20260423T224557Z
DTSTART;TZID=Europe/Berlin:20240928T160000
DTEND;TZID=Europe/Berlin:20240928T190000
SUMMARY:HE NLC Gr. 4 Zürich-Affoltern vs Neuhausen II (5)
UID:96a6b5cf-002c-4a5c-8aee-5aab790b2b3e
STATUS:CONFIRMED
LAST-MODIFIED:20241001T072134Z
DESCRIPTION:Herren Nationalliga C Gruppe 4\nBegegnungs-Nr: 5\nHeim: Zürich-Affoltern\nGast: Neuhausen II\n\nAdresse: Rümlangstr. 89\, 8052 Zürich\n
LOCATION:Rümlangstr. 89\, 8052 Zürich
CATEGORIES:Saison 2024/25
END:VEVENT
BEGIN:VEVENT
DTSTAMP:20260423T224557Z
DTSTART;TZID=Europe/Berlin:20241116T191500
DTEND;TZID=Europe/Berlin:20241116T221500
SUMMARY:HE NLC Gr. 4 Wetzikon vs Neuhausen II (21)
UID:fac12894-b0e1-4ee1-bdd8-a6818b88f073
STATUS:CONFIRMED
LAST-MODIFIED:20241118T112142Z
DESCRIPTION:Herren Nationalliga C Gruppe 4\nBegegnungs-Nr: 21\nHeim: Wetzikon\nGast: Neuhausen II\n\nAdresse: Bahnhofstrasse 126\, 8620 Wetzikon\n
LOCATION:Bahnhofstrasse 126\, 8620 Wetzikon
CATEGORIES:Saison 2024/25
END:VEVENT
BEGIN:VEVENT
DTSTAMP:20260423T224557Z
DTSTART;TZID=Europe/Berlin:20241024T190000
DTEND;TZID=Europe/Berlin:20241024T220000
SUMMARY:HE NLC Gr. 4 Affoltern A/A vs Neuhausen II (13)
UID:0dd29b53-0172-4294-8593-944eddb98c29
STATUS:CONFIRMED
LAST-MODIFIED:20241031T082822Z
DESCRIPTION:Herren Nationalliga C Gruppe 4\nBegegnungs-Nr: 13\nHeim: Affoltern A/A\nGast: Neuhausen II\n\nAdresse: Butzenstrasse 8\, 8910 Affoltern am Albis\n
LOCATION:Butzenstrasse 8\, 8910 Affoltern am Albis
CATEGORIES:Saison 2024/25
END:VEVENT
END:VCALENDAR
