BEGIN:VCALENDAR
PRODID:-//nuDatenautomaten//framework iCal4j //DE
VERSION:2.0
CALSCALE:GREGORIAN
BEGIN:VTIMEZONE
TZID:Europe/Berlin
LAST-MODIFIED:20260306T231828Z
TZURL:https://www.tzurl.org/zoneinfo/Europe/Berlin
X-LIC-LOCATION:Europe/Berlin
X-PROLEPTIC-TZNAME:LMT
BEGIN:STANDARD
TZNAME:CET
TZOFFSETFROM:+005328
TZOFFSETTO:+0100
DTSTART:18930401T000000
END:STANDARD
BEGIN:DAYLIGHT
TZNAME:CEST
TZOFFSETFROM:+0100
TZOFFSETTO:+0200
DTSTART:19160430T230000
RDATE:19400401T020000
RDATE:19430329T020000
RDATE:19460414T020000
RDATE:19470406T030000
RDATE:19480418T020000
RDATE:19490410T020000
RDATE:19800406T020000
END:DAYLIGHT
BEGIN:STANDARD
TZNAME:CET
TZOFFSETFROM:+0200
TZOFFSETTO:+0100
DTSTART:19161001T010000
RDATE:19421102T030000
RDATE:19431004T030000
RDATE:19441002T030000
RDATE:19451118T030000
RDATE:19461007T030000
END:STANDARD
BEGIN:DAYLIGHT
TZNAME:CEST
TZOFFSETFROM:+0100
TZOFFSETTO:+0200
DTSTART:19170416T020000
RRULE:FREQ=YEARLY;UNTIL=19180415T010000Z;BYMONTH=4;BYDAY=3MO
END:DAYLIGHT
BEGIN:STANDARD
TZNAME:CET
TZOFFSETFROM:+0200
TZOFFSETTO:+0100
DTSTART:19170917T030000
RRULE:FREQ=YEARLY;UNTIL=19180916T010000Z;BYMONTH=9;BYDAY=3MO
END:STANDARD
BEGIN:DAYLIGHT
TZNAME:CEST
TZOFFSETFROM:+0100
TZOFFSETTO:+0200
DTSTART:19440403T020000
RRULE:FREQ=YEARLY;UNTIL=19450402T010000Z;BYMONTH=4;BYDAY=1MO
END:DAYLIGHT
BEGIN:DAYLIGHT
TZNAME:CEMT
TZOFFSETFROM:+0200
TZOFFSETTO:+0300
DTSTART:19450524T020000
RDATE:19470511T030000
END:DAYLIGHT
BEGIN:DAYLIGHT
TZNAME:CEST
TZOFFSETFROM:+0300
TZOFFSETTO:+0200
DTSTART:19450924T030000
RDATE:19470629T030000
END:DAYLIGHT
BEGIN:STANDARD
TZNAME:CET
TZOFFSETFROM:+0100
TZOFFSETTO:+0100
DTSTART:19460101T000000
RDATE:19800101T000000
END:STANDARD
BEGIN:STANDARD
TZNAME:CET
TZOFFSETFROM:+0200
TZOFFSETTO:+0100
DTSTART:19471005T030000
RRULE:FREQ=YEARLY;UNTIL=19491002T010000Z;BYMONTH=10;BYDAY=1SU
END:STANDARD
BEGIN:STANDARD
TZNAME:CET
TZOFFSETFROM:+0200
TZOFFSETTO:+0100
DTSTART:19800928T030000
RRULE:FREQ=YEARLY;UNTIL=19950924T010000Z;BYMONTH=9;BYDAY=-1SU
END:STANDARD
BEGIN:DAYLIGHT
TZNAME:CEST
TZOFFSETFROM:+0100
TZOFFSETTO:+0200
DTSTART:19810329T020000
RRULE:FREQ=YEARLY;BYMONTH=3;BYDAY=-1SU
END:DAYLIGHT
BEGIN:STANDARD
TZNAME:CET
TZOFFSETFROM:+0200
TZOFFSETTO:+0100
DTSTART:19961027T030000
RRULE:FREQ=YEARLY;BYMONTH=10;BYDAY=-1SU
END:STANDARD
END:VTIMEZONE
BEGIN:VEVENT
DTSTAMP:20260424T062140Z
DTSTART;TZID=Europe/Berlin:20240917T193000
DTEND;TZID=Europe/Berlin:20240917T223000
SUMMARY:ME L1 Gr 1\, Tours 1&2 Avry-Rosé vs Collombey/Muraz (0)
UID:65d2fd91-fd44-400f-a7e5-a7f7b529fb50
STATUS:CONFIRMED
LAST-MODIFIED:20240918T202827Z
DESCRIPTION:1ère ligue Hommes Groupe 1\, Tours 1&2\nBegegnungs-Nr: 0\nHeim: Avry-Rosé\nGast: Collombey/Muraz\n\nAdresse: Route du Château 15\, 1754 Avry-sur-Matran\n
LOCATION:Route du Château 15\, 1754 Avry-sur-Matran
CATEGORIES:Saison 2024/25
END:VEVENT
BEGIN:VEVENT
DTSTAMP:20260424T062140Z
DTSTART;TZID=Europe/Berlin:20240910T193000
DTEND;TZID=Europe/Berlin:20240910T223000
SUMMARY:ME L1 Gr 1\, Tours 1&2 Avry-Rosé vs Forward-Morges (0)
UID:1d19d0a3-f2c6-4f70-96a1-63fb71eb5445
STATUS:CONFIRMED
LAST-MODIFIED:20240911T225713Z
DESCRIPTION:1ère ligue Hommes Groupe 1\, Tours 1&2\nBegegnungs-Nr: 0\nHeim: Avry-Rosé\nGast: Forward-Morges\n\nAdresse: Route du Château 15\, 1754 Avry-sur-Matran\n
LOCATION:Route du Château 15\, 1754 Avry-sur-Matran
CATEGORIES:Saison 2024/25
END:VEVENT
BEGIN:VEVENT
DTSTAMP:20260424T062140Z
DTSTART;TZID=Europe/Berlin:20241210T193000
DTEND;TZID=Europe/Berlin:20241210T223000
SUMMARY:ME L1 Gr 1\, Tours 1&2 Avry-Rosé vs Yvorne (0)
UID:4175e7f6-c931-4bfb-8ad5-66cf9c9a3c51
STATUS:CONFIRMED
LAST-MODIFIED:20241212T010902Z
DESCRIPTION:1ère ligue Hommes Groupe 1\, Tours 1&2\nBegegnungs-Nr: 0\nHeim: Avry-Rosé\nGast: Yvorne\n\nAdresse: Route du Château 15\, 1754 Avry-sur-Matran\n
LOCATION:Route du Château 15\, 1754 Avry-sur-Matran
CATEGORIES:Saison 2024/25
END:VEVENT
BEGIN:VEVENT
DTSTAMP:20260424T062140Z
DTSTART;TZID=Europe/Berlin:20241126T193000
DTEND;TZID=Europe/Berlin:20241126T223000
SUMMARY:ME L1 Gr 1\, Tours 1&2 Avry-Rosé vs Rossens II (0)
UID:e2c51cb5-ffe4-4a63-b190-e00dbb731e63
STATUS:CONFIRMED
LAST-MODIFIED:20241128T002919Z
DESCRIPTION:1ère ligue Hommes Groupe 1\, Tours 1&2\nBegegnungs-Nr: 0\nHeim: Avry-Rosé\nGast: Rossens II\n\nAdresse: Route du Château 15\, 1754 Avry-sur-Matran\n
LOCATION:Route du Château 15\, 1754 Avry-sur-Matran
CATEGORIES:Saison 2024/25
END:VEVENT
BEGIN:VEVENT
DTSTAMP:20260424T062140Z
DTSTART;TZID=Europe/Berlin:20241029T193000
DTEND;TZID=Europe/Berlin:20241029T223000
SUMMARY:ME L1 Gr 1\, Tours 1&2 Avry-Rosé vs Bulle III (0)
UID:00463007-8736-49c4-8741-5385e0e8a707
STATUS:CONFIRMED
LAST-MODIFIED:20241030T214543Z
DESCRIPTION:1ère ligue Hommes Groupe 1\, Tours 1&2\nBegegnungs-Nr: 0\nHeim: Avry-Rosé\nGast: Bulle III\n\nAdresse: Route du Château 15\, 1754 Avry-sur-Matran\n
LOCATION:Route du Château 15\, 1754 Avry-sur-Matran
CATEGORIES:Saison 2024/25
END:VEVENT
BEGIN:VEVENT
DTSTAMP:20260424T062140Z
DTSTART;TZID=Europe/Berlin:20250506T193000
DTEND;TZID=Europe/Berlin:20250506T223000
SUMMARY:ME L2 Gr 3\, Tours 3&4 Avry-Rosé vs Gland (0)
UID:980ab987-3668-4008-a382-de2be2c4db38
STATUS:CONFIRMED
LAST-MODIFIED:20250508T231005Z
DESCRIPTION:2ème ligue Hommes Groupe 3\, Tours 3&4\nBegegnungs-Nr: 0\nHeim: Avry-Rosé\nGast: Gland\n\nAdresse: Route du Château 15\, 1754 Avry-sur-Matran\n
LOCATION:Route du Château 15\, 1754 Avry-sur-Matran
CATEGORIES:Saison 2024/25
END:VEVENT
BEGIN:VEVENT
DTSTAMP:20260424T062140Z
DTSTART;TZID=Europe/Berlin:20250408T193000
DTEND;TZID=Europe/Berlin:20250408T223000
SUMMARY:ME L2 Gr 3\, Tours 3&4 Avry-Rosé vs Crissier II (0)
UID:565bee7e-5ed0-4a04-a601-139e8d9c8a77
STATUS:CONFIRMED
LAST-MODIFIED:20250409T180133Z
DESCRIPTION:2ème ligue Hommes Groupe 3\, Tours 3&4\nBegegnungs-Nr: 0\nHeim: Avry-Rosé\nGast: Crissier II\n\nAdresse: Route du Château 15\, 1754 Avry-sur-Matran\n
LOCATION:Route du Château 15\, 1754 Avry-sur-Matran
CATEGORIES:Saison 2024/25
END:VEVENT
BEGIN:VEVENT
DTSTAMP:20260424T062140Z
DTSTART;TZID=Europe/Berlin:20250311T193000
DTEND;TZID=Europe/Berlin:20250311T223000
SUMMARY:ME L2 Gr 3\, Tours 3&4 Avry-Rosé vs Eysins (0)
UID:408ce9b2-0ee5-4d55-950a-ca71a2b15dd2
STATUS:CONFIRMED
LAST-MODIFIED:20250312T102849Z
DESCRIPTION:2ème ligue Hommes Groupe 3\, Tours 3&4\nBegegnungs-Nr: 0\nHeim: Avry-Rosé\nGast: Eysins\n\nAdresse: Route du Château 15\, 1754 Avry-sur-Matran\n
LOCATION:Route du Château 15\, 1754 Avry-sur-Matran
CATEGORIES:Saison 2024/25
END:VEVENT
BEGIN:VEVENT
DTSTAMP:20260424T062140Z
DTSTART;TZID=Europe/Berlin:20250218T193000
DTEND;TZID=Europe/Berlin:20250218T223000
SUMMARY:ME L2 Gr 3\, Tours 3&4 Avry-Rosé vs Lausanne IV (0)
UID:4ac485c4-5dfd-4e46-bc29-43270855bc7d
STATUS:CONFIRMED
LAST-MODIFIED:20250219T101851Z
DESCRIPTION:2ème ligue Hommes Groupe 3\, Tours 3&4\nBegegnungs-Nr: 0\nHeim: Avry-Rosé\nGast: Lausanne IV\n\nAdresse: Route du Château 15\, 1754 Avry-sur-Matran\n
LOCATION:Route du Château 15\, 1754 Avry-sur-Matran
CATEGORIES:Saison 2024/25
END:VEVENT
BEGIN:VEVENT
DTSTAMP:20260424T062140Z
DTSTART;TZID=Europe/Berlin:20250128T193000
DTEND;TZID=Europe/Berlin:20250128T223000
SUMMARY:ME L2 Gr 3\, Tours 3&4 Avry-Rosé vs Forward-Morges III (0)
UID:22cf66a0-d5ea-4485-ab88-43e3b4a575af
STATUS:CONFIRMED
LAST-MODIFIED:20250129T233745Z
DESCRIPTION:2ème ligue Hommes Groupe 3\, Tours 3&4\nBegegnungs-Nr: 0\nHeim: Avry-Rosé\nGast: Forward-Morges III\n\nAdresse: Route du Château 15\, 1754 Avry-sur-Matran\n
LOCATION:Route du Château 15\, 1754 Avry-sur-Matran
CATEGORIES:Saison 2024/25
END:VEVENT
BEGIN:VEVENT
DTSTAMP:20260424T062140Z
DTSTART;TZID=Europe/Berlin:20240904T194500
DTEND;TZID=Europe/Berlin:20240904T224500
SUMMARY:ME L1 Gr 1\, Tours 1&2 Bulle III vs Avry-Rosé (0)
UID:ec3a40e2-619c-4d72-b04d-edb8af3f0160
STATUS:CONFIRMED
LAST-MODIFIED:20240907T122431Z
DESCRIPTION:1ère ligue Hommes Groupe 1\, Tours 1&2\nBegegnungs-Nr: 0\nHeim: Bulle III\nGast: Avry-Rosé\n\nAdresse: Rue du Stade 50\, 1630 Bulle\n
LOCATION:Rue du Stade 50\, 1630 Bulle
CATEGORIES:Saison 2024/25
END:VEVENT
BEGIN:VEVENT
DTSTAMP:20260424T062140Z
DTSTART;TZID=Europe/Berlin:20241124T170000
DTEND;TZID=Europe/Berlin:20241124T200000
SUMMARY:ME L1 Gr 1\, Tours 1&2 Collombey/Muraz vs Avry-Rosé (0)
UID:bc12356b-dff5-4604-a6c1-127011326c86
STATUS:CONFIRMED
LAST-MODIFIED:20241126T111829Z
DESCRIPTION:1ère ligue Hommes Groupe 1\, Tours 1&2\nBegegnungs-Nr: 0\nHeim: Collombey/Muraz\nGast: Avry-Rosé\n\nAdresse: Route du Montagnier 81\, 1868 Collombey\n
LOCATION:Route du Montagnier 81\, 1868 Collombey
CATEGORIES:Saison 2024/25
END:VEVENT
BEGIN:VEVENT
DTSTAMP:20260424T062140Z
DTSTART;TZID=Europe/Berlin:20241107T194500
DTEND;TZID=Europe/Berlin:20241107T224500
SUMMARY:ME L1 Gr 1\, Tours 1&2 Forward-Morges vs Avry-Rosé (0)
UID:46244e2b-6123-46c1-b216-7ce3137b2921
STATUS:CONFIRMED
LAST-MODIFIED:20241108T200448Z
DESCRIPTION:1ère ligue Hommes Groupe 1\, Tours 1&2\nBegegnungs-Nr: 0\nHeim: Forward-Morges\nGast: Avry-Rosé\n\nAdresse: Chemin de Tolochenaz\, 1110 Morges\n
LOCATION:Chemin de Tolochenaz\, 1110 Morges
CATEGORIES:Saison 2024/25
END:VEVENT
BEGIN:VEVENT
DTSTAMP:20260424T062140Z
DTSTART;TZID=Europe/Berlin:20241009T200000
DTEND;TZID=Europe/Berlin:20241009T230000
SUMMARY:ME L1 Gr 1\, Tours 1&2 Yvorne vs Avry-Rosé (0)
UID:249cfcac-1ebc-4fa9-a1c5-71bb89c11cf1
STATUS:CONFIRMED
LAST-MODIFIED:20241010T132035Z
DESCRIPTION:1ère ligue Hommes Groupe 1\, Tours 1&2\nBegegnungs-Nr: 0\nHeim: Yvorne\nGast: Avry-Rosé\n\nAdresse: Les Maisons Neuves 38\, 1853 Yvorne\n
LOCATION:Les Maisons Neuves 38\, 1853 Yvorne
CATEGORIES:Saison 2024/25
END:VEVENT
BEGIN:VEVENT
DTSTAMP:20260424T062140Z
DTSTART;TZID=Europe/Berlin:20240930T200000
DTEND;TZID=Europe/Berlin:20240930T230000
SUMMARY:ME L1 Gr 1\, Tours 1&2 Rossens II vs Avry-Rosé (0)
UID:a7c27278-9d3e-4578-8acf-5db1928c352a
STATUS:CONFIRMED
LAST-MODIFIED:20241001T215910Z
DESCRIPTION:1ère ligue Hommes Groupe 1\, Tours 1&2\nBegegnungs-Nr: 0\nHeim: Rossens II\nGast: Avry-Rosé\n\nAdresse: Route du Jordil 14\, 1728 Rossens\n
LOCATION:Route du Jordil 14\, 1728 Rossens
CATEGORIES:Saison 2024/25
END:VEVENT
BEGIN:VEVENT
DTSTAMP:20260424T062140Z
DTSTART;TZID=Europe/Berlin:20250507T200000
DTEND;TZID=Europe/Berlin:20250507T230000
SUMMARY:ME L2 Gr 3\, Tours 3&4 Lausanne IV vs Avry-Rosé (0)
UID:5beec3bc-6536-43a0-a26f-4aac59f45387
STATUS:CONFIRMED
LAST-MODIFIED:20250509T150210Z
DESCRIPTION:2ème ligue Hommes Groupe 3\, Tours 3&4\nBegegnungs-Nr: 0\nHeim: Lausanne IV\nGast: Avry-Rosé\n\nAdresse: Vaudoise Aréna\, Ch. du Viaduc 14\, 1008 Prilly\n
LOCATION:Vaudoise Aréna\, Ch. du Viaduc 14\, 1008 Prilly
CATEGORIES:Saison 2024/25
END:VEVENT
BEGIN:VEVENT
DTSTAMP:20260424T062140Z
DTSTART;TZID=Europe/Berlin:20250327T194500
DTEND;TZID=Europe/Berlin:20250327T224500
SUMMARY:ME L2 Gr 3\, Tours 3&4 Forward-Morges III vs Avry-Rosé (0)
UID:bcd39c55-39fc-40aa-8077-160492907908
STATUS:CONFIRMED
LAST-MODIFIED:20250328T175919Z
DESCRIPTION:2ème ligue Hommes Groupe 3\, Tours 3&4\nBegegnungs-Nr: 0\nHeim: Forward-Morges III\nGast: Avry-Rosé\n\nAdresse: Chemin de Tolochenaz\, 1110 Morges\n
LOCATION:Chemin de Tolochenaz\, 1110 Morges
CATEGORIES:Saison 2024/25
END:VEVENT
BEGIN:VEVENT
DTSTAMP:20260424T062140Z
DTSTART;TZID=Europe/Berlin:20250228T193000
DTEND;TZID=Europe/Berlin:20250228T223000
SUMMARY:ME L2 Gr 3\, Tours 3&4 Gland vs Avry-Rosé (0)
UID:fd02379d-6cf8-4561-a887-293f91c913f7
STATUS:CONFIRMED
LAST-MODIFIED:20250301T115910Z
DESCRIPTION:2ème ligue Hommes Groupe 3\, Tours 3&4\nBegegnungs-Nr: 0\nHeim: Gland\nGast: Avry-Rosé\n\nAdresse: Chemin de la Perroude 1\, 1196 Gland\n
LOCATION:Chemin de la Perroude 1\, 1196 Gland
CATEGORIES:Saison 2024/25
END:VEVENT
BEGIN:VEVENT
DTSTAMP:20260424T062140Z
DTSTART;TZID=Europe/Berlin:20250213T193000
DTEND;TZID=Europe/Berlin:20250213T223000
SUMMARY:ME L2 Gr 3\, Tours 3&4 Crissier II vs Avry-Rosé (0)
UID:898a9625-b8f0-4910-97e9-0de819d24ddb
STATUS:CONFIRMED
LAST-MODIFIED:20250214T134452Z
DESCRIPTION:2ème ligue Hommes Groupe 3\, Tours 3&4\nBegegnungs-Nr: 0\nHeim: Crissier II\nGast: Avry-Rosé\n\nAdresse: ch. des Oches du Mur\, 1023 Crissier\n
LOCATION:ch. des Oches du Mur\, 1023 Crissier
CATEGORIES:Saison 2024/25
END:VEVENT
BEGIN:VEVENT
DTSTAMP:20260424T062140Z
DTSTART;TZID=Europe/Berlin:20250122T200000
DTEND;TZID=Europe/Berlin:20250122T230000
SUMMARY:ME L2 Gr 3\, Tours 3&4 Eysins vs Avry-Rosé (0)
UID:26cc540a-b962-4f5b-a422-367f0216e23e
STATUS:CONFIRMED
LAST-MODIFIED:20250127T011640Z
DESCRIPTION:2ème ligue Hommes Groupe 3\, Tours 3&4\nBegegnungs-Nr: 0\nHeim: Eysins\nGast: Avry-Rosé\n\nAdresse: En Bellossiez 1\, 1262 Eysins\n
LOCATION:En Bellossiez 1\, 1262 Eysins
CATEGORIES:Saison 2024/25
END:VEVENT
END:VCALENDAR
