BEGIN:VCALENDAR
PRODID:-//nuDatenautomaten//framework iCal4j //DE
VERSION:2.0
CALSCALE:GREGORIAN
BEGIN:VTIMEZONE
TZID:Europe/Berlin
LAST-MODIFIED:20260306T231828Z
TZURL:https://www.tzurl.org/zoneinfo/Europe/Berlin
X-LIC-LOCATION:Europe/Berlin
X-PROLEPTIC-TZNAME:LMT
BEGIN:STANDARD
TZNAME:CET
TZOFFSETFROM:+005328
TZOFFSETTO:+0100
DTSTART:18930401T000000
END:STANDARD
BEGIN:DAYLIGHT
TZNAME:CEST
TZOFFSETFROM:+0100
TZOFFSETTO:+0200
DTSTART:19160430T230000
RDATE:19400401T020000
RDATE:19430329T020000
RDATE:19460414T020000
RDATE:19470406T030000
RDATE:19480418T020000
RDATE:19490410T020000
RDATE:19800406T020000
END:DAYLIGHT
BEGIN:STANDARD
TZNAME:CET
TZOFFSETFROM:+0200
TZOFFSETTO:+0100
DTSTART:19161001T010000
RDATE:19421102T030000
RDATE:19431004T030000
RDATE:19441002T030000
RDATE:19451118T030000
RDATE:19461007T030000
END:STANDARD
BEGIN:DAYLIGHT
TZNAME:CEST
TZOFFSETFROM:+0100
TZOFFSETTO:+0200
DTSTART:19170416T020000
RRULE:FREQ=YEARLY;UNTIL=19180415T010000Z;BYMONTH=4;BYDAY=3MO
END:DAYLIGHT
BEGIN:STANDARD
TZNAME:CET
TZOFFSETFROM:+0200
TZOFFSETTO:+0100
DTSTART:19170917T030000
RRULE:FREQ=YEARLY;UNTIL=19180916T010000Z;BYMONTH=9;BYDAY=3MO
END:STANDARD
BEGIN:DAYLIGHT
TZNAME:CEST
TZOFFSETFROM:+0100
TZOFFSETTO:+0200
DTSTART:19440403T020000
RRULE:FREQ=YEARLY;UNTIL=19450402T010000Z;BYMONTH=4;BYDAY=1MO
END:DAYLIGHT
BEGIN:DAYLIGHT
TZNAME:CEMT
TZOFFSETFROM:+0200
TZOFFSETTO:+0300
DTSTART:19450524T020000
RDATE:19470511T030000
END:DAYLIGHT
BEGIN:DAYLIGHT
TZNAME:CEST
TZOFFSETFROM:+0300
TZOFFSETTO:+0200
DTSTART:19450924T030000
RDATE:19470629T030000
END:DAYLIGHT
BEGIN:STANDARD
TZNAME:CET
TZOFFSETFROM:+0100
TZOFFSETTO:+0100
DTSTART:19460101T000000
RDATE:19800101T000000
END:STANDARD
BEGIN:STANDARD
TZNAME:CET
TZOFFSETFROM:+0200
TZOFFSETTO:+0100
DTSTART:19471005T030000
RRULE:FREQ=YEARLY;UNTIL=19491002T010000Z;BYMONTH=10;BYDAY=1SU
END:STANDARD
BEGIN:STANDARD
TZNAME:CET
TZOFFSETFROM:+0200
TZOFFSETTO:+0100
DTSTART:19800928T030000
RRULE:FREQ=YEARLY;UNTIL=19950924T010000Z;BYMONTH=9;BYDAY=-1SU
END:STANDARD
BEGIN:DAYLIGHT
TZNAME:CEST
TZOFFSETFROM:+0100
TZOFFSETTO:+0200
DTSTART:19810329T020000
RRULE:FREQ=YEARLY;BYMONTH=3;BYDAY=-1SU
END:DAYLIGHT
BEGIN:STANDARD
TZNAME:CET
TZOFFSETFROM:+0200
TZOFFSETTO:+0100
DTSTART:19961027T030000
RRULE:FREQ=YEARLY;BYMONTH=10;BYDAY=-1SU
END:STANDARD
END:VTIMEZONE
BEGIN:VEVENT
DTSTAMP:20260423T190749Z
DTSTART;TZID=Europe/Berlin:20240819T200000
DTEND;TZID=Europe/Berlin:20240819T230000
SUMMARY:He 3. Liga Gr. 4 Kriens VI vs Rothenburg III (0)
UID:f0a493f4-3e86-40c1-87a9-7bd9430f8bb5
STATUS:CONFIRMED
LAST-MODIFIED:20240904T091904Z
DESCRIPTION:3. Liga Herren Gruppe 4\nBegegnungs-Nr: 0\nHeim: Kriens VI\nGast: Rothenburg III\n\nAdresse: Krauerstrasse 1\, 6010 Kriens\n
LOCATION:Krauerstrasse 1\, 6010 Kriens
CATEGORIES:Saison 2024/25
END:VEVENT
BEGIN:VEVENT
DTSTAMP:20260423T190749Z
DTSTART;TZID=Europe/Berlin:20241105T200000
DTEND;TZID=Europe/Berlin:20241105T230000
SUMMARY:He 3. Liga Gr. 4 Kriens VI vs Goldau IV (0)
UID:26857b95-3d25-4e72-b3b4-7ceae4e41027
STATUS:CONFIRMED
LAST-MODIFIED:20241106T133145Z
DESCRIPTION:3. Liga Herren Gruppe 4\nBegegnungs-Nr: 0\nHeim: Kriens VI\nGast: Goldau IV\n\nAdresse: Krauerstrasse 1\, 6010 Kriens\n
LOCATION:Krauerstrasse 1\, 6010 Kriens
CATEGORIES:Saison 2024/25
END:VEVENT
BEGIN:VEVENT
DTSTAMP:20260423T190749Z
DTSTART;TZID=Europe/Berlin:20250121T200000
DTEND;TZID=Europe/Berlin:20250121T230000
SUMMARY:He 3. Liga Gr. 4 Kriens VI vs Sarnen III (0)
UID:53e2bc3d-b404-4cc1-930f-c651cd726571
STATUS:CONFIRMED
LAST-MODIFIED:20250123T145643Z
DESCRIPTION:3. Liga Herren Gruppe 4\nBegegnungs-Nr: 0\nHeim: Kriens VI\nGast: Sarnen III\n\nAdresse: Krauerstrasse 1\, 6010 Kriens\n
LOCATION:Krauerstrasse 1\, 6010 Kriens
CATEGORIES:Saison 2024/25
END:VEVENT
BEGIN:VEVENT
DTSTAMP:20260423T190749Z
DTSTART;TZID=Europe/Berlin:20241119T200000
DTEND;TZID=Europe/Berlin:20241119T230000
SUMMARY:He 3. Liga Gr. 4 Kriens VI vs Rapid Luzern VIII (0)
UID:80d49083-8b01-447b-ab9d-a002836c03e1
STATUS:CONFIRMED
LAST-MODIFIED:20241121T121200Z
DESCRIPTION:3. Liga Herren Gruppe 4\nBegegnungs-Nr: 0\nHeim: Kriens VI\nGast: Rapid Luzern VIII\n\nAdresse: Krauerstrasse 1\, 6010 Kriens\n
LOCATION:Krauerstrasse 1\, 6010 Kriens
CATEGORIES:Saison 2024/25
END:VEVENT
BEGIN:VEVENT
DTSTAMP:20260423T190749Z
DTSTART;TZID=Europe/Berlin:20250127T200000
DTEND;TZID=Europe/Berlin:20250127T230000
SUMMARY:He 3. Liga Gr. 4 Kriens VI vs Dierikon-Ebikon III (0)
UID:2c61fc20-dec5-4d39-afe0-6d9529329a62
STATUS:CONFIRMED
LAST-MODIFIED:20250204T204911Z
DESCRIPTION:3. Liga Herren Gruppe 4\nBegegnungs-Nr: 0\nHeim: Kriens VI\nGast: Dierikon-Ebikon III\n\nAdresse: Krauerstrasse 1\, 6010 Kriens\n
LOCATION:Krauerstrasse 1\, 6010 Kriens
CATEGORIES:Saison 2024/25
END:VEVENT
BEGIN:VEVENT
DTSTAMP:20260423T190749Z
DTSTART;TZID=Europe/Berlin:20241210T200000
DTEND;TZID=Europe/Berlin:20241210T230000
SUMMARY:He 3. Liga Gr. 4 Kriens VI vs Zug III (0)
UID:b0061e3b-2f95-4321-aba0-ce7dbfc5c5bc
STATUS:CONFIRMED
LAST-MODIFIED:20241217T140654Z
DESCRIPTION:3. Liga Herren Gruppe 4\nBegegnungs-Nr: 0\nHeim: Kriens VI\nGast: Zug III\n\nAdresse: Krauerstrasse 1\, 6010 Kriens\n
LOCATION:Krauerstrasse 1\, 6010 Kriens
CATEGORIES:Saison 2024/25
END:VEVENT
BEGIN:VEVENT
DTSTAMP:20260423T190749Z
DTSTART;TZID=Europe/Berlin:20240902T200000
DTEND;TZID=Europe/Berlin:20240902T230000
SUMMARY:He 3. Liga Gr. 4 Zug III vs Kriens VI (0)
UID:54edbeab-4d89-44e1-9379-5031105eecea
STATUS:CONFIRMED
LAST-MODIFIED:20240911T140939Z
DESCRIPTION:3. Liga Herren Gruppe 4\nBegegnungs-Nr: 0\nHeim: Zug III\nGast: Kriens VI\n\nAdresse: Lüssiweg 24\, 6300 Zug\n
LOCATION:Lüssiweg 24\, 6300 Zug
CATEGORIES:Saison 2024/25
END:VEVENT
BEGIN:VEVENT
DTSTAMP:20260423T190749Z
DTSTART;TZID=Europe/Berlin:20241022T200000
DTEND;TZID=Europe/Berlin:20241022T230000
SUMMARY:He 3. Liga Gr. 4 Dierikon-Ebikon III vs Kriens VI (0)
UID:b494da5f-180e-4884-8e15-dddf46244cf5
STATUS:CONFIRMED
LAST-MODIFIED:20241027T093700Z
DESCRIPTION:3. Liga Herren Gruppe 4\nBegegnungs-Nr: 0\nHeim: Dierikon-Ebikon III\nGast: Kriens VI\n\nAdresse: Rigistrasse 14\, 6036 Dierikon\n
LOCATION:Rigistrasse 14\, 6036 Dierikon
CATEGORIES:Saison 2024/25
END:VEVENT
BEGIN:VEVENT
DTSTAMP:20260423T190749Z
DTSTART;TZID=Europe/Berlin:20241125T200000
DTEND;TZID=Europe/Berlin:20241125T230000
SUMMARY:He 3. Liga Gr. 4 Rothenburg III vs Kriens VI (0)
UID:ed2ec211-948e-4a99-9194-9a9f832c2307
STATUS:CONFIRMED
LAST-MODIFIED:20241129T104027Z
DESCRIPTION:3. Liga Herren Gruppe 4\nBegegnungs-Nr: 0\nHeim: Rothenburg III\nGast: Kriens VI\n\nAdresse: Schulhausstrasse 6a\, 6023 Rothenburg\n
LOCATION:Schulhausstrasse 6a\, 6023 Rothenburg
CATEGORIES:Saison 2024/25
END:VEVENT
BEGIN:VEVENT
DTSTAMP:20260423T190749Z
DTSTART;TZID=Europe/Berlin:20241111T201500
DTEND;TZID=Europe/Berlin:20241111T231500
SUMMARY:He 3. Liga Gr. 4 Sarnen III vs Kriens VI (0)
UID:106b7b50-777c-4d27-8c59-ed240521e157
STATUS:CONFIRMED
LAST-MODIFIED:20241113T144826Z
DESCRIPTION:3. Liga Herren Gruppe 4\nBegegnungs-Nr: 0\nHeim: Sarnen III\nGast: Kriens VI\n\nAdresse: Rütistrasse 3\, 6060 Sarnen\n
LOCATION:Rütistrasse 3\, 6060 Sarnen
CATEGORIES:Saison 2024/25
END:VEVENT
BEGIN:VEVENT
DTSTAMP:20260423T190749Z
DTSTART;TZID=Europe/Berlin:20250116T200000
DTEND;TZID=Europe/Berlin:20250116T230000
SUMMARY:He 3. Liga Gr. 4 Goldau IV vs Kriens VI (0)
UID:8e58cbec-e4d5-4a7d-9001-fd2486d89375
STATUS:CONFIRMED
LAST-MODIFIED:20250123T145622Z
DESCRIPTION:3. Liga Herren Gruppe 4\nBegegnungs-Nr: 0\nHeim: Goldau IV\nGast: Kriens VI\n\nAdresse: Zaystrasse\, 6410 Goldau\n
LOCATION:Zaystrasse\, 6410 Goldau
CATEGORIES:Saison 2024/25
END:VEVENT
BEGIN:VEVENT
DTSTAMP:20260423T190749Z
DTSTART;TZID=Europe/Berlin:20250222T153000
DTEND;TZID=Europe/Berlin:20250222T183000
SUMMARY:He 3. Liga Gr. 4 Rapid Luzern VIII vs Kriens VI (0)
UID:18379583-bc9f-43dc-b2b8-96ac26bb606d
STATUS:CONFIRMED
LAST-MODIFIED:20250226T102143Z
DESCRIPTION:3. Liga Herren Gruppe 4\nBegegnungs-Nr: 0\nHeim: Rapid Luzern VIII\nGast: Kriens VI\n\nAdresse: Kreuzbuchstr. 60\, 6006 Luzern\n
LOCATION:Kreuzbuchstr. 60\, 6006 Luzern
CATEGORIES:Saison 2024/25
END:VEVENT
END:VCALENDAR
