BEGIN:VCALENDAR
PRODID:-//nuDatenautomaten//framework iCal4j //DE
VERSION:2.0
CALSCALE:GREGORIAN
BEGIN:VTIMEZONE
TZID:Europe/Berlin
LAST-MODIFIED:20260306T231828Z
TZURL:https://www.tzurl.org/zoneinfo/Europe/Berlin
X-LIC-LOCATION:Europe/Berlin
X-PROLEPTIC-TZNAME:LMT
BEGIN:STANDARD
TZNAME:CET
TZOFFSETFROM:+005328
TZOFFSETTO:+0100
DTSTART:18930401T000000
END:STANDARD
BEGIN:DAYLIGHT
TZNAME:CEST
TZOFFSETFROM:+0100
TZOFFSETTO:+0200
DTSTART:19160430T230000
RDATE:19400401T020000
RDATE:19430329T020000
RDATE:19460414T020000
RDATE:19470406T030000
RDATE:19480418T020000
RDATE:19490410T020000
RDATE:19800406T020000
END:DAYLIGHT
BEGIN:STANDARD
TZNAME:CET
TZOFFSETFROM:+0200
TZOFFSETTO:+0100
DTSTART:19161001T010000
RDATE:19421102T030000
RDATE:19431004T030000
RDATE:19441002T030000
RDATE:19451118T030000
RDATE:19461007T030000
END:STANDARD
BEGIN:DAYLIGHT
TZNAME:CEST
TZOFFSETFROM:+0100
TZOFFSETTO:+0200
DTSTART:19170416T020000
RRULE:FREQ=YEARLY;UNTIL=19180415T010000Z;BYMONTH=4;BYDAY=3MO
END:DAYLIGHT
BEGIN:STANDARD
TZNAME:CET
TZOFFSETFROM:+0200
TZOFFSETTO:+0100
DTSTART:19170917T030000
RRULE:FREQ=YEARLY;UNTIL=19180916T010000Z;BYMONTH=9;BYDAY=3MO
END:STANDARD
BEGIN:DAYLIGHT
TZNAME:CEST
TZOFFSETFROM:+0100
TZOFFSETTO:+0200
DTSTART:19440403T020000
RRULE:FREQ=YEARLY;UNTIL=19450402T010000Z;BYMONTH=4;BYDAY=1MO
END:DAYLIGHT
BEGIN:DAYLIGHT
TZNAME:CEMT
TZOFFSETFROM:+0200
TZOFFSETTO:+0300
DTSTART:19450524T020000
RDATE:19470511T030000
END:DAYLIGHT
BEGIN:DAYLIGHT
TZNAME:CEST
TZOFFSETFROM:+0300
TZOFFSETTO:+0200
DTSTART:19450924T030000
RDATE:19470629T030000
END:DAYLIGHT
BEGIN:STANDARD
TZNAME:CET
TZOFFSETFROM:+0100
TZOFFSETTO:+0100
DTSTART:19460101T000000
RDATE:19800101T000000
END:STANDARD
BEGIN:STANDARD
TZNAME:CET
TZOFFSETFROM:+0200
TZOFFSETTO:+0100
DTSTART:19471005T030000
RRULE:FREQ=YEARLY;UNTIL=19491002T010000Z;BYMONTH=10;BYDAY=1SU
END:STANDARD
BEGIN:STANDARD
TZNAME:CET
TZOFFSETFROM:+0200
TZOFFSETTO:+0100
DTSTART:19800928T030000
RRULE:FREQ=YEARLY;UNTIL=19950924T010000Z;BYMONTH=9;BYDAY=-1SU
END:STANDARD
BEGIN:DAYLIGHT
TZNAME:CEST
TZOFFSETFROM:+0100
TZOFFSETTO:+0200
DTSTART:19810329T020000
RRULE:FREQ=YEARLY;BYMONTH=3;BYDAY=-1SU
END:DAYLIGHT
BEGIN:STANDARD
TZNAME:CET
TZOFFSETFROM:+0200
TZOFFSETTO:+0100
DTSTART:19961027T030000
RRULE:FREQ=YEARLY;BYMONTH=10;BYDAY=-1SU
END:STANDARD
END:VTIMEZONE
BEGIN:VEVENT
DTSTAMP:20260424T044540Z
DTSTART;TZID=Europe/Berlin:20240819T194500
DTEND;TZID=Europe/Berlin:20240819T224500
SUMMARY:HE 6. Liga Gr. 4 Zofingen IV vs Baden-Wettingen VII (0)
UID:881255e5-4eb2-4101-bf4d-f5734c749fa7
STATUS:CONFIRMED
LAST-MODIFIED:20240905T091508Z
DESCRIPTION:6. Liga Herren Gruppe 4\nBegegnungs-Nr: 0\nHeim: Zofingen IV\nGast: Baden-Wettingen VII\n\nAdresse: Kreuzplatz\, 4802 Strengelbach\n
LOCATION:Kreuzplatz\, 4802 Strengelbach
CATEGORIES:Saison 2024/25
END:VEVENT
BEGIN:VEVENT
DTSTAMP:20260424T044540Z
DTSTART;TZID=Europe/Berlin:20240916T194500
DTEND;TZID=Europe/Berlin:20240916T224500
SUMMARY:HE 6. Liga Gr. 4 Zofingen IV vs Schöftland V (0)
UID:2d42d2b1-8a1d-4794-a2c7-4aa3c595aabe
STATUS:CONFIRMED
LAST-MODIFIED:20240919T094732Z
DESCRIPTION:6. Liga Herren Gruppe 4\nBegegnungs-Nr: 0\nHeim: Zofingen IV\nGast: Schöftland V\n\nAdresse: Kreuzplatz\, 4802 Strengelbach\n
LOCATION:Kreuzplatz\, 4802 Strengelbach
CATEGORIES:Saison 2024/25
END:VEVENT
BEGIN:VEVENT
DTSTAMP:20260424T044540Z
DTSTART;TZID=Europe/Berlin:20241111T194500
DTEND;TZID=Europe/Berlin:20241111T224500
SUMMARY:HE 6. Liga Gr. 4 Zofingen IV vs Menziken II (0)
UID:2473f08a-ed4a-42df-8dcc-50410672ca2e
STATUS:CONFIRMED
LAST-MODIFIED:20241114T081954Z
DESCRIPTION:6. Liga Herren Gruppe 4\nBegegnungs-Nr: 0\nHeim: Zofingen IV\nGast: Menziken II\n\nAdresse: Kreuzplatz\, 4802 Strengelbach\n
LOCATION:Kreuzplatz\, 4802 Strengelbach
CATEGORIES:Saison 2024/25
END:VEVENT
BEGIN:VEVENT
DTSTAMP:20260424T044540Z
DTSTART;TZID=Europe/Berlin:20250113T194500
DTEND;TZID=Europe/Berlin:20250113T224500
SUMMARY:HE 6. Liga Gr. 4 Zofingen IV vs Bremgarten X (0)
UID:fe192b9b-08fd-4326-8387-2a1b60848298
STATUS:CONFIRMED
LAST-MODIFIED:20250114T120348Z
DESCRIPTION:6. Liga Herren Gruppe 4\nBegegnungs-Nr: 0\nHeim: Zofingen IV\nGast: Bremgarten X\n\nAdresse: Kreuzplatz\, 4802 Strengelbach\n
LOCATION:Kreuzplatz\, 4802 Strengelbach
CATEGORIES:Saison 2024/25
END:VEVENT
BEGIN:VEVENT
DTSTAMP:20260424T044540Z
DTSTART;TZID=Europe/Berlin:20250210T194500
DTEND;TZID=Europe/Berlin:20250210T224500
SUMMARY:HE 6. Liga Gr. 4 Zofingen IV vs Brugg IV (0)
UID:2eaff861-8b19-4096-8bc5-fa11e01b5e85
STATUS:CONFIRMED
LAST-MODIFIED:20250211T080630Z
DESCRIPTION:6. Liga Herren Gruppe 4\nBegegnungs-Nr: 0\nHeim: Zofingen IV\nGast: Brugg IV\n\nAdresse: Kreuzplatz\, 4802 Strengelbach\n
LOCATION:Kreuzplatz\, 4802 Strengelbach
CATEGORIES:Saison 2024/25
END:VEVENT
BEGIN:VEVENT
DTSTAMP:20260424T044540Z
DTSTART;TZID=Europe/Berlin:20250303T194500
DTEND;TZID=Europe/Berlin:20250303T224500
SUMMARY:HE 6. Liga Gr. 4 Zofingen IV vs Birrfeld (0)
UID:6305e8d5-021c-419f-9009-31947187316d
STATUS:CONFIRMED
LAST-MODIFIED:20250306T141823Z
DESCRIPTION:6. Liga Herren Gruppe 4\nBegegnungs-Nr: 0\nHeim: Zofingen IV\nGast: Birrfeld\n\nAdresse: Kreuzplatz\, 4802 Strengelbach\n
LOCATION:Kreuzplatz\, 4802 Strengelbach
CATEGORIES:Saison 2024/25
END:VEVENT
BEGIN:VEVENT
DTSTAMP:20260424T044540Z
DTSTART;TZID=Europe/Berlin:20250402T194500
DTEND;TZID=Europe/Berlin:20250402T224500
SUMMARY:HE 6. Liga Gr. 4 Zofingen IV vs Mellingen IV (0)
UID:091bf0bc-2f57-4255-b40b-df34cc67a151
STATUS:CONFIRMED
LAST-MODIFIED:20250404T090933Z
DESCRIPTION:6. Liga Herren Gruppe 4\nBegegnungs-Nr: 0\nHeim: Zofingen IV\nGast: Mellingen IV\n\nAdresse: Kreuzplatz\, 4802 Strengelbach\n
LOCATION:Kreuzplatz\, 4802 Strengelbach
CATEGORIES:Saison 2024/25
END:VEVENT
BEGIN:VEVENT
DTSTAMP:20260424T044540Z
DTSTART;TZID=Europe/Berlin:20241030T194500
DTEND;TZID=Europe/Berlin:20241030T224500
SUMMARY:HE 6. Liga Gr. 4 Birrfeld vs Zofingen IV (0)
UID:7cb8c158-7eac-498e-bf37-b3e178b3919b
STATUS:CONFIRMED
LAST-MODIFIED:20241104T091948Z
DESCRIPTION:6. Liga Herren Gruppe 4\nBegegnungs-Nr: 0\nHeim: Birrfeld\nGast: Zofingen IV\n\nAdresse: Zentralstrasse 30\, 5242 Birr\n
LOCATION:Zentralstrasse 30\, 5242 Birr
CATEGORIES:Saison 2024/25
END:VEVENT
BEGIN:VEVENT
DTSTAMP:20260424T044540Z
DTSTART;TZID=Europe/Berlin:20240906T201500
DTEND;TZID=Europe/Berlin:20240906T231500
SUMMARY:HE 6. Liga Gr. 4 Bremgarten X vs Zofingen IV (0)
UID:9f7b579d-d9b0-4726-9a48-bff832e3aca4
STATUS:CONFIRMED
LAST-MODIFIED:20240910T095237Z
DESCRIPTION:6. Liga Herren Gruppe 4\nBegegnungs-Nr: 0\nHeim: Bremgarten X\nGast: Zofingen IV\n\nAdresse: Badstrasse 3\, 5620 Bremgarten\n
LOCATION:Badstrasse 3\, 5620 Bremgarten
CATEGORIES:Saison 2024/25
END:VEVENT
BEGIN:VEVENT
DTSTAMP:20260424T044540Z
DTSTART;TZID=Europe/Berlin:20241015T194500
DTEND;TZID=Europe/Berlin:20241015T224500
SUMMARY:HE 6. Liga Gr. 4 Brugg IV vs Zofingen IV (0)
UID:a598cb67-94f8-44cf-9e38-4c0e594f7b9e
STATUS:CONFIRMED
LAST-MODIFIED:20241021T115121Z
DESCRIPTION:6. Liga Herren Gruppe 4\nBegegnungs-Nr: 0\nHeim: Brugg IV\nGast: Zofingen IV\n\nAdresse: Sommerhaldenstrasse 29\, 5200 Brugg/Lauffohr\n
LOCATION:Sommerhaldenstrasse 29\, 5200 Brugg/Lauffohr
CATEGORIES:Saison 2024/25
END:VEVENT
BEGIN:VEVENT
DTSTAMP:20260424T044540Z
DTSTART;TZID=Europe/Berlin:20241212T200000
DTEND;TZID=Europe/Berlin:20241212T230000
SUMMARY:HE 6. Liga Gr. 4 Mellingen IV vs Zofingen IV (0)
UID:a19e8312-ab2b-47f9-a53d-7e534d403040
STATUS:CONFIRMED
LAST-MODIFIED:20241213T101954Z
DESCRIPTION:6. Liga Herren Gruppe 4\nBegegnungs-Nr: 0\nHeim: Mellingen IV\nGast: Zofingen IV\n\nAdresse: Bahnhofstrasse 22\, 5507 Mellingen\n
LOCATION:Bahnhofstrasse 22\, 5507 Mellingen
CATEGORIES:Saison 2024/25
END:VEVENT
BEGIN:VEVENT
DTSTAMP:20260424T044540Z
DTSTART;TZID=Europe/Berlin:20241219T194500
DTEND;TZID=Europe/Berlin:20241219T224500
SUMMARY:HE 6. Liga Gr. 4 Baden-Wettingen VII vs Zofingen IV (0)
UID:3607c00f-8250-4a9d-886a-cb35e8db6fc6
STATUS:CONFIRMED
LAST-MODIFIED:20250106T084836Z
DESCRIPTION:6. Liga Herren Gruppe 4\nBegegnungs-Nr: 0\nHeim: Baden-Wettingen VII\nGast: Zofingen IV\n\nAdresse: Schulstrasse 14\, 5430 Wettingen\n
LOCATION:Schulstrasse 14\, 5430 Wettingen
CATEGORIES:Saison 2024/25
END:VEVENT
BEGIN:VEVENT
DTSTAMP:20260424T044540Z
DTSTART;TZID=Europe/Berlin:20250131T200000
DTEND;TZID=Europe/Berlin:20250131T230000
SUMMARY:HE 6. Liga Gr. 4 Schöftland V vs Zofingen IV (0)
UID:41385e9a-457a-4cb9-b4f8-2fda00da7c2a
STATUS:CONFIRMED
LAST-MODIFIED:20250203T090956Z
DESCRIPTION:6. Liga Herren Gruppe 4\nBegegnungs-Nr: 0\nHeim: Schöftland V\nGast: Zofingen IV\n\nAdresse: Birkenweg\, 5040 Schöftland\n
LOCATION:Birkenweg\, 5040 Schöftland
CATEGORIES:Saison 2024/25
END:VEVENT
BEGIN:VEVENT
DTSTAMP:20260424T044540Z
DTSTART;TZID=Europe/Berlin:20250312T200000
DTEND;TZID=Europe/Berlin:20250312T230000
SUMMARY:HE 6. Liga Gr. 4 Menziken II vs Zofingen IV (0)
UID:244eccc9-3f7c-4e11-b1e1-ddf008cfc9c8
STATUS:CONFIRMED
LAST-MODIFIED:20250314T123941Z
DESCRIPTION:6. Liga Herren Gruppe 4\nBegegnungs-Nr: 0\nHeim: Menziken II\nGast: Zofingen IV\n\nAdresse: Turnplatzstrasse\, 5737 Menziken\n
LOCATION:Turnplatzstrasse\, 5737 Menziken
CATEGORIES:Saison 2024/25
END:VEVENT
END:VCALENDAR
