BEGIN:VCALENDAR
PRODID:-//nuDatenautomaten//framework iCal4j //DE
VERSION:2.0
CALSCALE:GREGORIAN
BEGIN:VTIMEZONE
TZID:Europe/Berlin
LAST-MODIFIED:20260306T231828Z
TZURL:https://www.tzurl.org/zoneinfo/Europe/Berlin
X-LIC-LOCATION:Europe/Berlin
X-PROLEPTIC-TZNAME:LMT
BEGIN:STANDARD
TZNAME:CET
TZOFFSETFROM:+005328
TZOFFSETTO:+0100
DTSTART:18930401T000000
END:STANDARD
BEGIN:DAYLIGHT
TZNAME:CEST
TZOFFSETFROM:+0100
TZOFFSETTO:+0200
DTSTART:19160430T230000
RDATE:19400401T020000
RDATE:19430329T020000
RDATE:19460414T020000
RDATE:19470406T030000
RDATE:19480418T020000
RDATE:19490410T020000
RDATE:19800406T020000
END:DAYLIGHT
BEGIN:STANDARD
TZNAME:CET
TZOFFSETFROM:+0200
TZOFFSETTO:+0100
DTSTART:19161001T010000
RDATE:19421102T030000
RDATE:19431004T030000
RDATE:19441002T030000
RDATE:19451118T030000
RDATE:19461007T030000
END:STANDARD
BEGIN:DAYLIGHT
TZNAME:CEST
TZOFFSETFROM:+0100
TZOFFSETTO:+0200
DTSTART:19170416T020000
RRULE:FREQ=YEARLY;UNTIL=19180415T010000Z;BYMONTH=4;BYDAY=3MO
END:DAYLIGHT
BEGIN:STANDARD
TZNAME:CET
TZOFFSETFROM:+0200
TZOFFSETTO:+0100
DTSTART:19170917T030000
RRULE:FREQ=YEARLY;UNTIL=19180916T010000Z;BYMONTH=9;BYDAY=3MO
END:STANDARD
BEGIN:DAYLIGHT
TZNAME:CEST
TZOFFSETFROM:+0100
TZOFFSETTO:+0200
DTSTART:19440403T020000
RRULE:FREQ=YEARLY;UNTIL=19450402T010000Z;BYMONTH=4;BYDAY=1MO
END:DAYLIGHT
BEGIN:DAYLIGHT
TZNAME:CEMT
TZOFFSETFROM:+0200
TZOFFSETTO:+0300
DTSTART:19450524T020000
RDATE:19470511T030000
END:DAYLIGHT
BEGIN:DAYLIGHT
TZNAME:CEST
TZOFFSETFROM:+0300
TZOFFSETTO:+0200
DTSTART:19450924T030000
RDATE:19470629T030000
END:DAYLIGHT
BEGIN:STANDARD
TZNAME:CET
TZOFFSETFROM:+0100
TZOFFSETTO:+0100
DTSTART:19460101T000000
RDATE:19800101T000000
END:STANDARD
BEGIN:STANDARD
TZNAME:CET
TZOFFSETFROM:+0200
TZOFFSETTO:+0100
DTSTART:19471005T030000
RRULE:FREQ=YEARLY;UNTIL=19491002T010000Z;BYMONTH=10;BYDAY=1SU
END:STANDARD
BEGIN:STANDARD
TZNAME:CET
TZOFFSETFROM:+0200
TZOFFSETTO:+0100
DTSTART:19800928T030000
RRULE:FREQ=YEARLY;UNTIL=19950924T010000Z;BYMONTH=9;BYDAY=-1SU
END:STANDARD
BEGIN:DAYLIGHT
TZNAME:CEST
TZOFFSETFROM:+0100
TZOFFSETTO:+0200
DTSTART:19810329T020000
RRULE:FREQ=YEARLY;BYMONTH=3;BYDAY=-1SU
END:DAYLIGHT
BEGIN:STANDARD
TZNAME:CET
TZOFFSETFROM:+0200
TZOFFSETTO:+0100
DTSTART:19961027T030000
RRULE:FREQ=YEARLY;BYMONTH=10;BYDAY=-1SU
END:STANDARD
END:VTIMEZONE
BEGIN:VEVENT
DTSTAMP:20260424T062024Z
DTSTART;TZID=Europe/Berlin:20241214T150000
DTEND;TZID=Europe/Berlin:20241214T180000
SUMMARY:ME L2 Gr 2\, Tours 1&2 Rossens III vs Forward-Morges III (0)
UID:38cd97c9-b8c1-4928-9b1c-28022dc68040
STATUS:CONFIRMED
LAST-MODIFIED:20241215T005733Z
DESCRIPTION:2ème ligue Hommes Groupe 2\, Tours 1&2\nBegegnungs-Nr: 0\nHeim: Rossens III\nGast: Forward-Morges III\n\nAdresse: Route du Jordil 14\, 1728 Rossens\n
LOCATION:Route du Jordil 14\, 1728 Rossens
CATEGORIES:Saison 2024/25
END:VEVENT
BEGIN:VEVENT
DTSTAMP:20260424T062024Z
DTSTART;TZID=Europe/Berlin:20241203T200000
DTEND;TZID=Europe/Berlin:20241203T230000
SUMMARY:ME L2 Gr 2\, Tours 1&2 Rossens III vs Montriond-Ouchy  (0)
UID:2e7f4ac8-b95e-4766-8f9d-795ed0be2276
STATUS:CONFIRMED
LAST-MODIFIED:20241204T111921Z
DESCRIPTION:2ème ligue Hommes Groupe 2\, Tours 1&2\nBegegnungs-Nr: 0\nHeim: Rossens III\nGast: Montriond-Ouchy \n\nAdresse: Route du Jordil 14\, 1728 Rossens\n
LOCATION:Route du Jordil 14\, 1728 Rossens
CATEGORIES:Saison 2024/25
END:VEVENT
BEGIN:VEVENT
DTSTAMP:20260424T062024Z
DTSTART;TZID=Europe/Berlin:20241102T150000
DTEND;TZID=Europe/Berlin:20241102T180000
SUMMARY:ME L2 Gr 2\, Tours 1&2 Rossens III vs Yverdon II (0)
UID:c8b33b35-4ff8-4870-8d84-ddbf572a0c40
STATUS:CONFIRMED
LAST-MODIFIED:20241102T213049Z
DESCRIPTION:2ème ligue Hommes Groupe 2\, Tours 1&2\nBegegnungs-Nr: 0\nHeim: Rossens III\nGast: Yverdon II\n\nAdresse: Route du Jordil 14\, 1728 Rossens\n
LOCATION:Route du Jordil 14\, 1728 Rossens
CATEGORIES:Saison 2024/25
END:VEVENT
BEGIN:VEVENT
DTSTAMP:20260424T062024Z
DTSTART;TZID=Europe/Berlin:20240928T150000
DTEND;TZID=Europe/Berlin:20240928T180000
SUMMARY:ME L2 Gr 2\, Tours 1&2 Rossens III vs Fribourg IV (0)
UID:c3fff5c0-32e0-4f59-93be-39ea4decc840
STATUS:CONFIRMED
LAST-MODIFIED:20240928T191355Z
DESCRIPTION:2ème ligue Hommes Groupe 2\, Tours 1&2\nBegegnungs-Nr: 0\nHeim: Rossens III\nGast: Fribourg IV\n\nAdresse: Route du Jordil 14\, 1728 Rossens\n
LOCATION:Route du Jordil 14\, 1728 Rossens
CATEGORIES:Saison 2024/25
END:VEVENT
BEGIN:VEVENT
DTSTAMP:20260424T062024Z
DTSTART;TZID=Europe/Berlin:20240914T150000
DTEND;TZID=Europe/Berlin:20240914T180000
SUMMARY:ME L2 Gr 2\, Tours 1&2 Rossens III vs Mézières (0)
UID:069e9739-a868-49bc-a55a-5f194877fbf9
STATUS:CONFIRMED
LAST-MODIFIED:20240914T210333Z
DESCRIPTION:2ème ligue Hommes Groupe 2\, Tours 1&2\nBegegnungs-Nr: 0\nHeim: Rossens III\nGast: Mézières\n\nAdresse: Route du Jordil 14\, 1728 Rossens\n
LOCATION:Route du Jordil 14\, 1728 Rossens
CATEGORIES:Saison 2024/25
END:VEVENT
BEGIN:VEVENT
DTSTAMP:20260424T062024Z
DTSTART;TZID=Europe/Berlin:20250510T150000
DTEND;TZID=Europe/Berlin:20250510T180000
SUMMARY:ME L2 Gr 2\, Tours 3&4 Rossens III vs Lausanne V (0)
UID:f7a25f22-123c-4aae-93f7-2bf91c199996
STATUS:CONFIRMED
LAST-MODIFIED:20250510T174955Z
DESCRIPTION:2ème ligue Hommes Groupe 2\, Tours 3&4\nBegegnungs-Nr: 0\nHeim: Rossens III\nGast: Lausanne V\n\nAdresse: Route du Jordil 14\, 1728 Rossens\n
LOCATION:Route du Jordil 14\, 1728 Rossens
CATEGORIES:Saison 2024/25
END:VEVENT
BEGIN:VEVENT
DTSTAMP:20260424T062024Z
DTSTART;TZID=Europe/Berlin:20250425T200000
DTEND;TZID=Europe/Berlin:20250425T230000
SUMMARY:ME L2 Gr 2\, Tours 3&4 Rossens III vs Mézières (0)
UID:9e3b8a47-9156-490f-89b9-2c630a316eb7
STATUS:CONFIRMED
LAST-MODIFIED:20250426T104945Z
DESCRIPTION:2ème ligue Hommes Groupe 2\, Tours 3&4\nBegegnungs-Nr: 0\nHeim: Rossens III\nGast: Mézières\n\nAdresse: Route du Jordil 14\, 1728 Rossens\n
LOCATION:Route du Jordil 14\, 1728 Rossens
CATEGORIES:Saison 2024/25
END:VEVENT
BEGIN:VEVENT
DTSTAMP:20260424T062024Z
DTSTART;TZID=Europe/Berlin:20250405T150000
DTEND;TZID=Europe/Berlin:20250405T180000
SUMMARY:ME L2 Gr 2\, Tours 3&4 Rossens III vs Fribourg IV (0)
UID:b58933f3-2968-46d1-ba38-7fc1f284cd00
STATUS:CONFIRMED
LAST-MODIFIED:20250406T161811Z
DESCRIPTION:2ème ligue Hommes Groupe 2\, Tours 3&4\nBegegnungs-Nr: 0\nHeim: Rossens III\nGast: Fribourg IV\n\nAdresse: Route du Jordil 14\, 1728 Rossens\n
LOCATION:Route du Jordil 14\, 1728 Rossens
CATEGORIES:Saison 2024/25
END:VEVENT
BEGIN:VEVENT
DTSTAMP:20260424T062024Z
DTSTART;TZID=Europe/Berlin:20250211T200000
DTEND;TZID=Europe/Berlin:20250211T230000
SUMMARY:ME L2 Gr 2\, Tours 3&4 Rossens III vs Lausanne III (0)
UID:814ae3e5-80c3-48f2-9132-035431600b53
STATUS:CONFIRMED
LAST-MODIFIED:20250212T000908Z
DESCRIPTION:2ème ligue Hommes Groupe 2\, Tours 3&4\nBegegnungs-Nr: 0\nHeim: Rossens III\nGast: Lausanne III\n\nAdresse: Route du Jordil 14\, 1728 Rossens\n
LOCATION:Route du Jordil 14\, 1728 Rossens
CATEGORIES:Saison 2024/25
END:VEVENT
BEGIN:VEVENT
DTSTAMP:20260424T062024Z
DTSTART;TZID=Europe/Berlin:20250125T150000
DTEND;TZID=Europe/Berlin:20250125T180000
SUMMARY:ME L2 Gr 2\, Tours 3&4 Rossens III vs Fribourg III (0)
UID:fcf0fa6f-f699-416c-ad9a-025ed6ec324e
STATUS:CONFIRMED
LAST-MODIFIED:20250127T011613Z
DESCRIPTION:2ème ligue Hommes Groupe 2\, Tours 3&4\nBegegnungs-Nr: 0\nHeim: Rossens III\nGast: Fribourg III\n\nAdresse: Route du Jordil 14\, 1728 Rossens\n
LOCATION:Route du Jordil 14\, 1728 Rossens
CATEGORIES:Saison 2024/25
END:VEVENT
BEGIN:VEVENT
DTSTAMP:20260424T062024Z
DTSTART;TZID=Europe/Berlin:20250605T200000
DTEND;TZID=Europe/Berlin:20250605T230000
SUMMARY:ME L2 Finales Martigny II vs Rossens III (1)
UID:a66722cf-964b-4519-a389-d683f79e37b3
STATUS:CONFIRMED
LAST-MODIFIED:20250606T155137Z
DESCRIPTION:2ème ligue Hommes\, Finales\nBegegnungs-Nr: 1\nHeim: Martigny II\nGast: Rossens III\n
LOCATION:
CATEGORIES:Saison 2024/25
END:VEVENT
BEGIN:VEVENT
DTSTAMP:20260424T062024Z
DTSTART;TZID=Europe/Berlin:20241219T193000
DTEND;TZID=Europe/Berlin:20241219T223000
SUMMARY:ME L2 Gr 2\, Tours 1&2 Fribourg IV vs Rossens III (0)
UID:fe8da59e-0760-4ee0-81d7-eba7aeb934f5
STATUS:CONFIRMED
LAST-MODIFIED:20241221T110342Z
DESCRIPTION:2ème ligue Hommes Groupe 2\, Tours 1&2\nBegegnungs-Nr: 0\nHeim: Fribourg IV\nGast: Rossens III\n\nAdresse: Avenue Général Guisan 61\, 1700 Fribourg\n
LOCATION:Avenue Général Guisan 61\, 1700 Fribourg
CATEGORIES:Saison 2024/25
END:VEVENT
BEGIN:VEVENT
DTSTAMP:20260424T062024Z
DTSTART;TZID=Europe/Berlin:20241106T200000
DTEND;TZID=Europe/Berlin:20241106T230000
SUMMARY:ME L2 Gr 2\, Tours 1&2 Mézières vs Rossens III (0)
UID:ef6630b1-0949-4937-9857-139cb2d32f3d
STATUS:CONFIRMED
LAST-MODIFIED:20241107T130059Z
DESCRIPTION:2ème ligue Hommes Groupe 2\, Tours 1&2\nBegegnungs-Nr: 0\nHeim: Mézières\nGast: Rossens III\n\nAdresse: -\, 1083 Mézières\n
LOCATION:-\, 1083 Mézières
CATEGORIES:Saison 2024/25
END:VEVENT
BEGIN:VEVENT
DTSTAMP:20260424T062024Z
DTSTART;TZID=Europe/Berlin:20241010T194500
DTEND;TZID=Europe/Berlin:20241010T224500
SUMMARY:ME L2 Gr 2\, Tours 1&2 Forward-Morges III vs Rossens III (0)
UID:3ec2e011-6b0f-4335-8932-95ef3ca99318
STATUS:CONFIRMED
LAST-MODIFIED:20241011T185600Z
DESCRIPTION:2ème ligue Hommes Groupe 2\, Tours 1&2\nBegegnungs-Nr: 0\nHeim: Forward-Morges III\nGast: Rossens III\n\nAdresse: Chemin de Tolochenaz\, 1110 Morges\n
LOCATION:Chemin de Tolochenaz\, 1110 Morges
CATEGORIES:Saison 2024/25
END:VEVENT
BEGIN:VEVENT
DTSTAMP:20260424T062024Z
DTSTART;TZID=Europe/Berlin:20241004T193000
DTEND;TZID=Europe/Berlin:20241004T223000
SUMMARY:ME L2 Gr 2\, Tours 1&2 Montriond-Ouchy  vs Rossens III (0)
UID:91e57968-9762-44be-be8d-404c6ee8a272
STATUS:CONFIRMED
LAST-MODIFIED:20241007T063258Z
DESCRIPTION:2ème ligue Hommes Groupe 2\, Tours 1&2\nBegegnungs-Nr: 0\nHeim: Montriond-Ouchy \nGast: Rossens III\n\nAdresse: Avenue d'Ouchy 45\, 1006 Lausanne\n
LOCATION:Avenue d'Ouchy 45\, 1006 Lausanne
CATEGORIES:Saison 2024/25
END:VEVENT
BEGIN:VEVENT
DTSTAMP:20260424T062024Z
DTSTART;TZID=Europe/Berlin:20240902T201500
DTEND;TZID=Europe/Berlin:20240902T231500
SUMMARY:ME L2 Gr 2\, Tours 1&2 Yverdon II vs Rossens III (0)
UID:fc98fe23-f809-42a1-8cb2-b04b45f7447c
STATUS:CONFIRMED
LAST-MODIFIED:20240905T100032Z
DESCRIPTION:2ème ligue Hommes Groupe 2\, Tours 1&2\nBegegnungs-Nr: 0\nHeim: Yverdon II\nGast: Rossens III\n\nAdresse: Avenue des Quatre Marroniers 1\, 1400 Yverdon-les-Bains\n
LOCATION:Avenue des Quatre Marroniers 1\, 1400 Yverdon-les-Bains
CATEGORIES:Saison 2024/25
END:VEVENT
BEGIN:VEVENT
DTSTAMP:20260424T062024Z
DTSTART;TZID=Europe/Berlin:20250411T200000
DTEND;TZID=Europe/Berlin:20250411T230000
SUMMARY:ME L2 Gr 2\, Tours 3&4 Lausanne III vs Rossens III (0)
UID:8b0f5eb0-9332-48d6-9a15-3246cfee1887
STATUS:CONFIRMED
LAST-MODIFIED:20250414T154259Z
DESCRIPTION:2ème ligue Hommes Groupe 2\, Tours 3&4\nBegegnungs-Nr: 0\nHeim: Lausanne III\nGast: Rossens III\n\nAdresse: Vaudoise Aréna\, Ch. du Viaduc 14\, 1008 Prilly\n
LOCATION:Vaudoise Aréna\, Ch. du Viaduc 14\, 1008 Prilly
CATEGORIES:Saison 2024/25
END:VEVENT
BEGIN:VEVENT
DTSTAMP:20260424T062024Z
DTSTART;TZID=Europe/Berlin:20250313T193000
DTEND;TZID=Europe/Berlin:20250313T223000
SUMMARY:ME L2 Gr 2\, Tours 3&4 Fribourg III vs Rossens III (0)
UID:fe9c01d8-2976-4377-bfea-645f80da27b2
STATUS:CONFIRMED
LAST-MODIFIED:20250314T181605Z
DESCRIPTION:2ème ligue Hommes Groupe 2\, Tours 3&4\nBegegnungs-Nr: 0\nHeim: Fribourg III\nGast: Rossens III\n\nAdresse: Route du Centre sportif\, 1752 Villars-sur-Glâne\n
LOCATION:Route du Centre sportif\, 1752 Villars-sur-Glâne
CATEGORIES:Saison 2024/25
END:VEVENT
BEGIN:VEVENT
DTSTAMP:20260424T062024Z
DTSTART;TZID=Europe/Berlin:20250225T200000
DTEND;TZID=Europe/Berlin:20250225T230000
SUMMARY:ME L2 Gr 2\, Tours 3&4 Lausanne V vs Rossens III (0)
UID:1bb0cc8b-2465-451a-8ce3-1e3406f728ba
STATUS:CONFIRMED
LAST-MODIFIED:20250228T164826Z
DESCRIPTION:2ème ligue Hommes Groupe 2\, Tours 3&4\nBegegnungs-Nr: 0\nHeim: Lausanne V\nGast: Rossens III\n\nAdresse: Vaudoise Aréna\, Ch. du Viaduc 14\, 1008 Prilly\n
LOCATION:Vaudoise Aréna\, Ch. du Viaduc 14\, 1008 Prilly
CATEGORIES:Saison 2024/25
END:VEVENT
BEGIN:VEVENT
DTSTAMP:20260424T062024Z
DTSTART;TZID=Europe/Berlin:20250219T200000
DTEND;TZID=Europe/Berlin:20250219T230000
SUMMARY:ME L2 Gr 2\, Tours 3&4 Mézières vs Rossens III (0)
UID:2ddd6f3e-9052-4085-9e68-cb3b830250af
STATUS:CONFIRMED
LAST-MODIFIED:20250220T181849Z
DESCRIPTION:2ème ligue Hommes Groupe 2\, Tours 3&4\nBegegnungs-Nr: 0\nHeim: Mézières\nGast: Rossens III\n\nAdresse: -\, 1083 Mézières\n
LOCATION:-\, 1083 Mézières
CATEGORIES:Saison 2024/25
END:VEVENT
BEGIN:VEVENT
DTSTAMP:20260424T062024Z
DTSTART;TZID=Europe/Berlin:20250130T193000
DTEND;TZID=Europe/Berlin:20250130T223000
SUMMARY:ME L2 Gr 2\, Tours 3&4 Fribourg IV vs Rossens III (0)
UID:153f2a1f-889c-48d9-9bbf-00e3d4201045
STATUS:CONFIRMED
LAST-MODIFIED:20250201T200340Z
DESCRIPTION:2ème ligue Hommes Groupe 2\, Tours 3&4\nBegegnungs-Nr: 0\nHeim: Fribourg IV\nGast: Rossens III\n\nAdresse: Avenue Général Guisan 61\, 1700 Fribourg\n
LOCATION:Avenue Général Guisan 61\, 1700 Fribourg
CATEGORIES:Saison 2024/25
END:VEVENT
END:VCALENDAR
