BEGIN:VCALENDAR
PRODID:-//nuDatenautomaten//framework iCal4j //DE
VERSION:2.0
CALSCALE:GREGORIAN
BEGIN:VTIMEZONE
TZID:Europe/Berlin
LAST-MODIFIED:20260306T231828Z
TZURL:https://www.tzurl.org/zoneinfo/Europe/Berlin
X-LIC-LOCATION:Europe/Berlin
X-PROLEPTIC-TZNAME:LMT
BEGIN:STANDARD
TZNAME:CET
TZOFFSETFROM:+005328
TZOFFSETTO:+0100
DTSTART:18930401T000000
END:STANDARD
BEGIN:DAYLIGHT
TZNAME:CEST
TZOFFSETFROM:+0100
TZOFFSETTO:+0200
DTSTART:19160430T230000
RDATE:19400401T020000
RDATE:19430329T020000
RDATE:19460414T020000
RDATE:19470406T030000
RDATE:19480418T020000
RDATE:19490410T020000
RDATE:19800406T020000
END:DAYLIGHT
BEGIN:STANDARD
TZNAME:CET
TZOFFSETFROM:+0200
TZOFFSETTO:+0100
DTSTART:19161001T010000
RDATE:19421102T030000
RDATE:19431004T030000
RDATE:19441002T030000
RDATE:19451118T030000
RDATE:19461007T030000
END:STANDARD
BEGIN:DAYLIGHT
TZNAME:CEST
TZOFFSETFROM:+0100
TZOFFSETTO:+0200
DTSTART:19170416T020000
RRULE:FREQ=YEARLY;UNTIL=19180415T010000Z;BYMONTH=4;BYDAY=3MO
END:DAYLIGHT
BEGIN:STANDARD
TZNAME:CET
TZOFFSETFROM:+0200
TZOFFSETTO:+0100
DTSTART:19170917T030000
RRULE:FREQ=YEARLY;UNTIL=19180916T010000Z;BYMONTH=9;BYDAY=3MO
END:STANDARD
BEGIN:DAYLIGHT
TZNAME:CEST
TZOFFSETFROM:+0100
TZOFFSETTO:+0200
DTSTART:19440403T020000
RRULE:FREQ=YEARLY;UNTIL=19450402T010000Z;BYMONTH=4;BYDAY=1MO
END:DAYLIGHT
BEGIN:DAYLIGHT
TZNAME:CEMT
TZOFFSETFROM:+0200
TZOFFSETTO:+0300
DTSTART:19450524T020000
RDATE:19470511T030000
END:DAYLIGHT
BEGIN:DAYLIGHT
TZNAME:CEST
TZOFFSETFROM:+0300
TZOFFSETTO:+0200
DTSTART:19450924T030000
RDATE:19470629T030000
END:DAYLIGHT
BEGIN:STANDARD
TZNAME:CET
TZOFFSETFROM:+0100
TZOFFSETTO:+0100
DTSTART:19460101T000000
RDATE:19800101T000000
END:STANDARD
BEGIN:STANDARD
TZNAME:CET
TZOFFSETFROM:+0200
TZOFFSETTO:+0100
DTSTART:19471005T030000
RRULE:FREQ=YEARLY;UNTIL=19491002T010000Z;BYMONTH=10;BYDAY=1SU
END:STANDARD
BEGIN:STANDARD
TZNAME:CET
TZOFFSETFROM:+0200
TZOFFSETTO:+0100
DTSTART:19800928T030000
RRULE:FREQ=YEARLY;UNTIL=19950924T010000Z;BYMONTH=9;BYDAY=-1SU
END:STANDARD
BEGIN:DAYLIGHT
TZNAME:CEST
TZOFFSETFROM:+0100
TZOFFSETTO:+0200
DTSTART:19810329T020000
RRULE:FREQ=YEARLY;BYMONTH=3;BYDAY=-1SU
END:DAYLIGHT
BEGIN:STANDARD
TZNAME:CET
TZOFFSETFROM:+0200
TZOFFSETTO:+0100
DTSTART:19961027T030000
RRULE:FREQ=YEARLY;BYMONTH=10;BYDAY=-1SU
END:STANDARD
END:VTIMEZONE
BEGIN:VEVENT
DTSTAMP:20260423T190037Z
DTSTART;TZID=Europe/Berlin:20241022T201500
DTEND;TZID=Europe/Berlin:20241022T231500
SUMMARY:He 3. Liga Gr. 3 Schenkon III vs Willisau (0)
UID:b539711d-7638-4412-b15f-89797340c5ca
STATUS:CONFIRMED
LAST-MODIFIED:20241027T093334Z
DESCRIPTION:3. Liga Herren Gruppe 3\nBegegnungs-Nr: 0\nHeim: Schenkon III\nGast: Willisau\n6214 Schenkon\n
LOCATION:6214 Schenkon
CATEGORIES:Saison 2024/25
END:VEVENT
BEGIN:VEVENT
DTSTAMP:20260423T190037Z
DTSTART;TZID=Europe/Berlin:20241015T201500
DTEND;TZID=Europe/Berlin:20241015T231500
SUMMARY:He 3. Liga Gr. 3 Schenkon III vs Goldau III (0)
UID:2280416f-ecd7-45f9-bd90-0cae197de7c7
STATUS:CONFIRMED
LAST-MODIFIED:20241017T091922Z
DESCRIPTION:3. Liga Herren Gruppe 3\nBegegnungs-Nr: 0\nHeim: Schenkon III\nGast: Goldau III\n6214 Schenkon\n
LOCATION:6214 Schenkon
CATEGORIES:Saison 2024/25
END:VEVENT
BEGIN:VEVENT
DTSTAMP:20260423T190037Z
DTSTART;TZID=Europe/Berlin:20250114T201500
DTEND;TZID=Europe/Berlin:20250114T231500
SUMMARY:He 3. Liga Gr. 3 Schenkon III vs Rothenburg II (0)
UID:959b922b-876a-48c6-9802-03ae30e7534b
STATUS:CONFIRMED
LAST-MODIFIED:20250117T073637Z
DESCRIPTION:3. Liga Herren Gruppe 3\nBegegnungs-Nr: 0\nHeim: Schenkon III\nGast: Rothenburg II\n6214 Schenkon\n
LOCATION:6214 Schenkon
CATEGORIES:Saison 2024/25
END:VEVENT
BEGIN:VEVENT
DTSTAMP:20260423T190037Z
DTSTART;TZID=Europe/Berlin:20250218T201500
DTEND;TZID=Europe/Berlin:20250218T231500
SUMMARY:He 3. Liga Gr. 3 Schenkon III vs Buochs (0)
UID:a09b466a-f82e-4643-96f8-7f862df868dd
STATUS:CONFIRMED
LAST-MODIFIED:20250226T101732Z
DESCRIPTION:3. Liga Herren Gruppe 3\nBegegnungs-Nr: 0\nHeim: Schenkon III\nGast: Buochs\n6214 Schenkon\n
LOCATION:6214 Schenkon
CATEGORIES:Saison 2024/25
END:VEVENT
BEGIN:VEVENT
DTSTAMP:20260423T190037Z
DTSTART;TZID=Europe/Berlin:20250318T201500
DTEND;TZID=Europe/Berlin:20250318T231500
SUMMARY:He 3. Liga Gr. 3 Schenkon III vs Kriens V (0)
UID:e7e09cd9-428b-4b7d-8396-3af2143d7ccc
STATUS:CONFIRMED
LAST-MODIFIED:20250320T183652Z
DESCRIPTION:3. Liga Herren Gruppe 3\nBegegnungs-Nr: 0\nHeim: Schenkon III\nGast: Kriens V\n6214 Schenkon\n
LOCATION:6214 Schenkon
CATEGORIES:Saison 2024/25
END:VEVENT
BEGIN:VEVENT
DTSTAMP:20260423T190037Z
DTSTART;TZID=Europe/Berlin:20240903T201500
DTEND;TZID=Europe/Berlin:20240903T231500
SUMMARY:He 3. Liga Gr. 3 Schenkon III vs Rotkreuz II (0)
UID:7b963554-6a18-4c09-9e36-11623c6ce6f3
STATUS:CONFIRMED
LAST-MODIFIED:20240911T140923Z
DESCRIPTION:3. Liga Herren Gruppe 3\nBegegnungs-Nr: 0\nHeim: Schenkon III\nGast: Rotkreuz II\n6214 Schenkon\n
LOCATION:6214 Schenkon
CATEGORIES:Saison 2024/25
END:VEVENT
BEGIN:VEVENT
DTSTAMP:20260423T190037Z
DTSTART;TZID=Europe/Berlin:20250415T200000
DTEND;TZID=Europe/Berlin:20250415T230000
SUMMARY:He 3. Liga ES Schenkon III vs Zug III (0)
UID:168fb676-ea0c-43a7-b6e1-ab6ddb5a0e96
STATUS:CONFIRMED
LAST-MODIFIED:20250428T205411Z
DESCRIPTION:3. Liga Herren ES\nBegegnungs-Nr: 0\nHeim: Schenkon III\nGast: Zug III\n
LOCATION:
CATEGORIES:Saison 2024/25
END:VEVENT
BEGIN:VEVENT
DTSTAMP:20260423T190037Z
DTSTART;TZID=Europe/Berlin:20250520T201500
DTEND;TZID=Europe/Berlin:20250520T231500
SUMMARY:He 3. Liga ES Schenkon III vs Baar IV (0)
UID:957f22be-0063-4836-b805-c161d0c57509
STATUS:CONFIRMED
LAST-MODIFIED:20250603T141227Z
DESCRIPTION:3. Liga Herren ES\nBegegnungs-Nr: 0\nHeim: Schenkon III\nGast: Baar IV\n
LOCATION:
CATEGORIES:Saison 2024/25
END:VEVENT
BEGIN:VEVENT
DTSTAMP:20260423T190037Z
DTSTART;TZID=Europe/Berlin:20241029T200000
DTEND;TZID=Europe/Berlin:20241029T230000
SUMMARY:He 3. Liga Gr. 3 Rothenburg II vs Schenkon III (0)
UID:369371e8-53c8-4b05-adf3-25b9e1cf97c2
STATUS:CONFIRMED
LAST-MODIFIED:20241106T133052Z
DESCRIPTION:3. Liga Herren Gruppe 3\nBegegnungs-Nr: 0\nHeim: Rothenburg II\nGast: Schenkon III\n\nAdresse: Schulhausstrasse 6a\, 6023 Rothenburg\n
LOCATION:Schulhausstrasse 6a\, 6023 Rothenburg
CATEGORIES:Saison 2024/25
END:VEVENT
BEGIN:VEVENT
DTSTAMP:20260423T190037Z
DTSTART;TZID=Europe/Berlin:20241206T201500
DTEND;TZID=Europe/Berlin:20241206T231500
SUMMARY:He 3. Liga Gr. 3 Rotkreuz II vs Schenkon III (0)
UID:e995c34a-0357-4a07-b9d7-37029f6030fc
STATUS:CONFIRMED
LAST-MODIFIED:20241210T110129Z
DESCRIPTION:3. Liga Herren Gruppe 3\nBegegnungs-Nr: 0\nHeim: Rotkreuz II\nGast: Schenkon III\n\nAdresse: Buonaserstr. 23\, 6343 Rotkreuz\n
LOCATION:Buonaserstr. 23\, 6343 Rotkreuz
CATEGORIES:Saison 2024/25
END:VEVENT
BEGIN:VEVENT
DTSTAMP:20260423T190037Z
DTSTART;TZID=Europe/Berlin:20241118T200000
DTEND;TZID=Europe/Berlin:20241118T230000
SUMMARY:He 3. Liga Gr. 3 Buochs vs Schenkon III (0)
UID:d8bf86be-212b-4d68-a7da-3979b44988f7
STATUS:CONFIRMED
LAST-MODIFIED:20241121T121129Z
DESCRIPTION:3. Liga Herren Gruppe 3\nBegegnungs-Nr: 0\nHeim: Buochs\nGast: Schenkon III\n\nAdresse: -\, Buochs\n
LOCATION:-\, Buochs
CATEGORIES:Saison 2024/25
END:VEVENT
BEGIN:VEVENT
DTSTAMP:20260423T190037Z
DTSTART;TZID=Europe/Berlin:20241125T200000
DTEND;TZID=Europe/Berlin:20241125T230000
SUMMARY:He 3. Liga Gr. 3 Kriens V vs Schenkon III (0)
UID:77435ca5-ec9e-4d52-a7fa-1a502f96e5eb
STATUS:CONFIRMED
LAST-MODIFIED:20241129T103832Z
DESCRIPTION:3. Liga Herren Gruppe 3\nBegegnungs-Nr: 0\nHeim: Kriens V\nGast: Schenkon III\n\nAdresse: Krauerstrasse 1\, 6010 Kriens\n
LOCATION:Krauerstrasse 1\, 6010 Kriens
CATEGORIES:Saison 2024/25
END:VEVENT
BEGIN:VEVENT
DTSTAMP:20260423T190037Z
DTSTART;TZID=Europe/Berlin:20250106T194500
DTEND;TZID=Europe/Berlin:20250106T224500
SUMMARY:He 3. Liga Gr. 3 Willisau vs Schenkon III (0)
UID:e99302e2-6d2a-443c-a1be-1b26a49dfdb8
STATUS:CONFIRMED
LAST-MODIFIED:20250107T134447Z
DESCRIPTION:3. Liga Herren Gruppe 3\nBegegnungs-Nr: 0\nHeim: Willisau\nGast: Schenkon III\n\nAdresse: Berufsbildung-Zentrum\, 6130 Willisau\n
LOCATION:Berufsbildung-Zentrum\, 6130 Willisau
CATEGORIES:Saison 2024/25
END:VEVENT
BEGIN:VEVENT
DTSTAMP:20260423T190037Z
DTSTART;TZID=Europe/Berlin:20250121T200000
DTEND;TZID=Europe/Berlin:20250121T230000
SUMMARY:He 3. Liga Gr. 3 Goldau III vs Schenkon III (0)
UID:a46b1926-d428-4486-9212-83933ab26048
STATUS:CONFIRMED
LAST-MODIFIED:20250123T145611Z
DESCRIPTION:3. Liga Herren Gruppe 3\nBegegnungs-Nr: 0\nHeim: Goldau III\nGast: Schenkon III\n\nAdresse: Zaystrasse\, 6410 Goldau\n
LOCATION:Zaystrasse\, 6410 Goldau
CATEGORIES:Saison 2024/25
END:VEVENT
END:VCALENDAR
