BEGIN:VCALENDAR
PRODID:-//nuDatenautomaten//framework iCal4j //DE
VERSION:2.0
CALSCALE:GREGORIAN
BEGIN:VTIMEZONE
TZID:Europe/Berlin
LAST-MODIFIED:20260306T231828Z
TZURL:https://www.tzurl.org/zoneinfo/Europe/Berlin
X-LIC-LOCATION:Europe/Berlin
X-PROLEPTIC-TZNAME:LMT
BEGIN:STANDARD
TZNAME:CET
TZOFFSETFROM:+005328
TZOFFSETTO:+0100
DTSTART:18930401T000000
END:STANDARD
BEGIN:DAYLIGHT
TZNAME:CEST
TZOFFSETFROM:+0100
TZOFFSETTO:+0200
DTSTART:19160430T230000
RDATE:19400401T020000
RDATE:19430329T020000
RDATE:19460414T020000
RDATE:19470406T030000
RDATE:19480418T020000
RDATE:19490410T020000
RDATE:19800406T020000
END:DAYLIGHT
BEGIN:STANDARD
TZNAME:CET
TZOFFSETFROM:+0200
TZOFFSETTO:+0100
DTSTART:19161001T010000
RDATE:19421102T030000
RDATE:19431004T030000
RDATE:19441002T030000
RDATE:19451118T030000
RDATE:19461007T030000
END:STANDARD
BEGIN:DAYLIGHT
TZNAME:CEST
TZOFFSETFROM:+0100
TZOFFSETTO:+0200
DTSTART:19170416T020000
RRULE:FREQ=YEARLY;UNTIL=19180415T010000Z;BYMONTH=4;BYDAY=3MO
END:DAYLIGHT
BEGIN:STANDARD
TZNAME:CET
TZOFFSETFROM:+0200
TZOFFSETTO:+0100
DTSTART:19170917T030000
RRULE:FREQ=YEARLY;UNTIL=19180916T010000Z;BYMONTH=9;BYDAY=3MO
END:STANDARD
BEGIN:DAYLIGHT
TZNAME:CEST
TZOFFSETFROM:+0100
TZOFFSETTO:+0200
DTSTART:19440403T020000
RRULE:FREQ=YEARLY;UNTIL=19450402T010000Z;BYMONTH=4;BYDAY=1MO
END:DAYLIGHT
BEGIN:DAYLIGHT
TZNAME:CEMT
TZOFFSETFROM:+0200
TZOFFSETTO:+0300
DTSTART:19450524T020000
RDATE:19470511T030000
END:DAYLIGHT
BEGIN:DAYLIGHT
TZNAME:CEST
TZOFFSETFROM:+0300
TZOFFSETTO:+0200
DTSTART:19450924T030000
RDATE:19470629T030000
END:DAYLIGHT
BEGIN:STANDARD
TZNAME:CET
TZOFFSETFROM:+0100
TZOFFSETTO:+0100
DTSTART:19460101T000000
RDATE:19800101T000000
END:STANDARD
BEGIN:STANDARD
TZNAME:CET
TZOFFSETFROM:+0200
TZOFFSETTO:+0100
DTSTART:19471005T030000
RRULE:FREQ=YEARLY;UNTIL=19491002T010000Z;BYMONTH=10;BYDAY=1SU
END:STANDARD
BEGIN:STANDARD
TZNAME:CET
TZOFFSETFROM:+0200
TZOFFSETTO:+0100
DTSTART:19800928T030000
RRULE:FREQ=YEARLY;UNTIL=19950924T010000Z;BYMONTH=9;BYDAY=-1SU
END:STANDARD
BEGIN:DAYLIGHT
TZNAME:CEST
TZOFFSETFROM:+0100
TZOFFSETTO:+0200
DTSTART:19810329T020000
RRULE:FREQ=YEARLY;BYMONTH=3;BYDAY=-1SU
END:DAYLIGHT
BEGIN:STANDARD
TZNAME:CET
TZOFFSETFROM:+0200
TZOFFSETTO:+0100
DTSTART:19961027T030000
RRULE:FREQ=YEARLY;BYMONTH=10;BYDAY=-1SU
END:STANDARD
END:VTIMEZONE
BEGIN:VEVENT
DTSTAMP:20260424T062134Z
DTSTART;TZID=Europe/Berlin:20241212T200000
DTEND;TZID=Europe/Berlin:20241212T230000
SUMMARY:ME L5 Gr 3\, Tours 1&2 Mézières III vs Lausanne XI (0)
UID:bb335f64-f3b0-462c-a928-eb5d21a375b7
STATUS:CONFIRMED
LAST-MODIFIED:20241215T010053Z
DESCRIPTION:5ème ligue Hommes Groupe 3\, Tours 1&2\nBegegnungs-Nr: 0\nHeim: Mézières III\nGast: Lausanne XI\n\nAdresse: -\, 1083 Mézières\n
LOCATION:-\, 1083 Mézières
CATEGORIES:Saison 2024/25
END:VEVENT
BEGIN:VEVENT
DTSTAMP:20260424T062134Z
DTSTART;TZID=Europe/Berlin:20241128T200000
DTEND;TZID=Europe/Berlin:20241128T230000
SUMMARY:ME L5 Gr 3\, Tours 1&2 Mézières III vs Vevey IV (0)
UID:6b01117f-29fe-4197-ac84-e19a66476a2e
STATUS:CONFIRMED
LAST-MODIFIED:20241129T154418Z
DESCRIPTION:5ème ligue Hommes Groupe 3\, Tours 1&2\nBegegnungs-Nr: 0\nHeim: Mézières III\nGast: Vevey IV\n\nAdresse: -\, 1083 Mézières\n
LOCATION:-\, 1083 Mézières
CATEGORIES:Saison 2024/25
END:VEVENT
BEGIN:VEVENT
DTSTAMP:20260424T062134Z
DTSTART;TZID=Europe/Berlin:20241107T200000
DTEND;TZID=Europe/Berlin:20241107T230000
SUMMARY:ME L5 Gr 3\, Tours 1&2 Mézières III vs Trams-Renens III (0)
UID:3614bb69-95ff-4d0b-996e-543a8cb01747
STATUS:CONFIRMED
LAST-MODIFIED:20241108T195244Z
DESCRIPTION:5ème ligue Hommes Groupe 3\, Tours 1&2\nBegegnungs-Nr: 0\nHeim: Mézières III\nGast: Trams-Renens III\n\nAdresse: -\, 1083 Mézières\n
LOCATION:-\, 1083 Mézières
CATEGORIES:Saison 2024/25
END:VEVENT
BEGIN:VEVENT
DTSTAMP:20260424T062134Z
DTSTART;TZID=Europe/Berlin:20240919T200000
DTEND;TZID=Europe/Berlin:20240919T230000
SUMMARY:ME L5 Gr 3\, Tours 1&2 Mézières III vs Lausanne IX (0)
UID:3fe57d96-debc-4921-bf16-0fc6dbb6ca03
STATUS:CONFIRMED
LAST-MODIFIED:20240922T135806Z
DESCRIPTION:5ème ligue Hommes Groupe 3\, Tours 1&2\nBegegnungs-Nr: 0\nHeim: Mézières III\nGast: Lausanne IX\n\nAdresse: -\, 1083 Mézières\n
LOCATION:-\, 1083 Mézières
CATEGORIES:Saison 2024/25
END:VEVENT
BEGIN:VEVENT
DTSTAMP:20260424T062134Z
DTSTART;TZID=Europe/Berlin:20240924T200000
DTEND;TZID=Europe/Berlin:20240924T230000
SUMMARY:ME L5 Gr 3\, Tours 1&2 Mézières III vs Ependes II (0)
UID:29418bf4-4dc5-4b3d-b9b1-73085b178624
STATUS:CONFIRMED
LAST-MODIFIED:20240926T112632Z
DESCRIPTION:5ème ligue Hommes Groupe 3\, Tours 1&2\nBegegnungs-Nr: 0\nHeim: Mézières III\nGast: Ependes II\n\nAdresse: -\, 1083 Mézières\n
LOCATION:-\, 1083 Mézières
CATEGORIES:Saison 2024/25
END:VEVENT
BEGIN:VEVENT
DTSTAMP:20260424T062134Z
DTSTART;TZID=Europe/Berlin:20250410T200000
DTEND;TZID=Europe/Berlin:20250410T230000
SUMMARY:ME L5 Gr 3\, Tours 3&4 Mézières III vs Romanel V (0)
UID:07a647c7-249c-4ac9-91f2-48f2c335b894
STATUS:CONFIRMED
LAST-MODIFIED:20250411T073059Z
DESCRIPTION:5ème ligue Hommes Groupe 3\, Tours 3&4\nBegegnungs-Nr: 0\nHeim: Mézières III\nGast: Romanel V\n\nAdresse: -\, 1083 Mézières\n
LOCATION:-\, 1083 Mézières
CATEGORIES:Saison 2024/25
END:VEVENT
BEGIN:VEVENT
DTSTAMP:20260424T062134Z
DTSTART;TZID=Europe/Berlin:20250327T200000
DTEND;TZID=Europe/Berlin:20250327T230000
SUMMARY:ME L5 Gr 3\, Tours 3&4 Mézières III vs Montriond-Ouchy  IV (0)
UID:3a6109e0-4975-4143-95d1-ae9129684aec
STATUS:CONFIRMED
LAST-MODIFIED:20250401T215735Z
DESCRIPTION:5ème ligue Hommes Groupe 3\, Tours 3&4\nBegegnungs-Nr: 0\nHeim: Mézières III\nGast: Montriond-Ouchy  IV\n\nAdresse: -\, 1083 Mézières\n
LOCATION:-\, 1083 Mézières
CATEGORIES:Saison 2024/25
END:VEVENT
BEGIN:VEVENT
DTSTAMP:20260424T062134Z
DTSTART;TZID=Europe/Berlin:20250227T200000
DTEND;TZID=Europe/Berlin:20250227T230000
SUMMARY:ME L5 Gr 3\, Tours 3&4 Mézières III vs Trams-Renens III (0)
UID:46eff9d0-7874-4ec9-a878-7830af23800c
STATUS:CONFIRMED
LAST-MODIFIED:20250228T164956Z
DESCRIPTION:5ème ligue Hommes Groupe 3\, Tours 3&4\nBegegnungs-Nr: 0\nHeim: Mézières III\nGast: Trams-Renens III\n\nAdresse: -\, 1083 Mézières\n
LOCATION:-\, 1083 Mézières
CATEGORIES:Saison 2024/25
END:VEVENT
BEGIN:VEVENT
DTSTAMP:20260424T062134Z
DTSTART;TZID=Europe/Berlin:20250220T200000
DTEND;TZID=Europe/Berlin:20250220T230000
SUMMARY:ME L5 Gr 3\, Tours 3&4 Mézières III vs Gland IV (0)
UID:5cfa70eb-be8b-4afc-821e-c279910085dd
STATUS:CONFIRMED
LAST-MODIFIED:20250222T180845Z
DESCRIPTION:5ème ligue Hommes Groupe 3\, Tours 3&4\nBegegnungs-Nr: 0\nHeim: Mézières III\nGast: Gland IV\n\nAdresse: -\, 1083 Mézières\n
LOCATION:-\, 1083 Mézières
CATEGORIES:Saison 2024/25
END:VEVENT
BEGIN:VEVENT
DTSTAMP:20260424T062134Z
DTSTART;TZID=Europe/Berlin:20250123T200000
DTEND;TZID=Europe/Berlin:20250123T230000
SUMMARY:ME L5 Gr 3\, Tours 3&4 Mézières III vs Lausanne IX (0)
UID:59e6832d-66bb-4a75-8cad-5ce773614ff3
STATUS:CONFIRMED
LAST-MODIFIED:20250125T161850Z
DESCRIPTION:5ème ligue Hommes Groupe 3\, Tours 3&4\nBegegnungs-Nr: 0\nHeim: Mézières III\nGast: Lausanne IX\n\nAdresse: -\, 1083 Mézières\n
LOCATION:-\, 1083 Mézières
CATEGORIES:Saison 2024/25
END:VEVENT
BEGIN:VEVENT
DTSTAMP:20260424T062134Z
DTSTART;TZID=Europe/Berlin:20241205T193000
DTEND;TZID=Europe/Berlin:20241205T223000
SUMMARY:ME L5 Gr 3\, Tours 1&2 Lausanne IX vs Mézières III (0)
UID:8574282b-ee2b-48ea-8093-a3ef8eab241f
STATUS:CONFIRMED
LAST-MODIFIED:20241208T194811Z
DESCRIPTION:5ème ligue Hommes Groupe 3\, Tours 1&2\nBegegnungs-Nr: 0\nHeim: Lausanne IX\nGast: Mézières III\n\nAdresse: Vaudoise Aréna\, Ch. du Viaduc 14\, 1008 Prilly\n
LOCATION:Vaudoise Aréna\, Ch. du Viaduc 14\, 1008 Prilly
CATEGORIES:Saison 2024/25
END:VEVENT
BEGIN:VEVENT
DTSTAMP:20260424T062134Z
DTSTART;TZID=Europe/Berlin:20241030T194500
DTEND;TZID=Europe/Berlin:20241030T224500
SUMMARY:ME L5 Gr 3\, Tours 1&2 Ependes II vs Mézières III (0)
UID:57cc4940-b40f-4fd5-92cd-193c34528cf2
STATUS:CONFIRMED
LAST-MODIFIED:20241101T000007Z
DESCRIPTION:5ème ligue Hommes Groupe 3\, Tours 1&2\nBegegnungs-Nr: 0\nHeim: Ependes II\nGast: Mézières III\n\nAdresse: -\, 1731 Ependes FR\n
LOCATION:-\, 1731 Ependes FR
CATEGORIES:Saison 2024/25
END:VEVENT
BEGIN:VEVENT
DTSTAMP:20260424T062134Z
DTSTART;TZID=Europe/Berlin:20241009T200000
DTEND;TZID=Europe/Berlin:20241009T230000
SUMMARY:ME L5 Gr 3\, Tours 1&2 Lausanne XI vs Mézières III (0)
UID:a686285f-1c66-4ce9-b557-da91f2c91f19
STATUS:CONFIRMED
LAST-MODIFIED:20241010T132334Z
DESCRIPTION:5ème ligue Hommes Groupe 3\, Tours 1&2\nBegegnungs-Nr: 0\nHeim: Lausanne XI\nGast: Mézières III\n\nAdresse: Vaudoise Aréna\, Ch. du Viaduc 14\, 1008 Prilly\n
LOCATION:Vaudoise Aréna\, Ch. du Viaduc 14\, 1008 Prilly
CATEGORIES:Saison 2024/25
END:VEVENT
BEGIN:VEVENT
DTSTAMP:20260424T062134Z
DTSTART;TZID=Europe/Berlin:20240930T193000
DTEND;TZID=Europe/Berlin:20240930T223000
SUMMARY:ME L5 Gr 3\, Tours 1&2 Vevey IV vs Mézières III (0)
UID:8119ac90-dc8e-4568-827c-c0127e36d96c
STATUS:CONFIRMED
LAST-MODIFIED:20241001T220153Z
DESCRIPTION:5ème ligue Hommes Groupe 3\, Tours 1&2\nBegegnungs-Nr: 0\nHeim: Vevey IV\nGast: Mézières III\n\nAdresse: Rue Louis-Meyer\, 1800 Vevey\n
LOCATION:Rue Louis-Meyer\, 1800 Vevey
CATEGORIES:Saison 2024/25
END:VEVENT
BEGIN:VEVENT
DTSTAMP:20260424T062134Z
DTSTART;TZID=Europe/Berlin:20240913T193000
DTEND;TZID=Europe/Berlin:20240913T223000
SUMMARY:ME L5 Gr 3\, Tours 1&2 Trams-Renens III vs Mézières III (0)
UID:3fb28da5-0892-47c5-8335-9e647b33ab3e
STATUS:CONFIRMED
LAST-MODIFIED:20240914T205901Z
DESCRIPTION:5ème ligue Hommes Groupe 3\, Tours 1&2\nBegegnungs-Nr: 0\nHeim: Trams-Renens III\nGast: Mézières III\n\nAdresse: Av Saugiaz\, 1020 Renens\n
LOCATION:Av Saugiaz\, 1020 Renens
CATEGORIES:Saison 2024/25
END:VEVENT
BEGIN:VEVENT
DTSTAMP:20260424T062134Z
DTSTART;TZID=Europe/Berlin:20250509T193000
DTEND;TZID=Europe/Berlin:20250509T223000
SUMMARY:ME L5 Gr 3\, Tours 3&4 Trams-Renens III vs Mézières III (0)
UID:52901b19-877a-4e4e-b297-15110a137c0e
STATUS:CONFIRMED
LAST-MODIFIED:20250510T115417Z
DESCRIPTION:5ème ligue Hommes Groupe 3\, Tours 3&4\nBegegnungs-Nr: 0\nHeim: Trams-Renens III\nGast: Mézières III\n\nAdresse: Av Saugiaz\, 1020 Renens\n
LOCATION:Av Saugiaz\, 1020 Renens
CATEGORIES:Saison 2024/25
END:VEVENT
BEGIN:VEVENT
DTSTAMP:20260424T062134Z
DTSTART;TZID=Europe/Berlin:20250502T193000
DTEND;TZID=Europe/Berlin:20250502T223000
SUMMARY:ME L5 Gr 3\, Tours 3&4 Gland IV vs Mézières III (0)
UID:33fbe7aa-f803-47b0-b57f-9f26e2b42b7b
STATUS:CONFIRMED
LAST-MODIFIED:20250504T112009Z
DESCRIPTION:5ème ligue Hommes Groupe 3\, Tours 3&4\nBegegnungs-Nr: 0\nHeim: Gland IV\nGast: Mézières III\n\nAdresse: Chemin de la Perroude 1\, 1196 Gland\n
LOCATION:Chemin de la Perroude 1\, 1196 Gland
CATEGORIES:Saison 2024/25
END:VEVENT
BEGIN:VEVENT
DTSTAMP:20260424T062134Z
DTSTART;TZID=Europe/Berlin:20250313T193000
DTEND;TZID=Europe/Berlin:20250313T223000
SUMMARY:ME L5 Gr 3\, Tours 3&4 Lausanne IX vs Mézières III (0)
UID:49a23dd7-d779-4e78-86d9-256db2320f65
STATUS:CONFIRMED
LAST-MODIFIED:20250314T181706Z
DESCRIPTION:5ème ligue Hommes Groupe 3\, Tours 3&4\nBegegnungs-Nr: 0\nHeim: Lausanne IX\nGast: Mézières III\n\nAdresse: Vaudoise Aréna\, Ch. du Viaduc 14\, 1008 Prilly\n
LOCATION:Vaudoise Aréna\, Ch. du Viaduc 14\, 1008 Prilly
CATEGORIES:Saison 2024/25
END:VEVENT
BEGIN:VEVENT
DTSTAMP:20260424T062134Z
DTSTART;TZID=Europe/Berlin:20250204T200000
DTEND;TZID=Europe/Berlin:20250204T230000
SUMMARY:ME L5 Gr 3\, Tours 3&4 Romanel V vs Mézières III (0)
UID:ffcbf112-6449-4871-bd31-30b55cd38e15
STATUS:CONFIRMED
LAST-MODIFIED:20250210T162513Z
DESCRIPTION:5ème ligue Hommes Groupe 3\, Tours 3&4\nBegegnungs-Nr: 0\nHeim: Romanel V\nGast: Mézières III\n\nAdresse: Ch des Epinettes 1\, 1032 Romanel-sur-Lausanne\n
LOCATION:Ch des Epinettes 1\, 1032 Romanel-sur-Lausanne
CATEGORIES:Saison 2024/25
END:VEVENT
BEGIN:VEVENT
DTSTAMP:20260424T062134Z
DTSTART;TZID=Europe/Berlin:20250130T193000
DTEND;TZID=Europe/Berlin:20250130T223000
SUMMARY:ME L5 Gr 3\, Tours 3&4 Montriond-Ouchy  IV vs Mézières III (0)
UID:41aab62f-34b6-4dc8-b9b6-be65d8237d1d
STATUS:CONFIRMED
LAST-MODIFIED:20250201T002550Z
DESCRIPTION:5ème ligue Hommes Groupe 3\, Tours 3&4\nBegegnungs-Nr: 0\nHeim: Montriond-Ouchy  IV\nGast: Mézières III\n\nAdresse: Avenue d'Ouchy 45\, 1006 Lausanne\n
LOCATION:Avenue d'Ouchy 45\, 1006 Lausanne
CATEGORIES:Saison 2024/25
END:VEVENT
END:VCALENDAR
