BEGIN:VCALENDAR
PRODID:-//nuDatenautomaten//framework iCal4j //DE
VERSION:2.0
CALSCALE:GREGORIAN
BEGIN:VTIMEZONE
TZID:Europe/Berlin
LAST-MODIFIED:20260306T231828Z
TZURL:https://www.tzurl.org/zoneinfo/Europe/Berlin
X-LIC-LOCATION:Europe/Berlin
X-PROLEPTIC-TZNAME:LMT
BEGIN:STANDARD
TZNAME:CET
TZOFFSETFROM:+005328
TZOFFSETTO:+0100
DTSTART:18930401T000000
END:STANDARD
BEGIN:DAYLIGHT
TZNAME:CEST
TZOFFSETFROM:+0100
TZOFFSETTO:+0200
DTSTART:19160430T230000
RDATE:19400401T020000
RDATE:19430329T020000
RDATE:19460414T020000
RDATE:19470406T030000
RDATE:19480418T020000
RDATE:19490410T020000
RDATE:19800406T020000
END:DAYLIGHT
BEGIN:STANDARD
TZNAME:CET
TZOFFSETFROM:+0200
TZOFFSETTO:+0100
DTSTART:19161001T010000
RDATE:19421102T030000
RDATE:19431004T030000
RDATE:19441002T030000
RDATE:19451118T030000
RDATE:19461007T030000
END:STANDARD
BEGIN:DAYLIGHT
TZNAME:CEST
TZOFFSETFROM:+0100
TZOFFSETTO:+0200
DTSTART:19170416T020000
RRULE:FREQ=YEARLY;UNTIL=19180415T010000Z;BYMONTH=4;BYDAY=3MO
END:DAYLIGHT
BEGIN:STANDARD
TZNAME:CET
TZOFFSETFROM:+0200
TZOFFSETTO:+0100
DTSTART:19170917T030000
RRULE:FREQ=YEARLY;UNTIL=19180916T010000Z;BYMONTH=9;BYDAY=3MO
END:STANDARD
BEGIN:DAYLIGHT
TZNAME:CEST
TZOFFSETFROM:+0100
TZOFFSETTO:+0200
DTSTART:19440403T020000
RRULE:FREQ=YEARLY;UNTIL=19450402T010000Z;BYMONTH=4;BYDAY=1MO
END:DAYLIGHT
BEGIN:DAYLIGHT
TZNAME:CEMT
TZOFFSETFROM:+0200
TZOFFSETTO:+0300
DTSTART:19450524T020000
RDATE:19470511T030000
END:DAYLIGHT
BEGIN:DAYLIGHT
TZNAME:CEST
TZOFFSETFROM:+0300
TZOFFSETTO:+0200
DTSTART:19450924T030000
RDATE:19470629T030000
END:DAYLIGHT
BEGIN:STANDARD
TZNAME:CET
TZOFFSETFROM:+0100
TZOFFSETTO:+0100
DTSTART:19460101T000000
RDATE:19800101T000000
END:STANDARD
BEGIN:STANDARD
TZNAME:CET
TZOFFSETFROM:+0200
TZOFFSETTO:+0100
DTSTART:19471005T030000
RRULE:FREQ=YEARLY;UNTIL=19491002T010000Z;BYMONTH=10;BYDAY=1SU
END:STANDARD
BEGIN:STANDARD
TZNAME:CET
TZOFFSETFROM:+0200
TZOFFSETTO:+0100
DTSTART:19800928T030000
RRULE:FREQ=YEARLY;UNTIL=19950924T010000Z;BYMONTH=9;BYDAY=-1SU
END:STANDARD
BEGIN:DAYLIGHT
TZNAME:CEST
TZOFFSETFROM:+0100
TZOFFSETTO:+0200
DTSTART:19810329T020000
RRULE:FREQ=YEARLY;BYMONTH=3;BYDAY=-1SU
END:DAYLIGHT
BEGIN:STANDARD
TZNAME:CET
TZOFFSETFROM:+0200
TZOFFSETTO:+0100
DTSTART:19961027T030000
RRULE:FREQ=YEARLY;BYMONTH=10;BYDAY=-1SU
END:STANDARD
END:VTIMEZONE
BEGIN:VEVENT
DTSTAMP:20260424T044421Z
DTSTART;TZID=Europe/Berlin:20250512T200000
DTEND;TZID=Europe/Berlin:20250512T230000
SUMMARY:HE 6.Liga Aufstieg Gr. C Balzers II vs Toggenburg III (619)
UID:fed153a5-4ff3-4f80-b489-052069d9bcaf
STATUS:CONFIRMED
LAST-MODIFIED:20250420T194702Z
DESCRIPTION:6. Liga Herren Aufstieg Gruppe C\nBegegnungs-Nr: 619\nHeim: Balzers II\nGast: Toggenburg III\n\nAdresse: Gnetsch 41\, 9496 Balzers\n
LOCATION:Gnetsch 41\, 9496 Balzers
CATEGORIES:Saison 2024/25
END:VEVENT
BEGIN:VEVENT
DTSTAMP:20260424T044421Z
DTSTART;TZID=Europe/Berlin:20250602T200000
DTEND;TZID=Europe/Berlin:20250602T230000
SUMMARY:HE 6.Liga Aufstieg 2.Rde. Balzers II vs Niederhasli VI (623)
UID:00783b4e-9907-47c1-86db-04104547a56b
STATUS:CONFIRMED
DESCRIPTION:6. Liga Herren Aufstieg 2. Runde\nBegegnungs-Nr: 623\nHeim: Balzers II\nGast: Niederhasli VI\n\nAdresse: Gnetsch 41\, 9496 Balzers\n
LOCATION:Gnetsch 41\, 9496 Balzers
CATEGORIES:Saison 2024/25
END:VEVENT
BEGIN:VEVENT
DTSTAMP:20260424T044421Z
DTSTART;TZID=Europe/Berlin:20250317T200000
DTEND;TZID=Europe/Berlin:20250317T230000
SUMMARY:HE 6. Liga Gr. 9 Balzers II vs Flums VII (0)
UID:19d1e351-bc6a-4aa7-b180-234635206f2a
STATUS:CONFIRMED
LAST-MODIFIED:20250319T094848Z
DESCRIPTION:6. Liga Herren Gruppe 9\nBegegnungs-Nr: 0\nHeim: Balzers II\nGast: Flums VII\n\nAdresse: Gnetsch 41\, 9496 Balzers\n
LOCATION:Gnetsch 41\, 9496 Balzers
CATEGORIES:Saison 2024/25
END:VEVENT
BEGIN:VEVENT
DTSTAMP:20260424T044421Z
DTSTART;TZID=Europe/Berlin:20250220T200000
DTEND;TZID=Europe/Berlin:20250220T230000
SUMMARY:HE 6. Liga Gr. 9 Balzers II vs Buchs St.Gallen (0)
UID:7445236c-0b8d-41a0-9bb5-495668e5f17a
STATUS:CONFIRMED
LAST-MODIFIED:20250227T113104Z
DESCRIPTION:6. Liga Herren Gruppe 9\nBegegnungs-Nr: 0\nHeim: Balzers II\nGast: Buchs St.Gallen\n\nAdresse: Gnetsch 41\, 9496 Balzers\n
LOCATION:Gnetsch 41\, 9496 Balzers
CATEGORIES:Saison 2024/25
END:VEVENT
BEGIN:VEVENT
DTSTAMP:20260424T044421Z
DTSTART;TZID=Europe/Berlin:20250123T200000
DTEND;TZID=Europe/Berlin:20250123T230000
SUMMARY:HE 6. Liga Gr. 9 Balzers II vs Flums VI (0)
UID:ca4f9772-6d61-4c27-9f72-f01c22dd1f4a
STATUS:CONFIRMED
LAST-MODIFIED:20250129T130317Z
DESCRIPTION:6. Liga Herren Gruppe 9\nBegegnungs-Nr: 0\nHeim: Balzers II\nGast: Flums VI\n\nAdresse: Gnetsch 41\, 9496 Balzers\n
LOCATION:Gnetsch 41\, 9496 Balzers
CATEGORIES:Saison 2024/25
END:VEVENT
BEGIN:VEVENT
DTSTAMP:20260424T044421Z
DTSTART;TZID=Europe/Berlin:20241107T200000
DTEND;TZID=Europe/Berlin:20241107T230000
SUMMARY:HE 6. Liga Gr. 9 Balzers II vs Chur VII (0)
UID:34e14080-9b8a-4a77-a772-ca24343b7838
STATUS:CONFIRMED
LAST-MODIFIED:20241108T151234Z
DESCRIPTION:6. Liga Herren Gruppe 9\nBegegnungs-Nr: 0\nHeim: Balzers II\nGast: Chur VII\n\nAdresse: Gnetsch 41\, 9496 Balzers\n
LOCATION:Gnetsch 41\, 9496 Balzers
CATEGORIES:Saison 2024/25
END:VEVENT
BEGIN:VEVENT
DTSTAMP:20260424T044421Z
DTSTART;TZID=Europe/Berlin:20240919T200000
DTEND;TZID=Europe/Berlin:20240919T230000
SUMMARY:HE 6. Liga Gr. 9 Balzers II vs Chur VIII (0)
UID:8ed21039-b09a-4e5a-89a8-3aa8e8dd12da
STATUS:CONFIRMED
LAST-MODIFIED:20240930T125324Z
DESCRIPTION:6. Liga Herren Gruppe 9\nBegegnungs-Nr: 0\nHeim: Balzers II\nGast: Chur VIII\n\nAdresse: Gnetsch 41\, 9496 Balzers\n
LOCATION:Gnetsch 41\, 9496 Balzers
CATEGORIES:Saison 2024/25
END:VEVENT
BEGIN:VEVENT
DTSTAMP:20260424T044421Z
DTSTART;TZID=Europe/Berlin:20240829T200000
DTEND;TZID=Europe/Berlin:20240829T230000
SUMMARY:HE 6. Liga Gr. 9 Balzers II vs Schaan-Eschen/Mauren III (0)
UID:45d7b15f-4b25-49ca-b015-f17d520b4b75
STATUS:CONFIRMED
LAST-MODIFIED:20240904T121133Z
DESCRIPTION:6. Liga Herren Gruppe 9\nBegegnungs-Nr: 0\nHeim: Balzers II\nGast: Schaan-Eschen/Mauren III\n\nAdresse: Gnetsch 41\, 9496 Balzers\n
LOCATION:Gnetsch 41\, 9496 Balzers
CATEGORIES:Saison 2024/25
END:VEVENT
BEGIN:VEVENT
DTSTAMP:20260424T044421Z
DTSTART;TZID=Europe/Berlin:20250513T201500
DTEND;TZID=Europe/Berlin:20250513T231500
SUMMARY:HE 6.Liga Aufstieg Gr. C Sihltal II vs Balzers II (618)
UID:ca310877-0adc-4f5a-b36c-6cab27fd812a
STATUS:CONFIRMED
LAST-MODIFIED:20250514T095058Z
DESCRIPTION:6. Liga Herren Aufstieg Gruppe C\nBegegnungs-Nr: 618\nHeim: Sihltal II\nGast: Balzers II\n\nAdresse: In der Schwerzi 4\, 8135 Langnau a/A\n
LOCATION:In der Schwerzi 4\, 8135 Langnau a/A
CATEGORIES:Saison 2024/25
END:VEVENT
BEGIN:VEVENT
DTSTAMP:20260424T044421Z
DTSTART;TZID=Europe/Berlin:20250526T200000
DTEND;TZID=Europe/Berlin:20250526T230000
SUMMARY:HE 6.Liga Aufstieg 2.Rde. Wolfhalden III vs Balzers II (621)
UID:e197c87b-6789-4d2d-b695-4b506a68ee94
STATUS:CONFIRMED
LAST-MODIFIED:20250520T141651Z
DESCRIPTION:6. Liga Herren Aufstieg 2. Runde\nBegegnungs-Nr: 621\nHeim: Wolfhalden III\nGast: Balzers II\n\nAdresse: -\, 9427 Wolfhalden\n
LOCATION:-\, 9427 Wolfhalden
CATEGORIES:Saison 2024/25
END:VEVENT
BEGIN:VEVENT
DTSTAMP:20260424T044421Z
DTSTART;TZID=Europe/Berlin:20250206T194500
DTEND;TZID=Europe/Berlin:20250206T224500
SUMMARY:HE 6. Liga Gr. 9 Schaan-Eschen/Mauren III vs Balzers II (0)
UID:2f6cc65d-1387-456e-a6b2-ba68adf66777
STATUS:CONFIRMED
LAST-MODIFIED:20250213T133136Z
DESCRIPTION:6. Liga Herren Gruppe 9\nBegegnungs-Nr: 0\nHeim: Schaan-Eschen/Mauren III\nGast: Balzers II\n\nAdresse: Zur Schule\, 9494 Schaan\n
LOCATION:Zur Schule\, 9494 Schaan
CATEGORIES:Saison 2024/25
END:VEVENT
BEGIN:VEVENT
DTSTAMP:20260424T044421Z
DTSTART;TZID=Europe/Berlin:20250313T200000
DTEND;TZID=Europe/Berlin:20250313T230000
SUMMARY:HE 6. Liga Gr. 9 Chur VII vs Balzers II (0)
UID:27ed4612-63dd-4a44-8adb-5f954dce221e
STATUS:CONFIRMED
LAST-MODIFIED:20250314T125152Z
DESCRIPTION:6. Liga Herren Gruppe 9\nBegegnungs-Nr: 0\nHeim: Chur VII\nGast: Balzers II\n\nAdresse: Sandstr. 35\, 7000 Chur\n
LOCATION:Sandstr. 35\, 7000 Chur
CATEGORIES:Saison 2024/25
END:VEVENT
BEGIN:VEVENT
DTSTAMP:20260424T044421Z
DTSTART;TZID=Europe/Berlin:20250306T200000
DTEND;TZID=Europe/Berlin:20250306T230000
SUMMARY:HE 6. Liga Gr. 9 Chur VIII vs Balzers II (0)
UID:731d6321-0297-48f0-a959-3f2c2dc2ebaa
STATUS:CONFIRMED
LAST-MODIFIED:20250312T150203Z
DESCRIPTION:6. Liga Herren Gruppe 9\nBegegnungs-Nr: 0\nHeim: Chur VIII\nGast: Balzers II\n\nAdresse: Sandstr. 35\, 7000 Chur\n
LOCATION:Sandstr. 35\, 7000 Chur
CATEGORIES:Saison 2024/25
END:VEVENT
BEGIN:VEVENT
DTSTAMP:20260424T044421Z
DTSTART;TZID=Europe/Berlin:20241209T193000
DTEND;TZID=Europe/Berlin:20241209T223000
SUMMARY:HE 6. Liga Gr. 9 Flums VII vs Balzers II (0)
UID:dc702f7b-e0ad-4618-9da5-131569790b73
STATUS:CONFIRMED
LAST-MODIFIED:20241211T103305Z
DESCRIPTION:6. Liga Herren Gruppe 9\nBegegnungs-Nr: 0\nHeim: Flums VII\nGast: Balzers II\n\nAdresse: Bergstrasse\, 8890 Flums\n
LOCATION:Bergstrasse\, 8890 Flums
CATEGORIES:Saison 2024/25
END:VEVENT
BEGIN:VEVENT
DTSTAMP:20260424T044421Z
DTSTART;TZID=Europe/Berlin:20241028T200000
DTEND;TZID=Europe/Berlin:20241028T230000
SUMMARY:HE 6. Liga Gr. 9 Buchs St.Gallen vs Balzers II (0)
UID:408d0e0c-6921-4201-bd7e-278983ded9e7
STATUS:CONFIRMED
LAST-MODIFIED:20241030T124334Z
DESCRIPTION:6. Liga Herren Gruppe 9\nBegegnungs-Nr: 0\nHeim: Buchs St.Gallen\nGast: Balzers II\n\nAdresse: Hanflandstrasse 17\, 9470 Buchs SG\n
LOCATION:Hanflandstrasse 17\, 9470 Buchs SG
CATEGORIES:Saison 2024/25
END:VEVENT
BEGIN:VEVENT
DTSTAMP:20260424T044421Z
DTSTART;TZID=Europe/Berlin:20240902T201500
DTEND;TZID=Europe/Berlin:20240902T231500
SUMMARY:HE 6. Liga Gr. 9 Flums VI vs Balzers II (0)
UID:69a2c681-a6b1-42f3-a071-345a7977c50c
STATUS:CONFIRMED
LAST-MODIFIED:20240904T121146Z
DESCRIPTION:6. Liga Herren Gruppe 9\nBegegnungs-Nr: 0\nHeim: Flums VI\nGast: Balzers II\n\nAdresse: Bergstrasse\, 8890 Flums\n
LOCATION:Bergstrasse\, 8890 Flums
CATEGORIES:Saison 2024/25
END:VEVENT
END:VCALENDAR
