BEGIN:VCALENDAR
PRODID:-//nuDatenautomaten//framework iCal4j //DE
VERSION:2.0
CALSCALE:GREGORIAN
BEGIN:VTIMEZONE
TZID:Europe/Berlin
LAST-MODIFIED:20260306T231828Z
TZURL:https://www.tzurl.org/zoneinfo/Europe/Berlin
X-LIC-LOCATION:Europe/Berlin
X-PROLEPTIC-TZNAME:LMT
BEGIN:STANDARD
TZNAME:CET
TZOFFSETFROM:+005328
TZOFFSETTO:+0100
DTSTART:18930401T000000
END:STANDARD
BEGIN:DAYLIGHT
TZNAME:CEST
TZOFFSETFROM:+0100
TZOFFSETTO:+0200
DTSTART:19160430T230000
RDATE:19400401T020000
RDATE:19430329T020000
RDATE:19460414T020000
RDATE:19470406T030000
RDATE:19480418T020000
RDATE:19490410T020000
RDATE:19800406T020000
END:DAYLIGHT
BEGIN:STANDARD
TZNAME:CET
TZOFFSETFROM:+0200
TZOFFSETTO:+0100
DTSTART:19161001T010000
RDATE:19421102T030000
RDATE:19431004T030000
RDATE:19441002T030000
RDATE:19451118T030000
RDATE:19461007T030000
END:STANDARD
BEGIN:DAYLIGHT
TZNAME:CEST
TZOFFSETFROM:+0100
TZOFFSETTO:+0200
DTSTART:19170416T020000
RRULE:FREQ=YEARLY;UNTIL=19180415T010000Z;BYMONTH=4;BYDAY=3MO
END:DAYLIGHT
BEGIN:STANDARD
TZNAME:CET
TZOFFSETFROM:+0200
TZOFFSETTO:+0100
DTSTART:19170917T030000
RRULE:FREQ=YEARLY;UNTIL=19180916T010000Z;BYMONTH=9;BYDAY=3MO
END:STANDARD
BEGIN:DAYLIGHT
TZNAME:CEST
TZOFFSETFROM:+0100
TZOFFSETTO:+0200
DTSTART:19440403T020000
RRULE:FREQ=YEARLY;UNTIL=19450402T010000Z;BYMONTH=4;BYDAY=1MO
END:DAYLIGHT
BEGIN:DAYLIGHT
TZNAME:CEMT
TZOFFSETFROM:+0200
TZOFFSETTO:+0300
DTSTART:19450524T020000
RDATE:19470511T030000
END:DAYLIGHT
BEGIN:DAYLIGHT
TZNAME:CEST
TZOFFSETFROM:+0300
TZOFFSETTO:+0200
DTSTART:19450924T030000
RDATE:19470629T030000
END:DAYLIGHT
BEGIN:STANDARD
TZNAME:CET
TZOFFSETFROM:+0100
TZOFFSETTO:+0100
DTSTART:19460101T000000
RDATE:19800101T000000
END:STANDARD
BEGIN:STANDARD
TZNAME:CET
TZOFFSETFROM:+0200
TZOFFSETTO:+0100
DTSTART:19471005T030000
RRULE:FREQ=YEARLY;UNTIL=19491002T010000Z;BYMONTH=10;BYDAY=1SU
END:STANDARD
BEGIN:STANDARD
TZNAME:CET
TZOFFSETFROM:+0200
TZOFFSETTO:+0100
DTSTART:19800928T030000
RRULE:FREQ=YEARLY;UNTIL=19950924T010000Z;BYMONTH=9;BYDAY=-1SU
END:STANDARD
BEGIN:DAYLIGHT
TZNAME:CEST
TZOFFSETFROM:+0100
TZOFFSETTO:+0200
DTSTART:19810329T020000
RRULE:FREQ=YEARLY;BYMONTH=3;BYDAY=-1SU
END:DAYLIGHT
BEGIN:STANDARD
TZNAME:CET
TZOFFSETFROM:+0200
TZOFFSETTO:+0100
DTSTART:19961027T030000
RRULE:FREQ=YEARLY;BYMONTH=10;BYDAY=-1SU
END:STANDARD
END:VTIMEZONE
BEGIN:VEVENT
DTSTAMP:20260423T224753Z
DTSTART;TZID=Europe/Berlin:20240924T200000
DTEND;TZID=Europe/Berlin:20240924T230000
SUMMARY:He 2. Liga Gr. 2 Reussbühl vs Zug (0)
UID:18bebe55-1c2e-4231-8aab-cbcd8a5919ac
STATUS:CONFIRMED
LAST-MODIFIED:20240925T085307Z
DESCRIPTION:2. Liga Herren Gruppe 2\nBegegnungs-Nr: 0\nHeim: Reussbühl\nGast: Zug\n\nAdresse: Obermättlistrasse 44\, 6015 Luzern\n
LOCATION:Obermättlistrasse 44\, 6015 Luzern
CATEGORIES:Saison 2024/25
END:VEVENT
BEGIN:VEVENT
DTSTAMP:20260423T224753Z
DTSTART;TZID=Europe/Berlin:20240827T200000
DTEND;TZID=Europe/Berlin:20240827T230000
SUMMARY:He 2. Liga Gr. 2 Reussbühl vs Kriens III (0)
UID:ba8117a5-1800-4a99-943a-c37bb73b51d4
STATUS:CONFIRMED
LAST-MODIFIED:20240902T180948Z
DESCRIPTION:2. Liga Herren Gruppe 2\nBegegnungs-Nr: 0\nHeim: Reussbühl\nGast: Kriens III\n\nAdresse: Obermättlistrasse 44\, 6015 Luzern\n
LOCATION:Obermättlistrasse 44\, 6015 Luzern
CATEGORIES:Saison 2024/25
END:VEVENT
BEGIN:VEVENT
DTSTAMP:20260423T224753Z
DTSTART;TZID=Europe/Berlin:20250116T200000
DTEND;TZID=Europe/Berlin:20250116T230000
SUMMARY:He 2. Liga Gr. 2 Reussbühl vs Baar III (0)
UID:080a2288-443a-49c4-b393-25eb481ed1f3
STATUS:CONFIRMED
LAST-MODIFIED:20250117T073415Z
DESCRIPTION:2. Liga Herren Gruppe 2\nBegegnungs-Nr: 0\nHeim: Reussbühl\nGast: Baar III\n\nAdresse: Obermättlistrasse 44\, 6015 Luzern\n
LOCATION:Obermättlistrasse 44\, 6015 Luzern
CATEGORIES:Saison 2024/25
END:VEVENT
BEGIN:VEVENT
DTSTAMP:20260423T224753Z
DTSTART;TZID=Europe/Berlin:20241219T200000
DTEND;TZID=Europe/Berlin:20241219T230000
SUMMARY:He 2. Liga Gr. 2 Reussbühl vs Dierikon-Ebikon (0)
UID:a6101767-d637-4786-bf54-fb7237f4dff4
STATUS:CONFIRMED
LAST-MODIFIED:20241223T171315Z
DESCRIPTION:2. Liga Herren Gruppe 2\nBegegnungs-Nr: 0\nHeim: Reussbühl\nGast: Dierikon-Ebikon\n\nAdresse: Obermättlistrasse 44\, 6015 Luzern\n
LOCATION:Obermättlistrasse 44\, 6015 Luzern
CATEGORIES:Saison 2024/25
END:VEVENT
BEGIN:VEVENT
DTSTAMP:20260423T224753Z
DTSTART;TZID=Europe/Berlin:20241212T200000
DTEND;TZID=Europe/Berlin:20241212T230000
SUMMARY:He 2. Liga Gr. 2 Reussbühl vs Rapid Luzern VII (0)
UID:67077e6b-e9eb-4559-a7b8-425234fe92f5
STATUS:CONFIRMED
LAST-MODIFIED:20241217T140439Z
DESCRIPTION:2. Liga Herren Gruppe 2\nBegegnungs-Nr: 0\nHeim: Reussbühl\nGast: Rapid Luzern VII\n\nAdresse: Obermättlistrasse 44\, 6015 Luzern\n
LOCATION:Obermättlistrasse 44\, 6015 Luzern
CATEGORIES:Saison 2024/25
END:VEVENT
BEGIN:VEVENT
DTSTAMP:20260423T224753Z
DTSTART;TZID=Europe/Berlin:20250220T200000
DTEND;TZID=Europe/Berlin:20250220T230000
SUMMARY:He 2. Liga Gr. 2 Reussbühl vs Steinhausen (0)
UID:f7e78098-4308-4e44-b4b2-f630c8b04afc
STATUS:CONFIRMED
LAST-MODIFIED:20250226T101548Z
DESCRIPTION:2. Liga Herren Gruppe 2\nBegegnungs-Nr: 0\nHeim: Reussbühl\nGast: Steinhausen\n\nAdresse: Obermättlistrasse 44\, 6015 Luzern\n
LOCATION:Obermättlistrasse 44\, 6015 Luzern
CATEGORIES:Saison 2024/25
END:VEVENT
BEGIN:VEVENT
DTSTAMP:20260423T224753Z
DTSTART;TZID=Europe/Berlin:20250320T200000
DTEND;TZID=Europe/Berlin:20250320T230000
SUMMARY:He 2. Liga Gr. 2 Reussbühl vs Hünenberg II (0)
UID:6abd2365-001f-43ed-b8d3-2e663cf0db40
STATUS:CONFIRMED
LAST-MODIFIED:20250326T152334Z
DESCRIPTION:2. Liga Herren Gruppe 2\nBegegnungs-Nr: 0\nHeim: Reussbühl\nGast: Hünenberg II\n\nAdresse: Obermättlistrasse 44\, 6015 Luzern\n
LOCATION:Obermättlistrasse 44\, 6015 Luzern
CATEGORIES:Saison 2024/25
END:VEVENT
BEGIN:VEVENT
DTSTAMP:20260423T224753Z
DTSTART;TZID=Europe/Berlin:20241029T200000
DTEND;TZID=Europe/Berlin:20241029T230000
SUMMARY:He 2. Liga Gr. 2 Dierikon-Ebikon vs Reussbühl (0)
UID:390afcd8-d723-4831-88f9-edfeea8384e2
STATUS:CONFIRMED
LAST-MODIFIED:20241106T132809Z
DESCRIPTION:2. Liga Herren Gruppe 2\nBegegnungs-Nr: 0\nHeim: Dierikon-Ebikon\nGast: Reussbühl\n\nAdresse: Rigistrasse 14\, 6036 Dierikon\n
LOCATION:Rigistrasse 14\, 6036 Dierikon
CATEGORIES:Saison 2024/25
END:VEVENT
BEGIN:VEVENT
DTSTAMP:20260423T224753Z
DTSTART;TZID=Europe/Berlin:20241019T153000
DTEND;TZID=Europe/Berlin:20241019T183000
SUMMARY:He 2. Liga Gr. 2 Rapid Luzern VII vs Reussbühl (0)
UID:ae20d1c9-f071-410c-9530-150ad6d4dfc4
STATUS:CONFIRMED
LAST-MODIFIED:20241022T163048Z
DESCRIPTION:2. Liga Herren Gruppe 2\nBegegnungs-Nr: 0\nHeim: Rapid Luzern VII\nGast: Reussbühl\n\nAdresse: Kreuzbuchstr. 60\, 6006 Luzern\n
LOCATION:Kreuzbuchstr. 60\, 6006 Luzern
CATEGORIES:Saison 2024/25
END:VEVENT
BEGIN:VEVENT
DTSTAMP:20260423T224753Z
DTSTART;TZID=Europe/Berlin:20250113T201500
DTEND;TZID=Europe/Berlin:20250113T231500
SUMMARY:He 2. Liga Gr. 2 Steinhausen vs Reussbühl (0)
UID:915e0476-adf0-481a-bcc6-01fe27a69822
STATUS:CONFIRMED
LAST-MODIFIED:20250117T073403Z
DESCRIPTION:2. Liga Herren Gruppe 2\nBegegnungs-Nr: 0\nHeim: Steinhausen\nGast: Reussbühl\n\nAdresse: Blickensdorferstrasse\, 6312 Steinhausen\n
LOCATION:Blickensdorferstrasse\, 6312 Steinhausen
CATEGORIES:Saison 2024/25
END:VEVENT
BEGIN:VEVENT
DTSTAMP:20260423T224753Z
DTSTART;TZID=Europe/Berlin:20241125T200000
DTEND;TZID=Europe/Berlin:20241125T230000
SUMMARY:He 2. Liga Gr. 2 Hünenberg II vs Reussbühl (0)
UID:6b62774b-be4e-4181-951d-3b8b3f92d60d
STATUS:CONFIRMED
LAST-MODIFIED:20241129T103646Z
DESCRIPTION:2. Liga Herren Gruppe 2\nBegegnungs-Nr: 0\nHeim: Hünenberg II\nGast: Reussbühl\n\nAdresse: Lindenbergstrasse 25\, 6331 Hünenberg\n
LOCATION:Lindenbergstrasse 25\, 6331 Hünenberg
CATEGORIES:Saison 2024/25
END:VEVENT
BEGIN:VEVENT
DTSTAMP:20260423T224753Z
DTSTART;TZID=Europe/Berlin:20241211T200000
DTEND;TZID=Europe/Berlin:20241211T230000
SUMMARY:He 2. Liga Gr. 2 Zug vs Reussbühl (0)
UID:f6655d63-a4c5-4ce4-9416-519effad2f4e
STATUS:CONFIRMED
LAST-MODIFIED:20241217T140428Z
DESCRIPTION:2. Liga Herren Gruppe 2\nBegegnungs-Nr: 0\nHeim: Zug\nGast: Reussbühl\n\nAdresse: Lüssiweg 24\, 6300 Zug\n
LOCATION:Lüssiweg 24\, 6300 Zug
CATEGORIES:Saison 2024/25
END:VEVENT
BEGIN:VEVENT
DTSTAMP:20260423T224753Z
DTSTART;TZID=Europe/Berlin:20250207T200000
DTEND;TZID=Europe/Berlin:20250207T230000
SUMMARY:He 2. Liga Gr. 2 Kriens III vs Reussbühl (0)
UID:c5ca72ec-4ada-4ee6-857d-094c96db2b0a
STATUS:CONFIRMED
LAST-MODIFIED:20250219T080736Z
DESCRIPTION:2. Liga Herren Gruppe 2\nBegegnungs-Nr: 0\nHeim: Kriens III\nGast: Reussbühl\n\nAdresse: Krauerstrasse 1\, 6010 Kriens\n
LOCATION:Krauerstrasse 1\, 6010 Kriens
CATEGORIES:Saison 2024/25
END:VEVENT
BEGIN:VEVENT
DTSTAMP:20260423T224753Z
DTSTART;TZID=Europe/Berlin:20250125T143000
DTEND;TZID=Europe/Berlin:20250125T173000
SUMMARY:He 2. Liga Gr. 2 Baar III vs Reussbühl (0)
UID:ed37eb83-dff1-448f-a8fa-7f8b1889635e
STATUS:CONFIRMED
LAST-MODIFIED:20250204T204747Z
DESCRIPTION:2. Liga Herren Gruppe 2\nBegegnungs-Nr: 0\nHeim: Baar III\nGast: Reussbühl\n\nAdresse: Rigistrasse 175/177\, 6340 Baar\n
LOCATION:Rigistrasse 175/177\, 6340 Baar
CATEGORIES:Saison 2024/25
END:VEVENT
END:VCALENDAR
