BEGIN:VCALENDAR
PRODID:-//nuDatenautomaten//framework iCal4j //DE
VERSION:2.0
CALSCALE:GREGORIAN
BEGIN:VTIMEZONE
TZID:Europe/Berlin
LAST-MODIFIED:20260306T231828Z
TZURL:https://www.tzurl.org/zoneinfo/Europe/Berlin
X-LIC-LOCATION:Europe/Berlin
X-PROLEPTIC-TZNAME:LMT
BEGIN:STANDARD
TZNAME:CET
TZOFFSETFROM:+005328
TZOFFSETTO:+0100
DTSTART:18930401T000000
END:STANDARD
BEGIN:DAYLIGHT
TZNAME:CEST
TZOFFSETFROM:+0100
TZOFFSETTO:+0200
DTSTART:19160430T230000
RDATE:19400401T020000
RDATE:19430329T020000
RDATE:19460414T020000
RDATE:19470406T030000
RDATE:19480418T020000
RDATE:19490410T020000
RDATE:19800406T020000
END:DAYLIGHT
BEGIN:STANDARD
TZNAME:CET
TZOFFSETFROM:+0200
TZOFFSETTO:+0100
DTSTART:19161001T010000
RDATE:19421102T030000
RDATE:19431004T030000
RDATE:19441002T030000
RDATE:19451118T030000
RDATE:19461007T030000
END:STANDARD
BEGIN:DAYLIGHT
TZNAME:CEST
TZOFFSETFROM:+0100
TZOFFSETTO:+0200
DTSTART:19170416T020000
RRULE:FREQ=YEARLY;UNTIL=19180415T010000Z;BYMONTH=4;BYDAY=3MO
END:DAYLIGHT
BEGIN:STANDARD
TZNAME:CET
TZOFFSETFROM:+0200
TZOFFSETTO:+0100
DTSTART:19170917T030000
RRULE:FREQ=YEARLY;UNTIL=19180916T010000Z;BYMONTH=9;BYDAY=3MO
END:STANDARD
BEGIN:DAYLIGHT
TZNAME:CEST
TZOFFSETFROM:+0100
TZOFFSETTO:+0200
DTSTART:19440403T020000
RRULE:FREQ=YEARLY;UNTIL=19450402T010000Z;BYMONTH=4;BYDAY=1MO
END:DAYLIGHT
BEGIN:DAYLIGHT
TZNAME:CEMT
TZOFFSETFROM:+0200
TZOFFSETTO:+0300
DTSTART:19450524T020000
RDATE:19470511T030000
END:DAYLIGHT
BEGIN:DAYLIGHT
TZNAME:CEST
TZOFFSETFROM:+0300
TZOFFSETTO:+0200
DTSTART:19450924T030000
RDATE:19470629T030000
END:DAYLIGHT
BEGIN:STANDARD
TZNAME:CET
TZOFFSETFROM:+0100
TZOFFSETTO:+0100
DTSTART:19460101T000000
RDATE:19800101T000000
END:STANDARD
BEGIN:STANDARD
TZNAME:CET
TZOFFSETFROM:+0200
TZOFFSETTO:+0100
DTSTART:19471005T030000
RRULE:FREQ=YEARLY;UNTIL=19491002T010000Z;BYMONTH=10;BYDAY=1SU
END:STANDARD
BEGIN:STANDARD
TZNAME:CET
TZOFFSETFROM:+0200
TZOFFSETTO:+0100
DTSTART:19800928T030000
RRULE:FREQ=YEARLY;UNTIL=19950924T010000Z;BYMONTH=9;BYDAY=-1SU
END:STANDARD
BEGIN:DAYLIGHT
TZNAME:CEST
TZOFFSETFROM:+0100
TZOFFSETTO:+0200
DTSTART:19810329T020000
RRULE:FREQ=YEARLY;BYMONTH=3;BYDAY=-1SU
END:DAYLIGHT
BEGIN:STANDARD
TZNAME:CET
TZOFFSETFROM:+0200
TZOFFSETTO:+0100
DTSTART:19961027T030000
RRULE:FREQ=YEARLY;BYMONTH=10;BYDAY=-1SU
END:STANDARD
END:VTIMEZONE
BEGIN:VEVENT
DTSTAMP:20260424T022714Z
DTSTART;TZID=Europe/Berlin:20241120T200000
DTEND;TZID=Europe/Berlin:20241120T230000
SUMMARY:ME L1 Gr 2\, Tours 1&2 Sierre II vs Bulle IV (0)
UID:e8fc4af0-db82-4c3d-ba06-24e5c97e7d10
STATUS:CONFIRMED
LAST-MODIFIED:20241121T104542Z
DESCRIPTION:1ère ligue Hommes Groupe 2\, Tours 1&2\nBegegnungs-Nr: 0\nHeim: Sierre II\nGast: Bulle IV\n\nAdresse: Rte des Liddes 6\, 3960 Sierre\n
LOCATION:Rte des Liddes 6\, 3960 Sierre
CATEGORIES:Saison 2024/25
END:VEVENT
BEGIN:VEVENT
DTSTAMP:20260424T022714Z
DTSTART;TZID=Europe/Berlin:20241030T200000
DTEND;TZID=Europe/Berlin:20241030T230000
SUMMARY:ME L1 Gr 2\, Tours 1&2 Sierre II vs Crissier (0)
UID:55e08c6d-c653-4e39-b417-63c2a23e5954
STATUS:CONFIRMED
LAST-MODIFIED:20241031T235721Z
DESCRIPTION:1ère ligue Hommes Groupe 2\, Tours 1&2\nBegegnungs-Nr: 0\nHeim: Sierre II\nGast: Crissier\n\nAdresse: Rte des Liddes 6\, 3960 Sierre\n
LOCATION:Rte des Liddes 6\, 3960 Sierre
CATEGORIES:Saison 2024/25
END:VEVENT
BEGIN:VEVENT
DTSTAMP:20260424T022714Z
DTSTART;TZID=Europe/Berlin:20241009T200000
DTEND;TZID=Europe/Berlin:20241009T230000
SUMMARY:ME L1 Gr 2\, Tours 1&2 Sierre II vs Lausanne II (0)
UID:75c9f6d4-7aab-48c7-af1e-c82f3fbbfb20
STATUS:CONFIRMED
LAST-MODIFIED:20241009T221110Z
DESCRIPTION:1ère ligue Hommes Groupe 2\, Tours 1&2\nBegegnungs-Nr: 0\nHeim: Sierre II\nGast: Lausanne II\n\nAdresse: Rte des Liddes 6\, 3960 Sierre\n
LOCATION:Rte des Liddes 6\, 3960 Sierre
CATEGORIES:Saison 2024/25
END:VEVENT
BEGIN:VEVENT
DTSTAMP:20260424T022714Z
DTSTART;TZID=Europe/Berlin:20241002T200000
DTEND;TZID=Europe/Berlin:20241002T230000
SUMMARY:ME L1 Gr 2\, Tours 1&2 Sierre II vs Fribourg III (0)
UID:deee0db4-f208-4464-b13c-85639a849fd3
STATUS:CONFIRMED
LAST-MODIFIED:20241007T062958Z
DESCRIPTION:1ère ligue Hommes Groupe 2\, Tours 1&2\nBegegnungs-Nr: 0\nHeim: Sierre II\nGast: Fribourg III\n\nAdresse: Rte des Liddes 6\, 3960 Sierre\n
LOCATION:Rte des Liddes 6\, 3960 Sierre
CATEGORIES:Saison 2024/25
END:VEVENT
BEGIN:VEVENT
DTSTAMP:20260424T022714Z
DTSTART;TZID=Europe/Berlin:20240911T200000
DTEND;TZID=Europe/Berlin:20240911T230000
SUMMARY:ME L1 Gr 2\, Tours 1&2 Sierre II vs Yverdon (0)
UID:cb469900-8a93-459e-8554-f1b7a5d8d46e
STATUS:CONFIRMED
LAST-MODIFIED:20240912T182229Z
DESCRIPTION:1ère ligue Hommes Groupe 2\, Tours 1&2\nBegegnungs-Nr: 0\nHeim: Sierre II\nGast: Yverdon\n\nAdresse: Rte des Liddes 6\, 3960 Sierre\n
LOCATION:Rte des Liddes 6\, 3960 Sierre
CATEGORIES:Saison 2024/25
END:VEVENT
BEGIN:VEVENT
DTSTAMP:20260424T022714Z
DTSTART;TZID=Europe/Berlin:20250402T200000
DTEND;TZID=Europe/Berlin:20250402T230000
SUMMARY:ME L1 Gr 2\, Tours 3&4 Sierre II vs Collombey/Muraz (0)
UID:767f90b4-76ee-42f6-9303-fe6b3edbab3d
STATUS:CONFIRMED
LAST-MODIFIED:20250403T072119Z
DESCRIPTION:1ère ligue Hommes Groupe 2\, Tours 3&4\nBegegnungs-Nr: 0\nHeim: Sierre II\nGast: Collombey/Muraz\n\nAdresse: Rte des Liddes 6\, 3960 Sierre\n
LOCATION:Rte des Liddes 6\, 3960 Sierre
CATEGORIES:Saison 2024/25
END:VEVENT
BEGIN:VEVENT
DTSTAMP:20260424T022714Z
DTSTART;TZID=Europe/Berlin:20250310T200000
DTEND;TZID=Europe/Berlin:20250310T230000
SUMMARY:ME L1 Gr 2\, Tours 3&4 Sierre II vs Yverdon (0)
UID:0bf55dec-a111-4361-96b1-7ea1efc5d58f
STATUS:CONFIRMED
LAST-MODIFIED:20250310T233104Z
DESCRIPTION:1ère ligue Hommes Groupe 2\, Tours 3&4\nBegegnungs-Nr: 0\nHeim: Sierre II\nGast: Yverdon\n\nAdresse: Rte des Liddes 6\, 3960 Sierre\n
LOCATION:Rte des Liddes 6\, 3960 Sierre
CATEGORIES:Saison 2024/25
END:VEVENT
BEGIN:VEVENT
DTSTAMP:20260424T022714Z
DTSTART;TZID=Europe/Berlin:20250319T200000
DTEND;TZID=Europe/Berlin:20250319T230000
SUMMARY:ME L1 Gr 2\, Tours 3&4 Sierre II vs Forward-Morges II (0)
UID:e344f263-e329-4ad8-a80f-fe534bbb28e6
STATUS:CONFIRMED
LAST-MODIFIED:20250320T191231Z
DESCRIPTION:1ère ligue Hommes Groupe 2\, Tours 3&4\nBegegnungs-Nr: 0\nHeim: Sierre II\nGast: Forward-Morges II\n\nAdresse: Rte des Liddes 6\, 3960 Sierre\n
LOCATION:Rte des Liddes 6\, 3960 Sierre
CATEGORIES:Saison 2024/25
END:VEVENT
BEGIN:VEVENT
DTSTAMP:20260424T022714Z
DTSTART;TZID=Europe/Berlin:20250212T200000
DTEND;TZID=Europe/Berlin:20250212T230000
SUMMARY:ME L1 Gr 2\, Tours 3&4 Sierre II vs Martigny (0)
UID:daa1fb6a-96df-432b-9cf1-2f2e13b8796b
STATUS:CONFIRMED
LAST-MODIFIED:20250213T105232Z
DESCRIPTION:1ère ligue Hommes Groupe 2\, Tours 3&4\nBegegnungs-Nr: 0\nHeim: Sierre II\nGast: Martigny\n\nAdresse: Rte des Liddes 6\, 3960 Sierre\n
LOCATION:Rte des Liddes 6\, 3960 Sierre
CATEGORIES:Saison 2024/25
END:VEVENT
BEGIN:VEVENT
DTSTAMP:20260424T022714Z
DTSTART;TZID=Europe/Berlin:20250122T200000
DTEND;TZID=Europe/Berlin:20250122T230000
SUMMARY:ME L1 Gr 2\, Tours 3&4 Sierre II vs Bulle III (0)
UID:d19e8f67-e2fb-411f-810c-2e497243105c
STATUS:CONFIRMED
LAST-MODIFIED:20250123T110109Z
DESCRIPTION:1ère ligue Hommes Groupe 2\, Tours 3&4\nBegegnungs-Nr: 0\nHeim: Sierre II\nGast: Bulle III\n\nAdresse: Rte des Liddes 6\, 3960 Sierre\n
LOCATION:Rte des Liddes 6\, 3960 Sierre
CATEGORIES:Saison 2024/25
END:VEVENT
BEGIN:VEVENT
DTSTAMP:20260424T022714Z
DTSTART;TZID=Europe/Berlin:20241206T193000
DTEND;TZID=Europe/Berlin:20241206T223000
SUMMARY:ME L1 Gr 2\, Tours 1&2 Lausanne II vs Sierre II (0)
UID:21d32237-83f9-491c-8484-8d67b0888b6f
STATUS:CONFIRMED
LAST-MODIFIED:20241207T181518Z
DESCRIPTION:1ère ligue Hommes Groupe 2\, Tours 1&2\nBegegnungs-Nr: 0\nHeim: Lausanne II\nGast: Sierre II\n\nAdresse: Vaudoise Aréna\, Ch. du Viaduc 14\, 1008 Prilly\n
LOCATION:Vaudoise Aréna\, Ch. du Viaduc 14\, 1008 Prilly
CATEGORIES:Saison 2024/25
END:VEVENT
BEGIN:VEVENT
DTSTAMP:20260424T022714Z
DTSTART;TZID=Europe/Berlin:20241128T193000
DTEND;TZID=Europe/Berlin:20241128T223000
SUMMARY:ME L1 Gr 2\, Tours 1&2 Fribourg III vs Sierre II (0)
UID:05bb4ec3-3363-4f9d-a4e5-e2d588388b85
STATUS:CONFIRMED
LAST-MODIFIED:20241129T153933Z
DESCRIPTION:1ère ligue Hommes Groupe 2\, Tours 1&2\nBegegnungs-Nr: 0\nHeim: Fribourg III\nGast: Sierre II\n\nAdresse: Route du Centre sportif\, 1752 Villars-sur-Glâne\n
LOCATION:Route du Centre sportif\, 1752 Villars-sur-Glâne
CATEGORIES:Saison 2024/25
END:VEVENT
BEGIN:VEVENT
DTSTAMP:20260424T022714Z
DTSTART;TZID=Europe/Berlin:20241104T201500
DTEND;TZID=Europe/Berlin:20241104T231500
SUMMARY:ME L1 Gr 2\, Tours 1&2 Yverdon vs Sierre II (0)
UID:024e24d1-4634-4dd6-86b9-813802f33e70
STATUS:CONFIRMED
LAST-MODIFIED:20241105T100247Z
DESCRIPTION:1ère ligue Hommes Groupe 2\, Tours 1&2\nBegegnungs-Nr: 0\nHeim: Yverdon\nGast: Sierre II\n\nAdresse: Avenue des Quatre Marroniers 1\, 1400 Yverdon-les-Bains\n
LOCATION:Avenue des Quatre Marroniers 1\, 1400 Yverdon-les-Bains
CATEGORIES:Saison 2024/25
END:VEVENT
BEGIN:VEVENT
DTSTAMP:20260424T022714Z
DTSTART;TZID=Europe/Berlin:20240918T193000
DTEND;TZID=Europe/Berlin:20240918T223000
SUMMARY:ME L1 Gr 2\, Tours 1&2 Bulle IV vs Sierre II (0)
UID:271ef7ec-329a-4f4c-9c9b-3f5101e847fe
STATUS:CONFIRMED
LAST-MODIFIED:20240920T063237Z
DESCRIPTION:1ère ligue Hommes Groupe 2\, Tours 1&2\nBegegnungs-Nr: 0\nHeim: Bulle IV\nGast: Sierre II\n\nAdresse: Rue du Stade 50\, 1630 Bulle\n
LOCATION:Rue du Stade 50\, 1630 Bulle
CATEGORIES:Saison 2024/25
END:VEVENT
BEGIN:VEVENT
DTSTAMP:20260424T022714Z
DTSTART;TZID=Europe/Berlin:20240906T193000
DTEND;TZID=Europe/Berlin:20240906T223000
SUMMARY:ME L1 Gr 2\, Tours 1&2 Crissier vs Sierre II (0)
UID:bfd06305-7c8c-4fd0-b176-b0d2a12356cd
STATUS:CONFIRMED
LAST-MODIFIED:20240907T122832Z
DESCRIPTION:1ère ligue Hommes Groupe 2\, Tours 1&2\nBegegnungs-Nr: 0\nHeim: Crissier\nGast: Sierre II\n\nAdresse: ch. des Oches du Mur\, 1023 Crissier\n
LOCATION:ch. des Oches du Mur\, 1023 Crissier
CATEGORIES:Saison 2024/25
END:VEVENT
BEGIN:VEVENT
DTSTAMP:20260424T022714Z
DTSTART;TZID=Europe/Berlin:20250501T194500
DTEND;TZID=Europe/Berlin:20250501T224500
SUMMARY:ME L1 Finale Forward-Morges vs Sierre II (1)
UID:925f614c-da02-45b4-8184-d0950c12602e
STATUS:CONFIRMED
LAST-MODIFIED:20250503T000227Z
DESCRIPTION:1ère ligue Hommes Groupe 2\, Finale\nBegegnungs-Nr: 1\nHeim: Forward-Morges\nGast: Sierre II\n\nAdresse: Chemin de Tolochenaz\, 1110 Morges\n
LOCATION:Chemin de Tolochenaz\, 1110 Morges
CATEGORIES:Saison 2024/25
END:VEVENT
BEGIN:VEVENT
DTSTAMP:20260424T022714Z
DTSTART;TZID=Europe/Berlin:20250327T200000
DTEND;TZID=Europe/Berlin:20250327T230000
SUMMARY:ME L1 Gr 2\, Tours 3&4 Martigny vs Sierre II (0)
UID:05f692b6-bda8-42b8-91ef-7e753e753802
STATUS:CONFIRMED
LAST-MODIFIED:20250328T175905Z
DESCRIPTION:1ère ligue Hommes Groupe 2\, Tours 3&4\nBegegnungs-Nr: 0\nHeim: Martigny\nGast: Sierre II\n\nAdresse: Rue des Ecoles 9\, 1920 Martigny\n
LOCATION:Rue des Ecoles 9\, 1920 Martigny
CATEGORIES:Saison 2024/25
END:VEVENT
BEGIN:VEVENT
DTSTAMP:20260424T022714Z
DTSTART;TZID=Europe/Berlin:20250314T194500
DTEND;TZID=Europe/Berlin:20250314T224500
SUMMARY:ME L1 Gr 2\, Tours 3&4 Bulle III vs Sierre II (0)
UID:675bfcd2-b98b-4767-a904-8dd0ea95cadf
STATUS:CONFIRMED
LAST-MODIFIED:20250315T094157Z
DESCRIPTION:1ère ligue Hommes Groupe 2\, Tours 3&4\nBegegnungs-Nr: 0\nHeim: Bulle III\nGast: Sierre II\n\nAdresse: Rue du Stade 50\, 1630 Bulle\n
LOCATION:Rue du Stade 50\, 1630 Bulle
CATEGORIES:Saison 2024/25
END:VEVENT
BEGIN:VEVENT
DTSTAMP:20260424T022714Z
DTSTART;TZID=Europe/Berlin:20250223T170000
DTEND;TZID=Europe/Berlin:20250223T200000
SUMMARY:ME L1 Gr 2\, Tours 3&4 Collombey/Muraz vs Sierre II (0)
UID:913c432d-ccc5-4017-9a80-415be3453efd
STATUS:CONFIRMED
LAST-MODIFIED:20250223T212710Z
DESCRIPTION:1ère ligue Hommes Groupe 2\, Tours 3&4\nBegegnungs-Nr: 0\nHeim: Collombey/Muraz\nGast: Sierre II\n\nAdresse: Route du Montagnier 81\, 1868 Collombey\n
LOCATION:Route du Montagnier 81\, 1868 Collombey
CATEGORIES:Saison 2024/25
END:VEVENT
BEGIN:VEVENT
DTSTAMP:20260424T022714Z
DTSTART;TZID=Europe/Berlin:20250227T201500
DTEND;TZID=Europe/Berlin:20250227T231500
SUMMARY:ME L1 Gr 2\, Tours 3&4 Yverdon vs Sierre II (0)
UID:d2b3fe2f-75b3-49dd-a984-399d74951b68
STATUS:CONFIRMED
LAST-MODIFIED:20250228T164812Z
DESCRIPTION:1ère ligue Hommes Groupe 2\, Tours 3&4\nBegegnungs-Nr: 0\nHeim: Yverdon\nGast: Sierre II\n\nAdresse: Avenue des Quatre Marroniers 1\, 1400 Yverdon-les-Bains\n
LOCATION:Avenue des Quatre Marroniers 1\, 1400 Yverdon-les-Bains
CATEGORIES:Saison 2024/25
END:VEVENT
BEGIN:VEVENT
DTSTAMP:20260424T022714Z
DTSTART;TZID=Europe/Berlin:20250115T194500
DTEND;TZID=Europe/Berlin:20250115T224500
SUMMARY:ME L1 Gr 2\, Tours 3&4 Forward-Morges II vs Sierre II (0)
UID:f7d151e1-9708-47e5-ba2d-56a49dc9d660
STATUS:CONFIRMED
LAST-MODIFIED:20250116T113645Z
DESCRIPTION:1ère ligue Hommes Groupe 2\, Tours 3&4\nBegegnungs-Nr: 0\nHeim: Forward-Morges II\nGast: Sierre II\n\nAdresse: Chemin de Tolochenaz\, 1110 Morges\n
LOCATION:Chemin de Tolochenaz\, 1110 Morges
CATEGORIES:Saison 2024/25
END:VEVENT
END:VCALENDAR
