BEGIN:VCALENDAR
PRODID:-//nuDatenautomaten//framework iCal4j //DE
VERSION:2.0
CALSCALE:GREGORIAN
BEGIN:VTIMEZONE
TZID:Europe/Berlin
LAST-MODIFIED:20260306T231828Z
TZURL:https://www.tzurl.org/zoneinfo/Europe/Berlin
X-LIC-LOCATION:Europe/Berlin
X-PROLEPTIC-TZNAME:LMT
BEGIN:STANDARD
TZNAME:CET
TZOFFSETFROM:+005328
TZOFFSETTO:+0100
DTSTART:18930401T000000
END:STANDARD
BEGIN:DAYLIGHT
TZNAME:CEST
TZOFFSETFROM:+0100
TZOFFSETTO:+0200
DTSTART:19160430T230000
RDATE:19400401T020000
RDATE:19430329T020000
RDATE:19460414T020000
RDATE:19470406T030000
RDATE:19480418T020000
RDATE:19490410T020000
RDATE:19800406T020000
END:DAYLIGHT
BEGIN:STANDARD
TZNAME:CET
TZOFFSETFROM:+0200
TZOFFSETTO:+0100
DTSTART:19161001T010000
RDATE:19421102T030000
RDATE:19431004T030000
RDATE:19441002T030000
RDATE:19451118T030000
RDATE:19461007T030000
END:STANDARD
BEGIN:DAYLIGHT
TZNAME:CEST
TZOFFSETFROM:+0100
TZOFFSETTO:+0200
DTSTART:19170416T020000
RRULE:FREQ=YEARLY;UNTIL=19180415T010000Z;BYMONTH=4;BYDAY=3MO
END:DAYLIGHT
BEGIN:STANDARD
TZNAME:CET
TZOFFSETFROM:+0200
TZOFFSETTO:+0100
DTSTART:19170917T030000
RRULE:FREQ=YEARLY;UNTIL=19180916T010000Z;BYMONTH=9;BYDAY=3MO
END:STANDARD
BEGIN:DAYLIGHT
TZNAME:CEST
TZOFFSETFROM:+0100
TZOFFSETTO:+0200
DTSTART:19440403T020000
RRULE:FREQ=YEARLY;UNTIL=19450402T010000Z;BYMONTH=4;BYDAY=1MO
END:DAYLIGHT
BEGIN:DAYLIGHT
TZNAME:CEMT
TZOFFSETFROM:+0200
TZOFFSETTO:+0300
DTSTART:19450524T020000
RDATE:19470511T030000
END:DAYLIGHT
BEGIN:DAYLIGHT
TZNAME:CEST
TZOFFSETFROM:+0300
TZOFFSETTO:+0200
DTSTART:19450924T030000
RDATE:19470629T030000
END:DAYLIGHT
BEGIN:STANDARD
TZNAME:CET
TZOFFSETFROM:+0100
TZOFFSETTO:+0100
DTSTART:19460101T000000
RDATE:19800101T000000
END:STANDARD
BEGIN:STANDARD
TZNAME:CET
TZOFFSETFROM:+0200
TZOFFSETTO:+0100
DTSTART:19471005T030000
RRULE:FREQ=YEARLY;UNTIL=19491002T010000Z;BYMONTH=10;BYDAY=1SU
END:STANDARD
BEGIN:STANDARD
TZNAME:CET
TZOFFSETFROM:+0200
TZOFFSETTO:+0100
DTSTART:19800928T030000
RRULE:FREQ=YEARLY;UNTIL=19950924T010000Z;BYMONTH=9;BYDAY=-1SU
END:STANDARD
BEGIN:DAYLIGHT
TZNAME:CEST
TZOFFSETFROM:+0100
TZOFFSETTO:+0200
DTSTART:19810329T020000
RRULE:FREQ=YEARLY;BYMONTH=3;BYDAY=-1SU
END:DAYLIGHT
BEGIN:STANDARD
TZNAME:CET
TZOFFSETFROM:+0200
TZOFFSETTO:+0100
DTSTART:19961027T030000
RRULE:FREQ=YEARLY;BYMONTH=10;BYDAY=-1SU
END:STANDARD
END:VTIMEZONE
BEGIN:VEVENT
DTSTAMP:20260423T191324Z
DTSTART;TZID=Europe/Berlin:20240926T200000
DTEND;TZID=Europe/Berlin:20240926T230000
SUMMARY:He 3. Liga Gr. 4 Goldau IV vs Rapid Luzern VIII (0)
UID:69e764d7-efcd-4deb-8e59-c9acfdcb5a8b
STATUS:CONFIRMED
LAST-MODIFIED:20241001T093509Z
DESCRIPTION:3. Liga Herren Gruppe 4\nBegegnungs-Nr: 0\nHeim: Goldau IV\nGast: Rapid Luzern VIII\n\nAdresse: Zaystrasse\, 6410 Goldau\n
LOCATION:Zaystrasse\, 6410 Goldau
CATEGORIES:Saison 2024/25
END:VEVENT
BEGIN:VEVENT
DTSTAMP:20260423T191324Z
DTSTART;TZID=Europe/Berlin:20241212T200000
DTEND;TZID=Europe/Berlin:20241212T230000
SUMMARY:He 3. Liga Gr. 4 Goldau IV vs Sarnen III (0)
UID:387a8560-ed25-4408-ab2e-5a1079afb784
STATUS:CONFIRMED
LAST-MODIFIED:20241217T140706Z
DESCRIPTION:3. Liga Herren Gruppe 4\nBegegnungs-Nr: 0\nHeim: Goldau IV\nGast: Sarnen III\n\nAdresse: Zaystrasse\, 6410 Goldau\n
LOCATION:Zaystrasse\, 6410 Goldau
CATEGORIES:Saison 2024/25
END:VEVENT
BEGIN:VEVENT
DTSTAMP:20260423T191324Z
DTSTART;TZID=Europe/Berlin:20250130T200000
DTEND;TZID=Europe/Berlin:20250130T230000
SUMMARY:He 3. Liga Gr. 4 Goldau IV vs Rothenburg III (0)
UID:5dd7798b-d862-4b29-8e29-191cd2d8b45c
STATUS:CONFIRMED
LAST-MODIFIED:20250204T204923Z
DESCRIPTION:3. Liga Herren Gruppe 4\nBegegnungs-Nr: 0\nHeim: Goldau IV\nGast: Rothenburg III\n\nAdresse: Zaystrasse\, 6410 Goldau\n
LOCATION:Zaystrasse\, 6410 Goldau
CATEGORIES:Saison 2024/25
END:VEVENT
BEGIN:VEVENT
DTSTAMP:20260423T191324Z
DTSTART;TZID=Europe/Berlin:20241128T200000
DTEND;TZID=Europe/Berlin:20241128T230000
SUMMARY:He 3. Liga Gr. 4 Goldau IV vs Zug III (0)
UID:9bda6d5b-9e05-4e79-a9a5-b0c1c4525229
STATUS:CONFIRMED
LAST-MODIFIED:20241129T104051Z
DESCRIPTION:3. Liga Herren Gruppe 4\nBegegnungs-Nr: 0\nHeim: Goldau IV\nGast: Zug III\n\nAdresse: Zaystrasse\, 6410 Goldau\n
LOCATION:Zaystrasse\, 6410 Goldau
CATEGORIES:Saison 2024/25
END:VEVENT
BEGIN:VEVENT
DTSTAMP:20260423T191324Z
DTSTART;TZID=Europe/Berlin:20250116T200000
DTEND;TZID=Europe/Berlin:20250116T230000
SUMMARY:He 3. Liga Gr. 4 Goldau IV vs Kriens VI (0)
UID:8e58cbec-e4d5-4a7d-9001-fd2486d89375
STATUS:CONFIRMED
LAST-MODIFIED:20250123T145622Z
DESCRIPTION:3. Liga Herren Gruppe 4\nBegegnungs-Nr: 0\nHeim: Goldau IV\nGast: Kriens VI\n\nAdresse: Zaystrasse\, 6410 Goldau\n
LOCATION:Zaystrasse\, 6410 Goldau
CATEGORIES:Saison 2024/25
END:VEVENT
BEGIN:VEVENT
DTSTAMP:20260423T191324Z
DTSTART;TZID=Europe/Berlin:20250123T200000
DTEND;TZID=Europe/Berlin:20250123T230000
SUMMARY:He 3. Liga Gr. 4 Goldau IV vs Dierikon-Ebikon III (0)
UID:63288733-75e2-438a-8938-d8ddd2539355
STATUS:CONFIRMED
LAST-MODIFIED:20250204T204759Z
DESCRIPTION:3. Liga Herren Gruppe 4\nBegegnungs-Nr: 0\nHeim: Goldau IV\nGast: Dierikon-Ebikon III\n\nAdresse: Zaystrasse\, 6410 Goldau\n
LOCATION:Zaystrasse\, 6410 Goldau
CATEGORIES:Saison 2024/25
END:VEVENT
BEGIN:VEVENT
DTSTAMP:20260423T191324Z
DTSTART;TZID=Europe/Berlin:20250317T200000
DTEND;TZID=Europe/Berlin:20250317T230000
SUMMARY:He 3. Liga Gr. 4 Zug III vs Goldau IV (0)
UID:0a843f5f-e2c0-414d-b714-cd8c064003bb
STATUS:CONFIRMED
LAST-MODIFIED:20250320T183701Z
DESCRIPTION:3. Liga Herren Gruppe 4\nBegegnungs-Nr: 0\nHeim: Zug III\nGast: Goldau IV\n\nAdresse: Lüssiweg 24\, 6300 Zug\n
LOCATION:Lüssiweg 24\, 6300 Zug
CATEGORIES:Saison 2024/25
END:VEVENT
BEGIN:VEVENT
DTSTAMP:20260423T191324Z
DTSTART;TZID=Europe/Berlin:20250210T200000
DTEND;TZID=Europe/Berlin:20250210T230000
SUMMARY:He 3. Liga Gr. 4 Rothenburg III vs Goldau IV (0)
UID:0e0d434e-b5ba-4a47-9922-cd88ed7846f4
STATUS:CONFIRMED
LAST-MODIFIED:20250219T080958Z
DESCRIPTION:3. Liga Herren Gruppe 4\nBegegnungs-Nr: 0\nHeim: Rothenburg III\nGast: Goldau IV\n\nAdresse: Schulhausstrasse 6a\, 6023 Rothenburg\n
LOCATION:Schulhausstrasse 6a\, 6023 Rothenburg
CATEGORIES:Saison 2024/25
END:VEVENT
BEGIN:VEVENT
DTSTAMP:20260423T191324Z
DTSTART;TZID=Europe/Berlin:20241221T130000
DTEND;TZID=Europe/Berlin:20241221T160000
SUMMARY:He 3. Liga Gr. 4 Rapid Luzern VIII vs Goldau IV (0)
UID:f3c1b76a-cd5f-4407-be27-1ffff5657f05
STATUS:CONFIRMED
LAST-MODIFIED:20241223T171507Z
DESCRIPTION:3. Liga Herren Gruppe 4\nBegegnungs-Nr: 0\nHeim: Rapid Luzern VIII\nGast: Goldau IV\n\nAdresse: Kreuzbuchstr. 60\, 6006 Luzern\n
LOCATION:Kreuzbuchstr. 60\, 6006 Luzern
CATEGORIES:Saison 2024/25
END:VEVENT
BEGIN:VEVENT
DTSTAMP:20260423T191324Z
DTSTART;TZID=Europe/Berlin:20240826T201500
DTEND;TZID=Europe/Berlin:20240826T231500
SUMMARY:He 3. Liga Gr. 4 Sarnen III vs Goldau IV (0)
UID:2024397e-aab9-40f9-ae2b-1d3a4637efd5
STATUS:CONFIRMED
LAST-MODIFIED:20240902T182251Z
DESCRIPTION:3. Liga Herren Gruppe 4\nBegegnungs-Nr: 0\nHeim: Sarnen III\nGast: Goldau IV\n\nAdresse: Rütistrasse 3\, 6060 Sarnen\n
LOCATION:Rütistrasse 3\, 6060 Sarnen
CATEGORIES:Saison 2024/25
END:VEVENT
BEGIN:VEVENT
DTSTAMP:20260423T191324Z
DTSTART;TZID=Europe/Berlin:20241105T200000
DTEND;TZID=Europe/Berlin:20241105T230000
SUMMARY:He 3. Liga Gr. 4 Kriens VI vs Goldau IV (0)
UID:26857b95-3d25-4e72-b3b4-7ceae4e41027
STATUS:CONFIRMED
LAST-MODIFIED:20241106T133145Z
DESCRIPTION:3. Liga Herren Gruppe 4\nBegegnungs-Nr: 0\nHeim: Kriens VI\nGast: Goldau IV\n\nAdresse: Krauerstrasse 1\, 6010 Kriens\n
LOCATION:Krauerstrasse 1\, 6010 Kriens
CATEGORIES:Saison 2024/25
END:VEVENT
BEGIN:VEVENT
DTSTAMP:20260423T191324Z
DTSTART;TZID=Europe/Berlin:20241112T200000
DTEND;TZID=Europe/Berlin:20241112T230000
SUMMARY:He 3. Liga Gr. 4 Dierikon-Ebikon III vs Goldau IV (0)
UID:beef03a1-72f7-4672-987c-cf02f9970546
STATUS:CONFIRMED
LAST-MODIFIED:20241113T144841Z
DESCRIPTION:3. Liga Herren Gruppe 4\nBegegnungs-Nr: 0\nHeim: Dierikon-Ebikon III\nGast: Goldau IV\n\nAdresse: Rigistrasse 14\, 6036 Dierikon\n
LOCATION:Rigistrasse 14\, 6036 Dierikon
CATEGORIES:Saison 2024/25
END:VEVENT
END:VCALENDAR
