BEGIN:VCALENDAR
PRODID:-//nuDatenautomaten//framework iCal4j //DE
VERSION:2.0
CALSCALE:GREGORIAN
BEGIN:VTIMEZONE
TZID:Europe/Berlin
LAST-MODIFIED:20260306T231828Z
TZURL:https://www.tzurl.org/zoneinfo/Europe/Berlin
X-LIC-LOCATION:Europe/Berlin
X-PROLEPTIC-TZNAME:LMT
BEGIN:STANDARD
TZNAME:CET
TZOFFSETFROM:+005328
TZOFFSETTO:+0100
DTSTART:18930401T000000
END:STANDARD
BEGIN:DAYLIGHT
TZNAME:CEST
TZOFFSETFROM:+0100
TZOFFSETTO:+0200
DTSTART:19160430T230000
RDATE:19400401T020000
RDATE:19430329T020000
RDATE:19460414T020000
RDATE:19470406T030000
RDATE:19480418T020000
RDATE:19490410T020000
RDATE:19800406T020000
END:DAYLIGHT
BEGIN:STANDARD
TZNAME:CET
TZOFFSETFROM:+0200
TZOFFSETTO:+0100
DTSTART:19161001T010000
RDATE:19421102T030000
RDATE:19431004T030000
RDATE:19441002T030000
RDATE:19451118T030000
RDATE:19461007T030000
END:STANDARD
BEGIN:DAYLIGHT
TZNAME:CEST
TZOFFSETFROM:+0100
TZOFFSETTO:+0200
DTSTART:19170416T020000
RRULE:FREQ=YEARLY;UNTIL=19180415T010000Z;BYMONTH=4;BYDAY=3MO
END:DAYLIGHT
BEGIN:STANDARD
TZNAME:CET
TZOFFSETFROM:+0200
TZOFFSETTO:+0100
DTSTART:19170917T030000
RRULE:FREQ=YEARLY;UNTIL=19180916T010000Z;BYMONTH=9;BYDAY=3MO
END:STANDARD
BEGIN:DAYLIGHT
TZNAME:CEST
TZOFFSETFROM:+0100
TZOFFSETTO:+0200
DTSTART:19440403T020000
RRULE:FREQ=YEARLY;UNTIL=19450402T010000Z;BYMONTH=4;BYDAY=1MO
END:DAYLIGHT
BEGIN:DAYLIGHT
TZNAME:CEMT
TZOFFSETFROM:+0200
TZOFFSETTO:+0300
DTSTART:19450524T020000
RDATE:19470511T030000
END:DAYLIGHT
BEGIN:DAYLIGHT
TZNAME:CEST
TZOFFSETFROM:+0300
TZOFFSETTO:+0200
DTSTART:19450924T030000
RDATE:19470629T030000
END:DAYLIGHT
BEGIN:STANDARD
TZNAME:CET
TZOFFSETFROM:+0100
TZOFFSETTO:+0100
DTSTART:19460101T000000
RDATE:19800101T000000
END:STANDARD
BEGIN:STANDARD
TZNAME:CET
TZOFFSETFROM:+0200
TZOFFSETTO:+0100
DTSTART:19471005T030000
RRULE:FREQ=YEARLY;UNTIL=19491002T010000Z;BYMONTH=10;BYDAY=1SU
END:STANDARD
BEGIN:STANDARD
TZNAME:CET
TZOFFSETFROM:+0200
TZOFFSETTO:+0100
DTSTART:19800928T030000
RRULE:FREQ=YEARLY;UNTIL=19950924T010000Z;BYMONTH=9;BYDAY=-1SU
END:STANDARD
BEGIN:DAYLIGHT
TZNAME:CEST
TZOFFSETFROM:+0100
TZOFFSETTO:+0200
DTSTART:19810329T020000
RRULE:FREQ=YEARLY;BYMONTH=3;BYDAY=-1SU
END:DAYLIGHT
BEGIN:STANDARD
TZNAME:CET
TZOFFSETFROM:+0200
TZOFFSETTO:+0100
DTSTART:19961027T030000
RRULE:FREQ=YEARLY;BYMONTH=10;BYDAY=-1SU
END:STANDARD
END:VTIMEZONE
BEGIN:VEVENT
DTSTAMP:20260424T022714Z
DTSTART;TZID=Europe/Berlin:20241001T200000
DTEND;TZID=Europe/Berlin:20241001T230000
SUMMARY:ME L5 Gr 4\, Tours 1&2 Rossens VI vs Domdidier (0)
UID:394e2338-c116-4459-aaf8-4fbee522906f
STATUS:CONFIRMED
LAST-MODIFIED:20241007T064908Z
DESCRIPTION:5ème ligue Hommes Groupe 4\, Tours 1&2\nBegegnungs-Nr: 0\nHeim: Rossens VI\nGast: Domdidier\n\nAdresse: Route du Jordil 14\, 1728 Rossens\n
LOCATION:Route du Jordil 14\, 1728 Rossens
CATEGORIES:Saison 2024/25
END:VEVENT
BEGIN:VEVENT
DTSTAMP:20260424T022714Z
DTSTART;TZID=Europe/Berlin:20240913T200000
DTEND;TZID=Europe/Berlin:20240913T230000
SUMMARY:ME L5 Gr 4\, Tours 1&2 Rossens VI vs Domdidier II (0)
UID:ebd29367-4094-47b6-a01f-c1d4a38df388
STATUS:CONFIRMED
LAST-MODIFIED:20240914T205816Z
DESCRIPTION:5ème ligue Hommes Groupe 4\, Tours 1&2\nBegegnungs-Nr: 0\nHeim: Rossens VI\nGast: Domdidier II\n\nAdresse: Route du Jordil 14\, 1728 Rossens\n
LOCATION:Route du Jordil 14\, 1728 Rossens
CATEGORIES:Saison 2024/25
END:VEVENT
BEGIN:VEVENT
DTSTAMP:20260424T022714Z
DTSTART;TZID=Europe/Berlin:20241213T200000
DTEND;TZID=Europe/Berlin:20241213T230000
SUMMARY:ME L5 Gr 4\, Tours 1&2 Rossens VI vs Estavayer II (0)
UID:4ee4a943-e5ad-41d1-a176-1ab8dd5d2917
STATUS:CONFIRMED
LAST-MODIFIED:20241215T010127Z
DESCRIPTION:5ème ligue Hommes Groupe 4\, Tours 1&2\nBegegnungs-Nr: 0\nHeim: Rossens VI\nGast: Estavayer II\n\nAdresse: Route du Jordil 14\, 1728 Rossens\n
LOCATION:Route du Jordil 14\, 1728 Rossens
CATEGORIES:Saison 2024/25
END:VEVENT
BEGIN:VEVENT
DTSTAMP:20260424T022714Z
DTSTART;TZID=Europe/Berlin:20241119T200000
DTEND;TZID=Europe/Berlin:20241119T230000
SUMMARY:ME L5 Gr 4\, Tours 1&2 Rossens VI vs Romont-Villaz III (0)
UID:4e6595da-b243-493e-93a2-420c31cf23a5
STATUS:CONFIRMED
LAST-MODIFIED:20241120T100225Z
DESCRIPTION:5ème ligue Hommes Groupe 4\, Tours 1&2\nBegegnungs-Nr: 0\nHeim: Rossens VI\nGast: Romont-Villaz III\n\nAdresse: Route du Jordil 14\, 1728 Rossens\n
LOCATION:Route du Jordil 14\, 1728 Rossens
CATEGORIES:Saison 2024/25
END:VEVENT
BEGIN:VEVENT
DTSTAMP:20260424T022714Z
DTSTART;TZID=Europe/Berlin:20241101T200000
DTEND;TZID=Europe/Berlin:20241101T230000
SUMMARY:ME L5 Gr 4\, Tours 1&2 Rossens VI vs Fribourg VIII (0)
UID:e0022875-7378-453f-94db-f23e80820254
STATUS:CONFIRMED
LAST-MODIFIED:20241102T091622Z
DESCRIPTION:5ème ligue Hommes Groupe 4\, Tours 1&2\nBegegnungs-Nr: 0\nHeim: Rossens VI\nGast: Fribourg VIII\n\nAdresse: Route du Jordil 14\, 1728 Rossens\n
LOCATION:Route du Jordil 14\, 1728 Rossens
CATEGORIES:Saison 2024/25
END:VEVENT
BEGIN:VEVENT
DTSTAMP:20260424T022714Z
DTSTART;TZID=Europe/Berlin:20250506T200000
DTEND;TZID=Europe/Berlin:20250506T230000
SUMMARY:ME L6 Gr 7\, Tours 3&4 Rossens VI vs Marly III (0)
UID:615cb977-d3d7-43bf-8d44-550c99d7950e
STATUS:CONFIRMED
LAST-MODIFIED:20250508T232110Z
DESCRIPTION:6ème ligue Hommes Groupe 7\, Tours 3&4\nBegegnungs-Nr: 0\nHeim: Rossens VI\nGast: Marly III\n\nAdresse: Route du Jordil 14\, 1728 Rossens\n
LOCATION:Route du Jordil 14\, 1728 Rossens
CATEGORIES:Saison 2024/25
END:VEVENT
BEGIN:VEVENT
DTSTAMP:20260424T022714Z
DTSTART;TZID=Europe/Berlin:20250408T200000
DTEND;TZID=Europe/Berlin:20250408T230000
SUMMARY:ME L6 Gr 7\, Tours 3&4 Rossens VI vs Fribourg X (0)
UID:131cb208-7cae-41f5-900c-f0009f7c760b
STATUS:CONFIRMED
LAST-MODIFIED:20250408T200004Z
DESCRIPTION:6ème ligue Hommes Groupe 7\, Tours 3&4\nBegegnungs-Nr: 0\nHeim: Rossens VI\nGast: Fribourg X\n\nAdresse: Route du Jordil 14\, 1728 Rossens\n
LOCATION:Route du Jordil 14\, 1728 Rossens
CATEGORIES:Saison 2024/25
END:VEVENT
BEGIN:VEVENT
DTSTAMP:20260424T022714Z
DTSTART;TZID=Europe/Berlin:20250311T200000
DTEND;TZID=Europe/Berlin:20250311T230000
SUMMARY:ME L6 Gr 7\, Tours 3&4 Rossens VI vs Matran II (0)
UID:bf06ed80-7e0a-4aed-8e2b-d1ee17b134b5
STATUS:CONFIRMED
LAST-MODIFIED:20250311T220854Z
DESCRIPTION:6ème ligue Hommes Groupe 7\, Tours 3&4\nBegegnungs-Nr: 0\nHeim: Rossens VI\nGast: Matran II\n\nAdresse: Route du Jordil 14\, 1728 Rossens\n
LOCATION:Route du Jordil 14\, 1728 Rossens
CATEGORIES:Saison 2024/25
END:VEVENT
BEGIN:VEVENT
DTSTAMP:20260424T022714Z
DTSTART;TZID=Europe/Berlin:20250218T200000
DTEND;TZID=Europe/Berlin:20250218T230000
SUMMARY:ME L6 Gr 7\, Tours 3&4 Rossens VI vs Domdidier III (0)
UID:4c1eaa9b-d353-4e32-b881-555a788f2e69
STATUS:CONFIRMED
LAST-MODIFIED:20250219T101929Z
DESCRIPTION:6ème ligue Hommes Groupe 7\, Tours 3&4\nBegegnungs-Nr: 0\nHeim: Rossens VI\nGast: Domdidier III\n\nAdresse: Route du Jordil 14\, 1728 Rossens\n
LOCATION:Route du Jordil 14\, 1728 Rossens
CATEGORIES:Saison 2024/25
END:VEVENT
BEGIN:VEVENT
DTSTAMP:20260424T022714Z
DTSTART;TZID=Europe/Berlin:20250128T200000
DTEND;TZID=Europe/Berlin:20250128T230000
SUMMARY:ME L6 Gr 7\, Tours 3&4 Rossens VI vs Avry-Rosé VI (0)
UID:82f1f3d1-fe5a-46d9-b2e9-1cd6e90d3e1d
STATUS:CONFIRMED
LAST-MODIFIED:20250129T234003Z
DESCRIPTION:6ème ligue Hommes Groupe 7\, Tours 3&4\nBegegnungs-Nr: 0\nHeim: Rossens VI\nGast: Avry-Rosé VI\n\nAdresse: Route du Jordil 14\, 1728 Rossens\n
LOCATION:Route du Jordil 14\, 1728 Rossens
CATEGORIES:Saison 2024/25
END:VEVENT
BEGIN:VEVENT
DTSTAMP:20260424T022714Z
DTSTART;TZID=Europe/Berlin:20250523T200000
DTEND;TZID=Europe/Berlin:20250523T230000
SUMMARY:ME L6 Finales Rossens VI vs Crissier VIII (1)
UID:d38e46a2-a10f-4787-93b9-04001f8b8295
STATUS:CONFIRMED
LAST-MODIFIED:20250524T210418Z
DESCRIPTION:6ème ligue Hommes Finales\nBegegnungs-Nr: 1\nHeim: Rossens VI\nGast: Crissier VIII\n\nAdresse: Route du Jordil 14\, 1728 Rossens\n
LOCATION:Route du Jordil 14\, 1728 Rossens
CATEGORIES:Saison 2024/25
END:VEVENT
BEGIN:VEVENT
DTSTAMP:20260424T022714Z
DTSTART;TZID=Europe/Berlin:20240917T194500
DTEND;TZID=Europe/Berlin:20240917T224500
SUMMARY:ME L5 Gr 4\, Tours 1&2 Romont-Villaz III vs Rossens VI (0)
UID:24b0d79e-66b7-4b50-8a0f-b94cd8bfbf62
STATUS:CONFIRMED
LAST-MODIFIED:20240918T203350Z
DESCRIPTION:5ème ligue Hommes Groupe 4\, Tours 1&2\nBegegnungs-Nr: 0\nHeim: Romont-Villaz III\nGast: Rossens VI\n\nAdresse: Route de la Gare 5\, 1690 Villaz-St-Pierre\n
LOCATION:Route de la Gare 5\, 1690 Villaz-St-Pierre
CATEGORIES:Saison 2024/25
END:VEVENT
BEGIN:VEVENT
DTSTAMP:20260424T022714Z
DTSTART;TZID=Europe/Berlin:20240905T193000
DTEND;TZID=Europe/Berlin:20240905T223000
SUMMARY:ME L5 Gr 4\, Tours 1&2 Fribourg VIII vs Rossens VI (0)
UID:961081fe-df51-43eb-9cc2-fdc34e891c7b
STATUS:CONFIRMED
LAST-MODIFIED:20240905T230119Z
DESCRIPTION:5ème ligue Hommes Groupe 4\, Tours 1&2\nBegegnungs-Nr: 0\nHeim: Fribourg VIII\nGast: Rossens VI\n\nAdresse: Route du Centre sportif\, 1752 Villars-sur-Glâne\n
LOCATION:Route du Centre sportif\, 1752 Villars-sur-Glâne
CATEGORIES:Saison 2024/25
END:VEVENT
BEGIN:VEVENT
DTSTAMP:20260424T022714Z
DTSTART;TZID=Europe/Berlin:20241125T201500
DTEND;TZID=Europe/Berlin:20241125T231500
SUMMARY:ME L5 Gr 4\, Tours 1&2 Domdidier vs Rossens VI (0)
UID:9e65f0fd-39a0-41d9-ba0e-49695c60e1f6
STATUS:CONFIRMED
LAST-MODIFIED:20241126T112727Z
DESCRIPTION:5ème ligue Hommes Groupe 4\, Tours 1&2\nBegegnungs-Nr: 0\nHeim: Domdidier\nGast: Rossens VI\n\nAdresse: Pré-de-la-Cour\, 1564 Domdidier\n
LOCATION:Pré-de-la-Cour\, 1564 Domdidier
CATEGORIES:Saison 2024/25
END:VEVENT
BEGIN:VEVENT
DTSTAMP:20260424T022714Z
DTSTART;TZID=Europe/Berlin:20241106T200000
DTEND;TZID=Europe/Berlin:20241106T230000
SUMMARY:ME L5 Gr 4\, Tours 1&2 Domdidier II vs Rossens VI (0)
UID:b3232173-b5d3-45e3-b8c5-7d562716642c
STATUS:CONFIRMED
LAST-MODIFIED:20241110T153809Z
DESCRIPTION:5ème ligue Hommes Groupe 4\, Tours 1&2\nBegegnungs-Nr: 0\nHeim: Domdidier II\nGast: Rossens VI\n\nAdresse: Pré-de-la-Cour\, 1564 Domdidier\n
LOCATION:Pré-de-la-Cour\, 1564 Domdidier
CATEGORIES:Saison 2024/25
END:VEVENT
BEGIN:VEVENT
DTSTAMP:20260424T022714Z
DTSTART;TZID=Europe/Berlin:20241011T193000
DTEND;TZID=Europe/Berlin:20241011T223000
SUMMARY:ME L5 Gr 4\, Tours 1&2 Estavayer II vs Rossens VI (0)
UID:7cecba02-9d8a-44c7-8211-8e40cdb6ce3f
STATUS:CONFIRMED
LAST-MODIFIED:20241012T202734Z
DESCRIPTION:5ème ligue Hommes Groupe 4\, Tours 1&2\nBegegnungs-Nr: 0\nHeim: Estavayer II\nGast: Rossens VI\n\nAdresse: Avenue de la Gare 111\, 1470 Estavayer-le-Lac\n
LOCATION:Avenue de la Gare 111\, 1470 Estavayer-le-Lac
CATEGORIES:Saison 2024/25
END:VEVENT
BEGIN:VEVENT
DTSTAMP:20260424T022714Z
DTSTART;TZID=Europe/Berlin:20250502T193000
DTEND;TZID=Europe/Berlin:20250502T223000
SUMMARY:ME L6 Gr 7\, Tours 3&4 Domdidier III vs Rossens VI (0)
UID:362eb397-05b9-4273-993f-c36169b17993
STATUS:CONFIRMED
LAST-MODIFIED:20250503T193201Z
DESCRIPTION:6ème ligue Hommes Groupe 7\, Tours 3&4\nBegegnungs-Nr: 0\nHeim: Domdidier III\nGast: Rossens VI\n\nAdresse: Pré-de-la-Cour\, 1564 Domdidier\n
LOCATION:Pré-de-la-Cour\, 1564 Domdidier
CATEGORIES:Saison 2024/25
END:VEVENT
BEGIN:VEVENT
DTSTAMP:20260424T022714Z
DTSTART;TZID=Europe/Berlin:20250328T200000
DTEND;TZID=Europe/Berlin:20250328T230000
SUMMARY:ME L6 Gr 7\, Tours 3&4 Avry-Rosé VI vs Rossens VI (0)
UID:ad483e66-86b0-4a01-bc0d-71aede9d9db2
STATUS:CONFIRMED
LAST-MODIFIED:20250401T215856Z
DESCRIPTION:6ème ligue Hommes Groupe 7\, Tours 3&4\nBegegnungs-Nr: 0\nHeim: Avry-Rosé VI\nGast: Rossens VI\n\nAdresse: Route du Château 15\, 1754 Avry-sur-Matran\n
LOCATION:Route du Château 15\, 1754 Avry-sur-Matran
CATEGORIES:Saison 2024/25
END:VEVENT
BEGIN:VEVENT
DTSTAMP:20260424T022714Z
DTSTART;TZID=Europe/Berlin:20250225T193000
DTEND;TZID=Europe/Berlin:20250225T223000
SUMMARY:ME L6 Gr 7\, Tours 3&4 Marly III vs Rossens VI (0)
UID:3096cc24-7a9e-413c-b293-718e4ae4f3be
STATUS:CONFIRMED
LAST-MODIFIED:20250226T232347Z
DESCRIPTION:6ème ligue Hommes Groupe 7\, Tours 3&4\nBegegnungs-Nr: 0\nHeim: Marly III\nGast: Rossens VI\n\nAdresse: Grand Pré - Rte des Ecoles\, 1723 Marly\n
LOCATION:Grand Pré - Rte des Ecoles\, 1723 Marly
CATEGORIES:Saison 2024/25
END:VEVENT
BEGIN:VEVENT
DTSTAMP:20260424T022714Z
DTSTART;TZID=Europe/Berlin:20250221T191500
DTEND;TZID=Europe/Berlin:20250221T221500
SUMMARY:ME L6 Gr 7\, Tours 3&4 Fribourg X vs Rossens VI (0)
UID:10bdf83c-6d0c-465e-8caa-0ba920ed04a3
STATUS:CONFIRMED
LAST-MODIFIED:20250226T232327Z
DESCRIPTION:6ème ligue Hommes Groupe 7\, Tours 3&4\nBegegnungs-Nr: 0\nHeim: Fribourg X\nGast: Rossens VI\n\nAdresse: Avenue Général Guisan 61\, 1700 Fribourg\n
LOCATION:Avenue Général Guisan 61\, 1700 Fribourg
CATEGORIES:Saison 2024/25
END:VEVENT
BEGIN:VEVENT
DTSTAMP:20260424T022714Z
DTSTART;TZID=Europe/Berlin:20250120T200000
DTEND;TZID=Europe/Berlin:20250120T230000
SUMMARY:ME L6 Gr 7\, Tours 3&4 Matran II vs Rossens VI (0)
UID:dba0bcb7-63b8-4847-b97f-f35390f8488c
STATUS:CONFIRMED
LAST-MODIFIED:20250120T234424Z
DESCRIPTION:6ème ligue Hommes Groupe 7\, Tours 3&4\nBegegnungs-Nr: 0\nHeim: Matran II\nGast: Rossens VI\n\nAdresse: Route de l'Ecole\, 1753 Matran\n
LOCATION:Route de l'Ecole\, 1753 Matran
CATEGORIES:Saison 2024/25
END:VEVENT
END:VCALENDAR
