BEGIN:VCALENDAR
PRODID:-//nuDatenautomaten//framework iCal4j //DE
VERSION:2.0
CALSCALE:GREGORIAN
BEGIN:VTIMEZONE
TZID:Europe/Berlin
LAST-MODIFIED:20260306T231828Z
TZURL:https://www.tzurl.org/zoneinfo/Europe/Berlin
X-LIC-LOCATION:Europe/Berlin
X-PROLEPTIC-TZNAME:LMT
BEGIN:STANDARD
TZNAME:CET
TZOFFSETFROM:+005328
TZOFFSETTO:+0100
DTSTART:18930401T000000
END:STANDARD
BEGIN:DAYLIGHT
TZNAME:CEST
TZOFFSETFROM:+0100
TZOFFSETTO:+0200
DTSTART:19160430T230000
RDATE:19400401T020000
RDATE:19430329T020000
RDATE:19460414T020000
RDATE:19470406T030000
RDATE:19480418T020000
RDATE:19490410T020000
RDATE:19800406T020000
END:DAYLIGHT
BEGIN:STANDARD
TZNAME:CET
TZOFFSETFROM:+0200
TZOFFSETTO:+0100
DTSTART:19161001T010000
RDATE:19421102T030000
RDATE:19431004T030000
RDATE:19441002T030000
RDATE:19451118T030000
RDATE:19461007T030000
END:STANDARD
BEGIN:DAYLIGHT
TZNAME:CEST
TZOFFSETFROM:+0100
TZOFFSETTO:+0200
DTSTART:19170416T020000
RRULE:FREQ=YEARLY;UNTIL=19180415T010000Z;BYMONTH=4;BYDAY=3MO
END:DAYLIGHT
BEGIN:STANDARD
TZNAME:CET
TZOFFSETFROM:+0200
TZOFFSETTO:+0100
DTSTART:19170917T030000
RRULE:FREQ=YEARLY;UNTIL=19180916T010000Z;BYMONTH=9;BYDAY=3MO
END:STANDARD
BEGIN:DAYLIGHT
TZNAME:CEST
TZOFFSETFROM:+0100
TZOFFSETTO:+0200
DTSTART:19440403T020000
RRULE:FREQ=YEARLY;UNTIL=19450402T010000Z;BYMONTH=4;BYDAY=1MO
END:DAYLIGHT
BEGIN:DAYLIGHT
TZNAME:CEMT
TZOFFSETFROM:+0200
TZOFFSETTO:+0300
DTSTART:19450524T020000
RDATE:19470511T030000
END:DAYLIGHT
BEGIN:DAYLIGHT
TZNAME:CEST
TZOFFSETFROM:+0300
TZOFFSETTO:+0200
DTSTART:19450924T030000
RDATE:19470629T030000
END:DAYLIGHT
BEGIN:STANDARD
TZNAME:CET
TZOFFSETFROM:+0100
TZOFFSETTO:+0100
DTSTART:19460101T000000
RDATE:19800101T000000
END:STANDARD
BEGIN:STANDARD
TZNAME:CET
TZOFFSETFROM:+0200
TZOFFSETTO:+0100
DTSTART:19471005T030000
RRULE:FREQ=YEARLY;UNTIL=19491002T010000Z;BYMONTH=10;BYDAY=1SU
END:STANDARD
BEGIN:STANDARD
TZNAME:CET
TZOFFSETFROM:+0200
TZOFFSETTO:+0100
DTSTART:19800928T030000
RRULE:FREQ=YEARLY;UNTIL=19950924T010000Z;BYMONTH=9;BYDAY=-1SU
END:STANDARD
BEGIN:DAYLIGHT
TZNAME:CEST
TZOFFSETFROM:+0100
TZOFFSETTO:+0200
DTSTART:19810329T020000
RRULE:FREQ=YEARLY;BYMONTH=3;BYDAY=-1SU
END:DAYLIGHT
BEGIN:STANDARD
TZNAME:CET
TZOFFSETFROM:+0200
TZOFFSETTO:+0100
DTSTART:19961027T030000
RRULE:FREQ=YEARLY;BYMONTH=10;BYDAY=-1SU
END:STANDARD
END:VTIMEZONE
BEGIN:VEVENT
DTSTAMP:20260424T025708Z
DTSTART;TZID=Europe/Berlin:20250512T200000
DTEND;TZID=Europe/Berlin:20250512T230000
SUMMARY:HE 6.Liga Aufstieg Gr. A Wolfhalden III vs Wil SG VI (611)
UID:c6e6f87f-0d49-4d1f-8092-c778f538ab28
STATUS:CONFIRMED
LAST-MODIFIED:20250428T161042Z
DESCRIPTION:6. Liga Herren Aufstieg Gruppe A\nBegegnungs-Nr: 611\nHeim: Wolfhalden III\nGast: Wil SG VI\n\nAdresse: -\, 9427 Wolfhalden\n
LOCATION:-\, 9427 Wolfhalden
CATEGORIES:Saison 2024/25
END:VEVENT
BEGIN:VEVENT
DTSTAMP:20260424T025708Z
DTSTART;TZID=Europe/Berlin:20250526T200000
DTEND;TZID=Europe/Berlin:20250526T230000
SUMMARY:HE 6.Liga Aufstieg 2.Rde. Wolfhalden III vs Balzers II (621)
UID:e197c87b-6789-4d2d-b695-4b506a68ee94
STATUS:CONFIRMED
LAST-MODIFIED:20250520T141651Z
DESCRIPTION:6. Liga Herren Aufstieg 2. Runde\nBegegnungs-Nr: 621\nHeim: Wolfhalden III\nGast: Balzers II\n\nAdresse: -\, 9427 Wolfhalden\n
LOCATION:-\, 9427 Wolfhalden
CATEGORIES:Saison 2024/25
END:VEVENT
BEGIN:VEVENT
DTSTAMP:20260424T025708Z
DTSTART;TZID=Europe/Berlin:20241202T200000
DTEND;TZID=Europe/Berlin:20241202T230000
SUMMARY:HE 6. Liga Gr. 1 Wolfhalden III vs St. Gallen IX (0)
UID:8e7042f9-0c9e-4b22-b4a6-e49251596401
STATUS:CONFIRMED
LAST-MODIFIED:20241205T125716Z
DESCRIPTION:6. Liga Herren Gruppe 1\nBegegnungs-Nr: 0\nHeim: Wolfhalden III\nGast: St. Gallen IX\n\nAdresse: -\, 9427 Wolfhalden\n
LOCATION:-\, 9427 Wolfhalden
CATEGORIES:Saison 2024/25
END:VEVENT
BEGIN:VEVENT
DTSTAMP:20260424T025708Z
DTSTART;TZID=Europe/Berlin:20241007T200000
DTEND;TZID=Europe/Berlin:20241007T230000
SUMMARY:HE 6. Liga Gr. 1 Wolfhalden III vs Muolen IV (0)
UID:e5270923-112e-4bbd-b568-54b80248c66e
STATUS:CONFIRMED
LAST-MODIFIED:20241010T105839Z
DESCRIPTION:6. Liga Herren Gruppe 1\nBegegnungs-Nr: 0\nHeim: Wolfhalden III\nGast: Muolen IV\n\nAdresse: -\, 9427 Wolfhalden\n
LOCATION:-\, 9427 Wolfhalden
CATEGORIES:Saison 2024/25
END:VEVENT
BEGIN:VEVENT
DTSTAMP:20260424T025708Z
DTSTART;TZID=Europe/Berlin:20240826T200000
DTEND;TZID=Europe/Berlin:20240826T230000
SUMMARY:HE 6. Liga Gr. 1 Wolfhalden III vs Rorschach III (0)
UID:22d9f70d-6d9f-4bd0-92c7-f490f952c210
STATUS:CONFIRMED
LAST-MODIFIED:20240828T084134Z
DESCRIPTION:6. Liga Herren Gruppe 1\nBegegnungs-Nr: 0\nHeim: Wolfhalden III\nGast: Rorschach III\n\nAdresse: -\, 9427 Wolfhalden\n
LOCATION:-\, 9427 Wolfhalden
CATEGORIES:Saison 2024/25
END:VEVENT
BEGIN:VEVENT
DTSTAMP:20260424T025708Z
DTSTART;TZID=Europe/Berlin:20250303T200000
DTEND;TZID=Europe/Berlin:20250303T230000
SUMMARY:HE 6. Liga Gr. 1 Wolfhalden III vs Ruggell III (0)
UID:06901ba2-0fb8-4c01-81bb-ba81869e249f
STATUS:CONFIRMED
LAST-MODIFIED:20250306T142801Z
DESCRIPTION:6. Liga Herren Gruppe 1\nBegegnungs-Nr: 0\nHeim: Wolfhalden III\nGast: Ruggell III\n\nAdresse: -\, 9427 Wolfhalden\n
LOCATION:-\, 9427 Wolfhalden
CATEGORIES:Saison 2024/25
END:VEVENT
BEGIN:VEVENT
DTSTAMP:20260424T025708Z
DTSTART;TZID=Europe/Berlin:20250210T200000
DTEND;TZID=Europe/Berlin:20250210T230000
SUMMARY:HE 6. Liga Gr. 1 Wolfhalden III vs Oberriet V (0)
UID:d01a5255-c1ad-4276-9021-12c117fe7909
STATUS:CONFIRMED
LAST-MODIFIED:20250213T132741Z
DESCRIPTION:6. Liga Herren Gruppe 1\nBegegnungs-Nr: 0\nHeim: Wolfhalden III\nGast: Oberriet V\n\nAdresse: -\, 9427 Wolfhalden\n
LOCATION:-\, 9427 Wolfhalden
CATEGORIES:Saison 2024/25
END:VEVENT
BEGIN:VEVENT
DTSTAMP:20260424T025708Z
DTSTART;TZID=Europe/Berlin:20250120T200000
DTEND;TZID=Europe/Berlin:20250120T230000
SUMMARY:HE 6. Liga Gr. 1 Wolfhalden III vs Horn III (0)
UID:34af867a-9876-4783-af8a-0d2ea1d4aec9
STATUS:CONFIRMED
LAST-MODIFIED:20250123T083854Z
DESCRIPTION:6. Liga Herren Gruppe 1\nBegegnungs-Nr: 0\nHeim: Wolfhalden III\nGast: Horn III\n\nAdresse: -\, 9427 Wolfhalden\n
LOCATION:-\, 9427 Wolfhalden
CATEGORIES:Saison 2024/25
END:VEVENT
BEGIN:VEVENT
DTSTAMP:20260424T025708Z
DTSTART;TZID=Europe/Berlin:20250516T200000
DTEND;TZID=Europe/Berlin:20250516T230000
SUMMARY:HE 6.Liga Aufstieg Gr. A Weinfelden III vs Wolfhalden III (613)
UID:204617df-c495-4b59-9b0e-bd57a23e16e0
STATUS:CONFIRMED
LAST-MODIFIED:20250530T121901Z
DESCRIPTION:6. Liga Herren Aufstieg Gruppe A\nBegegnungs-Nr: 613\nHeim: Weinfelden III\nGast: Wolfhalden III\n\nAdresse: Bleichestrasse 3 (neben Hallenbad)\, 8570 Weinfelden\n
LOCATION:Bleichestrasse 3 (neben Hallenbad)\, 8570 Weinfelden
CATEGORIES:Saison 2024/25
END:VEVENT
BEGIN:VEVENT
DTSTAMP:20260424T025708Z
DTSTART;TZID=Europe/Berlin:20250530T193000
DTEND;TZID=Europe/Berlin:20250530T223000
SUMMARY:HE 6.Liga Aufstieg 2.Rde. Niederhasli VI vs Wolfhalden III (622)
UID:0f7d5372-db99-4e5a-bf74-7a5e868c0fd0
STATUS:CONFIRMED
LAST-MODIFIED:20250520T141719Z
DESCRIPTION:6. Liga Herren Aufstieg 2. Runde\nBegegnungs-Nr: 622\nHeim: Niederhasli VI\nGast: Wolfhalden III\n\nAdresse: Dorfstrasse 22\, 8155 Niederhasli\n
LOCATION:Dorfstrasse 22\, 8155 Niederhasli
CATEGORIES:Saison 2024/25
END:VEVENT
BEGIN:VEVENT
DTSTAMP:20260424T025708Z
DTSTART;TZID=Europe/Berlin:20241102T140000
DTEND;TZID=Europe/Berlin:20241102T170000
SUMMARY:HE 6. Liga Gr. 1 Ruggell III vs Wolfhalden III (0)
UID:21ddc102-99b1-45bb-a709-e9d022b71c51
STATUS:CONFIRMED
LAST-MODIFIED:20241108T150218Z
DESCRIPTION:6. Liga Herren Gruppe 1\nBegegnungs-Nr: 0\nHeim: Ruggell III\nGast: Wolfhalden III\n\nAdresse: Nellengasse 40\, 9491 Ruggell\n
LOCATION:Nellengasse 40\, 9491 Ruggell
CATEGORIES:Saison 2024/25
END:VEVENT
BEGIN:VEVENT
DTSTAMP:20260424T025708Z
DTSTART;TZID=Europe/Berlin:20240925T201500
DTEND;TZID=Europe/Berlin:20240925T231500
SUMMARY:HE 6. Liga Gr. 1 Oberriet V vs Wolfhalden III (0)
UID:9daf8d23-dcae-49a8-872f-7f9b215206d3
STATUS:CONFIRMED
LAST-MODIFIED:20240926T115307Z
DESCRIPTION:6. Liga Herren Gruppe 1\nBegegnungs-Nr: 0\nHeim: Oberriet V\nGast: Wolfhalden III\n\nAdresse: Neugutstrasse 2\, 9463 Oberriet SG\n
LOCATION:Neugutstrasse 2\, 9463 Oberriet SG
CATEGORIES:Saison 2024/25
END:VEVENT
BEGIN:VEVENT
DTSTAMP:20260424T025708Z
DTSTART;TZID=Europe/Berlin:20240903T200000
DTEND;TZID=Europe/Berlin:20240903T230000
SUMMARY:HE 6. Liga Gr. 1 Horn III vs Wolfhalden III (0)
UID:1871717e-9998-49a6-848c-d009f8db9815
STATUS:CONFIRMED
LAST-MODIFIED:20240904T113818Z
DESCRIPTION:6. Liga Herren Gruppe 1\nBegegnungs-Nr: 0\nHeim: Horn III\nGast: Wolfhalden III\n\nAdresse: Feldstrasse 16\, 9326 Horn\n
LOCATION:Feldstrasse 16\, 9326 Horn
CATEGORIES:Saison 2024/25
END:VEVENT
BEGIN:VEVENT
DTSTAMP:20260424T025708Z
DTSTART;TZID=Europe/Berlin:20250328T200000
DTEND;TZID=Europe/Berlin:20250328T230000
SUMMARY:HE 6. Liga Gr. 1 St. Gallen IX vs Wolfhalden III (0)
UID:dc25a06b-5006-4a76-99ad-b5177aff7895
STATUS:CONFIRMED
LAST-MODIFIED:20250404T083511Z
DESCRIPTION:6. Liga Herren Gruppe 1\nBegegnungs-Nr: 0\nHeim: St. Gallen IX\nGast: Wolfhalden III\n\nAdresse: Zilstrasse 61\, 9016 St.Gallen\n
LOCATION:Zilstrasse 61\, 9016 St.Gallen
CATEGORIES:Saison 2024/25
END:VEVENT
BEGIN:VEVENT
DTSTAMP:20260424T025708Z
DTSTART;TZID=Europe/Berlin:20250107T200000
DTEND;TZID=Europe/Berlin:20250107T230000
SUMMARY:HE 6. Liga Gr. 1 Rorschach III vs Wolfhalden III (0)
UID:4778a1be-4574-423c-91f2-e8da9c77fe89
STATUS:CONFIRMED
LAST-MODIFIED:20250110T151603Z
DESCRIPTION:6. Liga Herren Gruppe 1\nBegegnungs-Nr: 0\nHeim: Rorschach III\nGast: Wolfhalden III\n\nAdresse: Mariabergstrasse 33\, 9400 Rorschach\n
LOCATION:Mariabergstrasse 33\, 9400 Rorschach
CATEGORIES:Saison 2024/25
END:VEVENT
BEGIN:VEVENT
DTSTAMP:20260424T025708Z
DTSTART;TZID=Europe/Berlin:20250312T200000
DTEND;TZID=Europe/Berlin:20250312T230000
SUMMARY:HE 6. Liga Gr. 1 Muolen IV vs Wolfhalden III (0)
UID:e0f9f52c-2a9e-4420-bcda-750962fbfdce
STATUS:CONFIRMED
LAST-MODIFIED:20250313T103217Z
DESCRIPTION:6. Liga Herren Gruppe 1\nBegegnungs-Nr: 0\nHeim: Muolen IV\nGast: Wolfhalden III\n\nAdresse: Dorfstrasse 31\, 9313 Muolen\n
LOCATION:Dorfstrasse 31\, 9313 Muolen
CATEGORIES:Saison 2024/25
END:VEVENT
END:VCALENDAR
