BEGIN:VCALENDAR
PRODID:-//nuDatenautomaten//framework iCal4j //DE
VERSION:2.0
CALSCALE:GREGORIAN
BEGIN:VTIMEZONE
TZID:Europe/Berlin
LAST-MODIFIED:20260306T231828Z
TZURL:https://www.tzurl.org/zoneinfo/Europe/Berlin
X-LIC-LOCATION:Europe/Berlin
X-PROLEPTIC-TZNAME:LMT
BEGIN:STANDARD
TZNAME:CET
TZOFFSETFROM:+005328
TZOFFSETTO:+0100
DTSTART:18930401T000000
END:STANDARD
BEGIN:DAYLIGHT
TZNAME:CEST
TZOFFSETFROM:+0100
TZOFFSETTO:+0200
DTSTART:19160430T230000
RDATE:19400401T020000
RDATE:19430329T020000
RDATE:19460414T020000
RDATE:19470406T030000
RDATE:19480418T020000
RDATE:19490410T020000
RDATE:19800406T020000
END:DAYLIGHT
BEGIN:STANDARD
TZNAME:CET
TZOFFSETFROM:+0200
TZOFFSETTO:+0100
DTSTART:19161001T010000
RDATE:19421102T030000
RDATE:19431004T030000
RDATE:19441002T030000
RDATE:19451118T030000
RDATE:19461007T030000
END:STANDARD
BEGIN:DAYLIGHT
TZNAME:CEST
TZOFFSETFROM:+0100
TZOFFSETTO:+0200
DTSTART:19170416T020000
RRULE:FREQ=YEARLY;UNTIL=19180415T010000Z;BYMONTH=4;BYDAY=3MO
END:DAYLIGHT
BEGIN:STANDARD
TZNAME:CET
TZOFFSETFROM:+0200
TZOFFSETTO:+0100
DTSTART:19170917T030000
RRULE:FREQ=YEARLY;UNTIL=19180916T010000Z;BYMONTH=9;BYDAY=3MO
END:STANDARD
BEGIN:DAYLIGHT
TZNAME:CEST
TZOFFSETFROM:+0100
TZOFFSETTO:+0200
DTSTART:19440403T020000
RRULE:FREQ=YEARLY;UNTIL=19450402T010000Z;BYMONTH=4;BYDAY=1MO
END:DAYLIGHT
BEGIN:DAYLIGHT
TZNAME:CEMT
TZOFFSETFROM:+0200
TZOFFSETTO:+0300
DTSTART:19450524T020000
RDATE:19470511T030000
END:DAYLIGHT
BEGIN:DAYLIGHT
TZNAME:CEST
TZOFFSETFROM:+0300
TZOFFSETTO:+0200
DTSTART:19450924T030000
RDATE:19470629T030000
END:DAYLIGHT
BEGIN:STANDARD
TZNAME:CET
TZOFFSETFROM:+0100
TZOFFSETTO:+0100
DTSTART:19460101T000000
RDATE:19800101T000000
END:STANDARD
BEGIN:STANDARD
TZNAME:CET
TZOFFSETFROM:+0200
TZOFFSETTO:+0100
DTSTART:19471005T030000
RRULE:FREQ=YEARLY;UNTIL=19491002T010000Z;BYMONTH=10;BYDAY=1SU
END:STANDARD
BEGIN:STANDARD
TZNAME:CET
TZOFFSETFROM:+0200
TZOFFSETTO:+0100
DTSTART:19800928T030000
RRULE:FREQ=YEARLY;UNTIL=19950924T010000Z;BYMONTH=9;BYDAY=-1SU
END:STANDARD
BEGIN:DAYLIGHT
TZNAME:CEST
TZOFFSETFROM:+0100
TZOFFSETTO:+0200
DTSTART:19810329T020000
RRULE:FREQ=YEARLY;BYMONTH=3;BYDAY=-1SU
END:DAYLIGHT
BEGIN:STANDARD
TZNAME:CET
TZOFFSETFROM:+0200
TZOFFSETTO:+0100
DTSTART:19961027T030000
RRULE:FREQ=YEARLY;BYMONTH=10;BYDAY=-1SU
END:STANDARD
END:VTIMEZONE
BEGIN:VEVENT
DTSTAMP:20260423T185859Z
DTSTART;TZID=Europe/Berlin:20250622T131500
DTEND;TZID=Europe/Berlin:20250622T161500
SUMMARY:Final U13\, Final (7/8) Rapid Luzern vs Omega (0)
UID:9fc1d7f1-1f89-4361-9da5-a3463ac5d985
STATUS:CONFIRMED
LAST-MODIFIED:20250624T153347Z
DESCRIPTION:STT Finalrunde U13\, Final (7/8 Rang)\nBegegnungs-Nr: 0\nHeim: Rapid Luzern\nGast: Omega\n
LOCATION:
CATEGORIES:Saison 2024/25
END:VEVENT
BEGIN:VEVENT
DTSTAMP:20260423T185859Z
DTSTART;TZID=Europe/Berlin:20250315T130000
DTEND;TZID=Europe/Berlin:20250315T160000
SUMMARY:U13 F 1. Div Rapid Luzern vs Rapid Luzern II (2)
UID:c7507317-f365-49cf-9064-eddae2cc94d6
STATUS:CONFIRMED
LAST-MODIFIED:20250316T191456Z
DESCRIPTION:U13\, Finalrunde\, 1. Division\nBegegnungs-Nr: 2\nHeim: Rapid Luzern\nGast: Rapid Luzern II\n\nAdresse: Kreuzbuchstr. 60\, 6006 Luzern\n
LOCATION:Kreuzbuchstr. 60\, 6006 Luzern
CATEGORIES:Saison 2024/25
END:VEVENT
BEGIN:VEVENT
DTSTAMP:20260423T185859Z
DTSTART;TZID=Europe/Berlin:20250622T090000
DTEND;TZID=Europe/Berlin:20250622T120000
SUMMARY:Final U13\, Halbfinal (5-8) Ostermundigen vs Rapid Luzern (1)
UID:1636f9e0-0d0f-4700-8681-914cd2a7b011
STATUS:CONFIRMED
LAST-MODIFIED:20250624T153409Z
DESCRIPTION:STT Finalrunde U13\, Halbfinal (5-8 Rang)\nBegegnungs-Nr: 1\nHeim: Ostermundigen\nGast: Rapid Luzern\n
LOCATION:
CATEGORIES:Saison 2024/25
END:VEVENT
BEGIN:VEVENT
DTSTAMP:20260423T185859Z
DTSTART;TZID=Europe/Berlin:20250315T160000
DTEND;TZID=Europe/Berlin:20250315T190000
SUMMARY:U13 F 1. Div Baar vs Rapid Luzern (4)
UID:4cd907c2-5810-449b-8a03-189746273fe0
STATUS:CONFIRMED
LAST-MODIFIED:20250316T192019Z
DESCRIPTION:U13\, Finalrunde\, 1. Division\nBegegnungs-Nr: 4\nHeim: Baar\nGast: Rapid Luzern\n
LOCATION:
CATEGORIES:Saison 2024/25
END:VEVENT
BEGIN:VEVENT
DTSTAMP:20260423T185859Z
DTSTART;TZID=Europe/Berlin:20250621T160000
DTEND;TZID=Europe/Berlin:20250621T190000
SUMMARY:Final U13\, Vorrunde\, Gr. B Rio-Star Muttenz vs Rapid Luzern (5)
UID:5fd38aa1-2475-43e9-94f4-6d68135ba1aa
STATUS:CONFIRMED
LAST-MODIFIED:20250624T153431Z
DESCRIPTION:STT Finalrunde U13\, Vorrunde\, Gruppe B\nBegegnungs-Nr: 5\nHeim: Rio-Star Muttenz\nGast: Rapid Luzern\n
LOCATION:
CATEGORIES:Saison 2024/25
END:VEVENT
BEGIN:VEVENT
DTSTAMP:20260423T185859Z
DTSTART;TZID=Europe/Berlin:20250621T113000
DTEND;TZID=Europe/Berlin:20250621T143000
SUMMARY:Final U13\, Vorrunde\, Gr. B Lausanne vs Rapid Luzern (2)
UID:b428b8d2-6d63-4593-85aa-ed68b32ea16e
STATUS:CONFIRMED
LAST-MODIFIED:20250624T153455Z
DESCRIPTION:STT Finalrunde U13\, Vorrunde\, Gruppe B\nBegegnungs-Nr: 2\nHeim: Lausanne\nGast: Rapid Luzern\n
LOCATION:
CATEGORIES:Saison 2024/25
END:VEVENT
BEGIN:VEVENT
DTSTAMP:20260423T185859Z
DTSTART;TZID=Europe/Berlin:20250621T134500
DTEND;TZID=Europe/Berlin:20250621T164500
SUMMARY:Final U13\, Vorrunde\, Gr. B ZZ-Lancy vs Rapid Luzern (4)
UID:ebebbc14-7ef2-47a0-ba97-335614c9535a
STATUS:CONFIRMED
LAST-MODIFIED:20250624T153438Z
DESCRIPTION:STT Finalrunde U13\, Vorrunde\, Gruppe B\nBegegnungs-Nr: 4\nHeim: ZZ-Lancy\nGast: Rapid Luzern\n
LOCATION:
CATEGORIES:Saison 2024/25
END:VEVENT
END:VCALENDAR
