BEGIN:VCALENDAR
PRODID:-//nuDatenautomaten//framework iCal4j //DE
VERSION:2.0
CALSCALE:GREGORIAN
BEGIN:VTIMEZONE
TZID:Europe/Berlin
LAST-MODIFIED:20260306T231828Z
TZURL:https://www.tzurl.org/zoneinfo/Europe/Berlin
X-LIC-LOCATION:Europe/Berlin
X-PROLEPTIC-TZNAME:LMT
BEGIN:STANDARD
TZNAME:CET
TZOFFSETFROM:+005328
TZOFFSETTO:+0100
DTSTART:18930401T000000
END:STANDARD
BEGIN:DAYLIGHT
TZNAME:CEST
TZOFFSETFROM:+0100
TZOFFSETTO:+0200
DTSTART:19160430T230000
RDATE:19400401T020000
RDATE:19430329T020000
RDATE:19460414T020000
RDATE:19470406T030000
RDATE:19480418T020000
RDATE:19490410T020000
RDATE:19800406T020000
END:DAYLIGHT
BEGIN:STANDARD
TZNAME:CET
TZOFFSETFROM:+0200
TZOFFSETTO:+0100
DTSTART:19161001T010000
RDATE:19421102T030000
RDATE:19431004T030000
RDATE:19441002T030000
RDATE:19451118T030000
RDATE:19461007T030000
END:STANDARD
BEGIN:DAYLIGHT
TZNAME:CEST
TZOFFSETFROM:+0100
TZOFFSETTO:+0200
DTSTART:19170416T020000
RRULE:FREQ=YEARLY;UNTIL=19180415T010000Z;BYMONTH=4;BYDAY=3MO
END:DAYLIGHT
BEGIN:STANDARD
TZNAME:CET
TZOFFSETFROM:+0200
TZOFFSETTO:+0100
DTSTART:19170917T030000
RRULE:FREQ=YEARLY;UNTIL=19180916T010000Z;BYMONTH=9;BYDAY=3MO
END:STANDARD
BEGIN:DAYLIGHT
TZNAME:CEST
TZOFFSETFROM:+0100
TZOFFSETTO:+0200
DTSTART:19440403T020000
RRULE:FREQ=YEARLY;UNTIL=19450402T010000Z;BYMONTH=4;BYDAY=1MO
END:DAYLIGHT
BEGIN:DAYLIGHT
TZNAME:CEMT
TZOFFSETFROM:+0200
TZOFFSETTO:+0300
DTSTART:19450524T020000
RDATE:19470511T030000
END:DAYLIGHT
BEGIN:DAYLIGHT
TZNAME:CEST
TZOFFSETFROM:+0300
TZOFFSETTO:+0200
DTSTART:19450924T030000
RDATE:19470629T030000
END:DAYLIGHT
BEGIN:STANDARD
TZNAME:CET
TZOFFSETFROM:+0100
TZOFFSETTO:+0100
DTSTART:19460101T000000
RDATE:19800101T000000
END:STANDARD
BEGIN:STANDARD
TZNAME:CET
TZOFFSETFROM:+0200
TZOFFSETTO:+0100
DTSTART:19471005T030000
RRULE:FREQ=YEARLY;UNTIL=19491002T010000Z;BYMONTH=10;BYDAY=1SU
END:STANDARD
BEGIN:STANDARD
TZNAME:CET
TZOFFSETFROM:+0200
TZOFFSETTO:+0100
DTSTART:19800928T030000
RRULE:FREQ=YEARLY;UNTIL=19950924T010000Z;BYMONTH=9;BYDAY=-1SU
END:STANDARD
BEGIN:DAYLIGHT
TZNAME:CEST
TZOFFSETFROM:+0100
TZOFFSETTO:+0200
DTSTART:19810329T020000
RRULE:FREQ=YEARLY;BYMONTH=3;BYDAY=-1SU
END:DAYLIGHT
BEGIN:STANDARD
TZNAME:CET
TZOFFSETFROM:+0200
TZOFFSETTO:+0100
DTSTART:19961027T030000
RRULE:FREQ=YEARLY;BYMONTH=10;BYDAY=-1SU
END:STANDARD
END:VTIMEZONE
BEGIN:VEVENT
DTSTAMP:20260424T043557Z
DTSTART;TZID=Europe/Berlin:20241125T194500
DTEND;TZID=Europe/Berlin:20241125T224500
SUMMARY:Ligue 1 Ph.A ZZ-Lancy IV vs UGS-Chênois IV (44)
UID:31572e34-a82f-4162-8743-9565fb7b7733
STATUS:CONFIRMED
LAST-MODIFIED:20241126T075641Z
DESCRIPTION:1ère ligue Homme Gr. unique Phase A\nBegegnungs-Nr: 44\nHeim: ZZ-Lancy IV\nGast: UGS-Chênois IV\n\nAdresse: Avenue du Curé-Baud 40\, 1212 Grand-Lancy\n
LOCATION:Avenue du Curé-Baud 40\, 1212 Grand-Lancy
CATEGORIES:Saison 2024/25
END:VEVENT
BEGIN:VEVENT
DTSTAMP:20260424T043557Z
DTSTART;TZID=Europe/Berlin:20241118T194500
DTEND;TZID=Europe/Berlin:20241118T224500
SUMMARY:Ligue 1 Ph.A ZZ-Lancy IV vs UGS-Chênois III (38)
UID:c3d1da64-dfbe-442f-98d0-9464867bc7ec
STATUS:CONFIRMED
LAST-MODIFIED:20241119T100428Z
DESCRIPTION:1ère ligue Homme Gr. unique Phase A\nBegegnungs-Nr: 38\nHeim: ZZ-Lancy IV\nGast: UGS-Chênois III\n
LOCATION:
CATEGORIES:Saison 2024/25
END:VEVENT
BEGIN:VEVENT
DTSTAMP:20260424T043557Z
DTSTART;TZID=Europe/Berlin:20240916T194500
DTEND;TZID=Europe/Berlin:20240916T224500
SUMMARY:Ligue 1 Ph.A ZZ-Lancy IV vs Versoix (6)
UID:cc412afd-6fe9-48da-a060-6d333dac969d
STATUS:CONFIRMED
LAST-MODIFIED:20240917T064029Z
DESCRIPTION:1ère ligue Homme Gr. unique Phase A\nBegegnungs-Nr: 6\nHeim: ZZ-Lancy IV\nGast: Versoix\n
LOCATION:
CATEGORIES:Saison 2024/25
END:VEVENT
BEGIN:VEVENT
DTSTAMP:20260424T043557Z
DTSTART;TZID=Europe/Berlin:20241120T201500
DTEND;TZID=Europe/Berlin:20241120T231500
SUMMARY:Ligue 1 Ph.A ZZ-Lancy IV vs Châtelaine III (35)
UID:27526aaa-e07d-4aae-8ea6-9a7b21f13408
STATUS:CONFIRMED
LAST-MODIFIED:20241121T112219Z
DESCRIPTION:1ère ligue Homme Gr. unique Phase A\nBegegnungs-Nr: 35\nHeim: ZZ-Lancy IV\nGast: Châtelaine III\n
LOCATION:
CATEGORIES:Saison 2024/25
END:VEVENT
BEGIN:VEVENT
DTSTAMP:20260424T043557Z
DTSTART;TZID=Europe/Berlin:20241007T194500
DTEND;TZID=Europe/Berlin:20241007T224500
SUMMARY:Ligue 1 Ph.A ZZ-Lancy IV vs Carouge III (18)
UID:7a7410b5-3e97-4680-9448-e8557ed1a552
STATUS:CONFIRMED
LAST-MODIFIED:20241008T070501Z
DESCRIPTION:1ère ligue Homme Gr. unique Phase A\nBegegnungs-Nr: 18\nHeim: ZZ-Lancy IV\nGast: Carouge III\n
LOCATION:
CATEGORIES:Saison 2024/25
END:VEVENT
BEGIN:VEVENT
DTSTAMP:20260424T043557Z
DTSTART;TZID=Europe/Berlin:20250120T194500
DTEND;TZID=Europe/Berlin:20250120T224500
SUMMARY:Ligue 1 Ph.B ZZ-Lancy IV vs Châtelaine (6)
UID:e34972d7-85be-4b57-85f4-68cebdb0ff77
STATUS:CONFIRMED
LAST-MODIFIED:20250121T080305Z
DESCRIPTION:1ère ligue Homme Gr. unique Phase B\nBegegnungs-Nr: 6\nHeim: ZZ-Lancy IV\nGast: Châtelaine\n
LOCATION:
CATEGORIES:Saison 2024/25
END:VEVENT
BEGIN:VEVENT
DTSTAMP:20260424T043557Z
DTSTART;TZID=Europe/Berlin:20250331T194500
DTEND;TZID=Europe/Berlin:20250331T224500
SUMMARY:Ligue 1 Ph.B ZZ-Lancy IV vs UGS-Chênois IV (38)
UID:750162b2-91da-49a1-9f2a-a811255121e2
STATUS:CONFIRMED
LAST-MODIFIED:20250401T072453Z
DESCRIPTION:1ère ligue Homme Gr. unique Phase B\nBegegnungs-Nr: 38\nHeim: ZZ-Lancy IV\nGast: UGS-Chênois IV\n
LOCATION:
CATEGORIES:Saison 2024/25
END:VEVENT
BEGIN:VEVENT
DTSTAMP:20260424T043557Z
DTSTART;TZID=Europe/Berlin:20250317T194500
DTEND;TZID=Europe/Berlin:20250317T224500
SUMMARY:Ligue 1 Ph.B ZZ-Lancy IV vs Bernex II (35)
UID:784f9828-0194-4d57-a685-c696761ccd26
STATUS:CONFIRMED
LAST-MODIFIED:20250318T071511Z
DESCRIPTION:1ère ligue Homme Gr. unique Phase B\nBegegnungs-Nr: 35\nHeim: ZZ-Lancy IV\nGast: Bernex II\n
LOCATION:
CATEGORIES:Saison 2024/25
END:VEVENT
BEGIN:VEVENT
DTSTAMP:20260424T043557Z
DTSTART;TZID=Europe/Berlin:20250310T194500
DTEND;TZID=Europe/Berlin:20250310T224500
SUMMARY:Ligue 1 Ph.B ZZ-Lancy IV vs Versoix (30)
UID:4ebf5d58-95bc-4425-be2d-1e3bcc0ec389
STATUS:CONFIRMED
LAST-MODIFIED:20250311T082754Z
DESCRIPTION:1ère ligue Homme Gr. unique Phase B\nBegegnungs-Nr: 30\nHeim: ZZ-Lancy IV\nGast: Versoix\n
LOCATION:
CATEGORIES:Saison 2024/25
END:VEVENT
BEGIN:VEVENT
DTSTAMP:20260424T043557Z
DTSTART;TZID=Europe/Berlin:20250210T194500
DTEND;TZID=Europe/Berlin:20250210T224500
SUMMARY:Ligue 1 Ph.B ZZ-Lancy IV vs Carouge III (18)
UID:e06bf44e-8791-4b10-a8b2-b20cb49bc758
STATUS:CONFIRMED
LAST-MODIFIED:20250211T085055Z
DESCRIPTION:1ère ligue Homme Gr. unique Phase B\nBegegnungs-Nr: 18\nHeim: ZZ-Lancy IV\nGast: Carouge III\n
LOCATION:
CATEGORIES:Saison 2024/25
END:VEVENT
BEGIN:VEVENT
DTSTAMP:20260424T043557Z
DTSTART;TZID=Europe/Berlin:20240909T194500
DTEND;TZID=Europe/Berlin:20240909T224500
SUMMARY:Ligue 1 Ph.A Mandement II vs ZZ-Lancy IV (5)
UID:0a7f02c5-18ce-45b3-b2b5-85d91238e182
STATUS:CONFIRMED
LAST-MODIFIED:20240910T072316Z
DESCRIPTION:1ère ligue Homme Gr. unique Phase A\nBegegnungs-Nr: 5\nHeim: Mandement II\nGast: ZZ-Lancy IV\n
LOCATION:
CATEGORIES:Saison 2024/25
END:VEVENT
BEGIN:VEVENT
DTSTAMP:20260424T043557Z
DTSTART;TZID=Europe/Berlin:20240923T194500
DTEND;TZID=Europe/Berlin:20240923T224500
SUMMARY:Ligue 1 Ph.A Silver Star II vs ZZ-Lancy IV (30)
UID:ce908c1b-2b7d-4449-84a6-d66a1f5b22ea
STATUS:CONFIRMED
LAST-MODIFIED:20240924T072907Z
DESCRIPTION:1ère ligue Homme Gr. unique Phase A\nBegegnungs-Nr: 30\nHeim: Silver Star II\nGast: ZZ-Lancy IV\n\nAdresse: Rue de Vermont 33\, 1202 Genève\n
LOCATION:Rue de Vermont 33\, 1202 Genève
CATEGORIES:Saison 2024/25
END:VEVENT
BEGIN:VEVENT
DTSTAMP:20260424T043557Z
DTSTART;TZID=Europe/Berlin:20241014T200000
DTEND;TZID=Europe/Berlin:20241014T230000
SUMMARY:Ligue 1 Ph.A Châtelaine II vs ZZ-Lancy IV (24)
UID:2bb5e292-4fa4-4408-a709-8fd0d58813e6
STATUS:CONFIRMED
LAST-MODIFIED:20241015T122048Z
DESCRIPTION:1ère ligue Homme Gr. unique Phase A\nBegegnungs-Nr: 24\nHeim: Châtelaine II\nGast: ZZ-Lancy IV\n
LOCATION:
CATEGORIES:Saison 2024/25
END:VEVENT
BEGIN:VEVENT
DTSTAMP:20260424T043557Z
DTSTART;TZID=Europe/Berlin:20241028T194500
DTEND;TZID=Europe/Berlin:20241028T224500
SUMMARY:Ligue 1 Ph.A Châtelaine vs ZZ-Lancy IV (12)
UID:de5e14a7-9e2d-4fe5-987e-d7242076c0f7
STATUS:CONFIRMED
LAST-MODIFIED:20241029T175943Z
DESCRIPTION:1ère ligue Homme Gr. unique Phase A\nBegegnungs-Nr: 12\nHeim: Châtelaine\nGast: ZZ-Lancy IV\n
LOCATION:
CATEGORIES:Saison 2024/25
END:VEVENT
BEGIN:VEVENT
DTSTAMP:20260424T043557Z
DTSTART;TZID=Europe/Berlin:20250127T194500
DTEND;TZID=Europe/Berlin:20250127T224500
SUMMARY:Ligue 1 Ph.B Mandement II vs ZZ-Lancy IV (12)
UID:dc1071da-0b12-4bef-9935-28618bee61c5
STATUS:CONFIRMED
LAST-MODIFIED:20250128T091743Z
DESCRIPTION:1ère ligue Homme Gr. unique Phase B\nBegegnungs-Nr: 12\nHeim: Mandement II\nGast: ZZ-Lancy IV\n\nAdresse: Route de la Gare de Satigny 27A\, 1242 Satigny\n
LOCATION:Route de la Gare de Satigny 27A\, 1242 Satigny
CATEGORIES:Saison 2024/25
END:VEVENT
BEGIN:VEVENT
DTSTAMP:20260424T043557Z
DTSTART;TZID=Europe/Berlin:20250113T194500
DTEND;TZID=Europe/Berlin:20250113T224500
SUMMARY:Ligue 1 Ph.B Silver Star II vs ZZ-Lancy IV (5)
UID:1910b322-7a12-4676-a259-96e9db4c4a89
STATUS:CONFIRMED
LAST-MODIFIED:20250114T165823Z
DESCRIPTION:1ère ligue Homme Gr. unique Phase B\nBegegnungs-Nr: 5\nHeim: Silver Star II\nGast: ZZ-Lancy IV\n
LOCATION:
CATEGORIES:Saison 2024/25
END:VEVENT
BEGIN:VEVENT
DTSTAMP:20260424T043557Z
DTSTART;TZID=Europe/Berlin:20250407T194500
DTEND;TZID=Europe/Berlin:20250407T224500
SUMMARY:Ligue 1 Ph.B UGS-Chênois III vs ZZ-Lancy IV (44)
UID:6971259e-64e6-42e2-8e9e-01bb111c389c
STATUS:CONFIRMED
LAST-MODIFIED:20250408T071336Z
DESCRIPTION:1ère ligue Homme Gr. unique Phase B\nBegegnungs-Nr: 44\nHeim: UGS-Chênois III\nGast: ZZ-Lancy IV\n
LOCATION:
CATEGORIES:Saison 2024/25
END:VEVENT
BEGIN:VEVENT
DTSTAMP:20260424T043557Z
DTSTART;TZID=Europe/Berlin:20250217T194500
DTEND;TZID=Europe/Berlin:20250217T224500
SUMMARY:Ligue 1 Ph.B Mandement III vs ZZ-Lancy IV (24)
UID:8acd8e77-5f82-418e-92ae-1577ca3afb64
STATUS:CONFIRMED
LAST-MODIFIED:20250218T090342Z
DESCRIPTION:1ère ligue Homme Gr. unique Phase B\nBegegnungs-Nr: 24\nHeim: Mandement III\nGast: ZZ-Lancy IV\n\nAdresse: Route de la Gare de Satigny 27A\, 1242 Satigny\n
LOCATION:Route de la Gare de Satigny 27A\, 1242 Satigny
CATEGORIES:Saison 2024/25
END:VEVENT
END:VCALENDAR
