BEGIN:VCALENDAR
PRODID:-//nuDatenautomaten//framework iCal4j //DE
VERSION:2.0
CALSCALE:GREGORIAN
BEGIN:VTIMEZONE
TZID:Europe/Berlin
LAST-MODIFIED:20260306T231828Z
TZURL:https://www.tzurl.org/zoneinfo/Europe/Berlin
X-LIC-LOCATION:Europe/Berlin
X-PROLEPTIC-TZNAME:LMT
BEGIN:STANDARD
TZNAME:CET
TZOFFSETFROM:+005328
TZOFFSETTO:+0100
DTSTART:18930401T000000
END:STANDARD
BEGIN:DAYLIGHT
TZNAME:CEST
TZOFFSETFROM:+0100
TZOFFSETTO:+0200
DTSTART:19160430T230000
RDATE:19400401T020000
RDATE:19430329T020000
RDATE:19460414T020000
RDATE:19470406T030000
RDATE:19480418T020000
RDATE:19490410T020000
RDATE:19800406T020000
END:DAYLIGHT
BEGIN:STANDARD
TZNAME:CET
TZOFFSETFROM:+0200
TZOFFSETTO:+0100
DTSTART:19161001T010000
RDATE:19421102T030000
RDATE:19431004T030000
RDATE:19441002T030000
RDATE:19451118T030000
RDATE:19461007T030000
END:STANDARD
BEGIN:DAYLIGHT
TZNAME:CEST
TZOFFSETFROM:+0100
TZOFFSETTO:+0200
DTSTART:19170416T020000
RRULE:FREQ=YEARLY;UNTIL=19180415T010000Z;BYMONTH=4;BYDAY=3MO
END:DAYLIGHT
BEGIN:STANDARD
TZNAME:CET
TZOFFSETFROM:+0200
TZOFFSETTO:+0100
DTSTART:19170917T030000
RRULE:FREQ=YEARLY;UNTIL=19180916T010000Z;BYMONTH=9;BYDAY=3MO
END:STANDARD
BEGIN:DAYLIGHT
TZNAME:CEST
TZOFFSETFROM:+0100
TZOFFSETTO:+0200
DTSTART:19440403T020000
RRULE:FREQ=YEARLY;UNTIL=19450402T010000Z;BYMONTH=4;BYDAY=1MO
END:DAYLIGHT
BEGIN:DAYLIGHT
TZNAME:CEMT
TZOFFSETFROM:+0200
TZOFFSETTO:+0300
DTSTART:19450524T020000
RDATE:19470511T030000
END:DAYLIGHT
BEGIN:DAYLIGHT
TZNAME:CEST
TZOFFSETFROM:+0300
TZOFFSETTO:+0200
DTSTART:19450924T030000
RDATE:19470629T030000
END:DAYLIGHT
BEGIN:STANDARD
TZNAME:CET
TZOFFSETFROM:+0100
TZOFFSETTO:+0100
DTSTART:19460101T000000
RDATE:19800101T000000
END:STANDARD
BEGIN:STANDARD
TZNAME:CET
TZOFFSETFROM:+0200
TZOFFSETTO:+0100
DTSTART:19471005T030000
RRULE:FREQ=YEARLY;UNTIL=19491002T010000Z;BYMONTH=10;BYDAY=1SU
END:STANDARD
BEGIN:STANDARD
TZNAME:CET
TZOFFSETFROM:+0200
TZOFFSETTO:+0100
DTSTART:19800928T030000
RRULE:FREQ=YEARLY;UNTIL=19950924T010000Z;BYMONTH=9;BYDAY=-1SU
END:STANDARD
BEGIN:DAYLIGHT
TZNAME:CEST
TZOFFSETFROM:+0100
TZOFFSETTO:+0200
DTSTART:19810329T020000
RRULE:FREQ=YEARLY;BYMONTH=3;BYDAY=-1SU
END:DAYLIGHT
BEGIN:STANDARD
TZNAME:CET
TZOFFSETFROM:+0200
TZOFFSETTO:+0100
DTSTART:19961027T030000
RRULE:FREQ=YEARLY;BYMONTH=10;BYDAY=-1SU
END:STANDARD
END:VTIMEZONE
BEGIN:VEVENT
DTSTAMP:20260424T062138Z
DTSTART;TZID=Europe/Berlin:20240915T170000
DTEND;TZID=Europe/Berlin:20240915T200000
SUMMARY:ME L1 Gr 1\, Tours 1&2 Collombey/Muraz vs Bulle III (0)
UID:2d2fac52-5eeb-4da6-bc3b-75366acd8d4b
STATUS:CONFIRMED
LAST-MODIFIED:20240916T233912Z
DESCRIPTION:1ère ligue Hommes Groupe 1\, Tours 1&2\nBegegnungs-Nr: 0\nHeim: Collombey/Muraz\nGast: Bulle III\n\nAdresse: Route du Montagnier 81\, 1868 Collombey\n
LOCATION:Route du Montagnier 81\, 1868 Collombey
CATEGORIES:Saison 2024/25
END:VEVENT
BEGIN:VEVENT
DTSTAMP:20260424T062138Z
DTSTART;TZID=Europe/Berlin:20240908T170000
DTEND;TZID=Europe/Berlin:20240908T200000
SUMMARY:ME L1 Gr 1\, Tours 1&2 Collombey/Muraz vs Yvorne (0)
UID:ae28852e-0a54-4fc3-87fb-eb026a9f1958
STATUS:CONFIRMED
LAST-MODIFIED:20240908T221449Z
DESCRIPTION:1ère ligue Hommes Groupe 1\, Tours 1&2\nBegegnungs-Nr: 0\nHeim: Collombey/Muraz\nGast: Yvorne\n\nAdresse: Route du Montagnier 81\, 1868 Collombey\n
LOCATION:Route du Montagnier 81\, 1868 Collombey
CATEGORIES:Saison 2024/25
END:VEVENT
BEGIN:VEVENT
DTSTAMP:20260424T062138Z
DTSTART;TZID=Europe/Berlin:20241215T170000
DTEND;TZID=Europe/Berlin:20241215T200000
SUMMARY:ME L1 Gr 1\, Tours 1&2 Collombey/Muraz vs Rossens II (0)
UID:3c95b074-e44d-4dba-ab59-5fee563586b7
STATUS:CONFIRMED
LAST-MODIFIED:20241216T081818Z
DESCRIPTION:1ère ligue Hommes Groupe 1\, Tours 1&2\nBegegnungs-Nr: 0\nHeim: Collombey/Muraz\nGast: Rossens II\n\nAdresse: Route du Montagnier 81\, 1868 Collombey\n
LOCATION:Route du Montagnier 81\, 1868 Collombey
CATEGORIES:Saison 2024/25
END:VEVENT
BEGIN:VEVENT
DTSTAMP:20260424T062138Z
DTSTART;TZID=Europe/Berlin:20241124T170000
DTEND;TZID=Europe/Berlin:20241124T200000
SUMMARY:ME L1 Gr 1\, Tours 1&2 Collombey/Muraz vs Avry-Rosé (0)
UID:bc12356b-dff5-4604-a6c1-127011326c86
STATUS:CONFIRMED
LAST-MODIFIED:20241126T111829Z
DESCRIPTION:1ère ligue Hommes Groupe 1\, Tours 1&2\nBegegnungs-Nr: 0\nHeim: Collombey/Muraz\nGast: Avry-Rosé\n\nAdresse: Route du Montagnier 81\, 1868 Collombey\n
LOCATION:Route du Montagnier 81\, 1868 Collombey
CATEGORIES:Saison 2024/25
END:VEVENT
BEGIN:VEVENT
DTSTAMP:20260424T062138Z
DTSTART;TZID=Europe/Berlin:20241006T170000
DTEND;TZID=Europe/Berlin:20241006T200000
SUMMARY:ME L1 Gr 1\, Tours 1&2 Collombey/Muraz vs Forward-Morges (0)
UID:75dc9c92-1e37-4e24-bb4b-35d107815c3b
STATUS:CONFIRMED
LAST-MODIFIED:20241007T062918Z
DESCRIPTION:1ère ligue Hommes Groupe 1\, Tours 1&2\nBegegnungs-Nr: 0\nHeim: Collombey/Muraz\nGast: Forward-Morges\n\nAdresse: Route du Montagnier 81\, 1868 Collombey\n
LOCATION:Route du Montagnier 81\, 1868 Collombey
CATEGORIES:Saison 2024/25
END:VEVENT
BEGIN:VEVENT
DTSTAMP:20260424T062138Z
DTSTART;TZID=Europe/Berlin:20250323T170000
DTEND;TZID=Europe/Berlin:20250323T200000
SUMMARY:ME L1 Gr 2\, Tours 3&4 Collombey/Muraz vs Forward-Morges II (0)
UID:b0e52950-69ae-475b-8786-642b0a61fff2
STATUS:CONFIRMED
LAST-MODIFIED:20250323T215522Z
DESCRIPTION:1ère ligue Hommes Groupe 2\, Tours 3&4\nBegegnungs-Nr: 0\nHeim: Collombey/Muraz\nGast: Forward-Morges II\n\nAdresse: Route du Montagnier 81\, 1868 Collombey\n
LOCATION:Route du Montagnier 81\, 1868 Collombey
CATEGORIES:Saison 2024/25
END:VEVENT
BEGIN:VEVENT
DTSTAMP:20260424T062138Z
DTSTART;TZID=Europe/Berlin:20250309T170000
DTEND;TZID=Europe/Berlin:20250309T200000
SUMMARY:ME L1 Gr 2\, Tours 3&4 Collombey/Muraz vs Bulle III (0)
UID:16f4df0b-65d6-444d-82b6-eadf9918c8ae
STATUS:CONFIRMED
LAST-MODIFIED:20250309T202539Z
DESCRIPTION:1ère ligue Hommes Groupe 2\, Tours 3&4\nBegegnungs-Nr: 0\nHeim: Collombey/Muraz\nGast: Bulle III\n\nAdresse: Route du Montagnier 81\, 1868 Collombey\n
LOCATION:Route du Montagnier 81\, 1868 Collombey
CATEGORIES:Saison 2024/25
END:VEVENT
BEGIN:VEVENT
DTSTAMP:20260424T062138Z
DTSTART;TZID=Europe/Berlin:20250223T170000
DTEND;TZID=Europe/Berlin:20250223T200000
SUMMARY:ME L1 Gr 2\, Tours 3&4 Collombey/Muraz vs Sierre II (0)
UID:913c432d-ccc5-4017-9a80-415be3453efd
STATUS:CONFIRMED
LAST-MODIFIED:20250223T212710Z
DESCRIPTION:1ère ligue Hommes Groupe 2\, Tours 3&4\nBegegnungs-Nr: 0\nHeim: Collombey/Muraz\nGast: Sierre II\n\nAdresse: Route du Montagnier 81\, 1868 Collombey\n
LOCATION:Route du Montagnier 81\, 1868 Collombey
CATEGORIES:Saison 2024/25
END:VEVENT
BEGIN:VEVENT
DTSTAMP:20260424T062138Z
DTSTART;TZID=Europe/Berlin:20250216T170000
DTEND;TZID=Europe/Berlin:20250216T200000
SUMMARY:ME L1 Gr 2\, Tours 3&4 Collombey/Muraz vs Yverdon (0)
UID:7a5e3eeb-bc52-494d-b990-7bb2b62044f8
STATUS:CONFIRMED
LAST-MODIFIED:20250217T003314Z
DESCRIPTION:1ère ligue Hommes Groupe 2\, Tours 3&4\nBegegnungs-Nr: 0\nHeim: Collombey/Muraz\nGast: Yverdon\n\nAdresse: Route du Montagnier 81\, 1868 Collombey\n
LOCATION:Route du Montagnier 81\, 1868 Collombey
CATEGORIES:Saison 2024/25
END:VEVENT
BEGIN:VEVENT
DTSTAMP:20260424T062138Z
DTSTART;TZID=Europe/Berlin:20250126T170000
DTEND;TZID=Europe/Berlin:20250126T200000
SUMMARY:ME L1 Gr 2\, Tours 3&4 Collombey/Muraz vs Martigny (0)
UID:84878bb6-cb54-41b6-b291-dae07eaf5ea4
STATUS:CONFIRMED
LAST-MODIFIED:20250129T233732Z
DESCRIPTION:1ère ligue Hommes Groupe 2\, Tours 3&4\nBegegnungs-Nr: 0\nHeim: Collombey/Muraz\nGast: Martigny\n\nAdresse: Route du Montagnier 81\, 1868 Collombey\n
LOCATION:Route du Montagnier 81\, 1868 Collombey
CATEGORIES:Saison 2024/25
END:VEVENT
BEGIN:VEVENT
DTSTAMP:20260424T062138Z
DTSTART;TZID=Europe/Berlin:20240917T193000
DTEND;TZID=Europe/Berlin:20240917T223000
SUMMARY:ME L1 Gr 1\, Tours 1&2 Avry-Rosé vs Collombey/Muraz (0)
UID:65d2fd91-fd44-400f-a7e5-a7f7b529fb50
STATUS:CONFIRMED
LAST-MODIFIED:20240918T202827Z
DESCRIPTION:1ère ligue Hommes Groupe 1\, Tours 1&2\nBegegnungs-Nr: 0\nHeim: Avry-Rosé\nGast: Collombey/Muraz\n\nAdresse: Route du Château 15\, 1754 Avry-sur-Matran\n
LOCATION:Route du Château 15\, 1754 Avry-sur-Matran
CATEGORIES:Saison 2024/25
END:VEVENT
BEGIN:VEVENT
DTSTAMP:20260424T062138Z
DTSTART;TZID=Europe/Berlin:20241128T194500
DTEND;TZID=Europe/Berlin:20241128T224500
SUMMARY:ME L1 Gr 1\, Tours 1&2 Forward-Morges vs Collombey/Muraz (0)
UID:cb70c6c1-250d-4590-bf92-6d31ac6121a7
STATUS:CONFIRMED
LAST-MODIFIED:20241129T153914Z
DESCRIPTION:1ère ligue Hommes Groupe 1\, Tours 1&2\nBegegnungs-Nr: 0\nHeim: Forward-Morges\nGast: Collombey/Muraz\n\nAdresse: Chemin de Tolochenaz\, 1110 Morges\n
LOCATION:Chemin de Tolochenaz\, 1110 Morges
CATEGORIES:Saison 2024/25
END:VEVENT
BEGIN:VEVENT
DTSTAMP:20260424T062138Z
DTSTART;TZID=Europe/Berlin:20241106T194500
DTEND;TZID=Europe/Berlin:20241106T224500
SUMMARY:ME L1 Gr 1\, Tours 1&2 Bulle III vs Collombey/Muraz (0)
UID:ce45f874-0480-45b5-ae14-5f2da798c1b9
STATUS:CONFIRMED
LAST-MODIFIED:20241108T194803Z
DESCRIPTION:1ère ligue Hommes Groupe 1\, Tours 1&2\nBegegnungs-Nr: 0\nHeim: Bulle III\nGast: Collombey/Muraz\n\nAdresse: Rue du Stade 50\, 1630 Bulle\n
LOCATION:Rue du Stade 50\, 1630 Bulle
CATEGORIES:Saison 2024/25
END:VEVENT
BEGIN:VEVENT
DTSTAMP:20260424T062138Z
DTSTART;TZID=Europe/Berlin:20241030T200000
DTEND;TZID=Europe/Berlin:20241030T230000
SUMMARY:ME L1 Gr 1\, Tours 1&2 Yvorne vs Collombey/Muraz (0)
UID:a7f7a74b-ad4a-452a-a2da-344ce481a27b
STATUS:CONFIRMED
LAST-MODIFIED:20241031T235706Z
DESCRIPTION:1ère ligue Hommes Groupe 1\, Tours 1&2\nBegegnungs-Nr: 0\nHeim: Yvorne\nGast: Collombey/Muraz\n\nAdresse: Les Maisons Neuves 38\, 1853 Yvorne\n
LOCATION:Les Maisons Neuves 38\, 1853 Yvorne
CATEGORIES:Saison 2024/25
END:VEVENT
BEGIN:VEVENT
DTSTAMP:20260424T062138Z
DTSTART;TZID=Europe/Berlin:20241007T200000
DTEND;TZID=Europe/Berlin:20241007T230000
SUMMARY:ME L1 Gr 1\, Tours 1&2 Rossens II vs Collombey/Muraz (0)
UID:e5d6bd45-224d-4c67-a065-99469b524818
STATUS:CONFIRMED
LAST-MODIFIED:20241008T104932Z
DESCRIPTION:1ère ligue Hommes Groupe 1\, Tours 1&2\nBegegnungs-Nr: 0\nHeim: Rossens II\nGast: Collombey/Muraz\n\nAdresse: Route du Jordil 14\, 1728 Rossens\n
LOCATION:Route du Jordil 14\, 1728 Rossens
CATEGORIES:Saison 2024/25
END:VEVENT
BEGIN:VEVENT
DTSTAMP:20260424T062138Z
DTSTART;TZID=Europe/Berlin:20250402T200000
DTEND;TZID=Europe/Berlin:20250402T230000
SUMMARY:ME L1 Gr 2\, Tours 3&4 Sierre II vs Collombey/Muraz (0)
UID:767f90b4-76ee-42f6-9303-fe6b3edbab3d
STATUS:CONFIRMED
LAST-MODIFIED:20250403T072119Z
DESCRIPTION:1ère ligue Hommes Groupe 2\, Tours 3&4\nBegegnungs-Nr: 0\nHeim: Sierre II\nGast: Collombey/Muraz\n\nAdresse: Rte des Liddes 6\, 3960 Sierre\n
LOCATION:Rte des Liddes 6\, 3960 Sierre
CATEGORIES:Saison 2024/25
END:VEVENT
BEGIN:VEVENT
DTSTAMP:20260424T062138Z
DTSTART;TZID=Europe/Berlin:20250324T201500
DTEND;TZID=Europe/Berlin:20250324T231500
SUMMARY:ME L1 Gr 2\, Tours 3&4 Yverdon vs Collombey/Muraz (0)
UID:0a5ad3b9-2e7c-425c-a1e1-d4b8d62a719c
STATUS:CONFIRMED
LAST-MODIFIED:20250325T125123Z
DESCRIPTION:1ère ligue Hommes Groupe 2\, Tours 3&4\nBegegnungs-Nr: 0\nHeim: Yverdon\nGast: Collombey/Muraz\n\nAdresse: Avenue des Quatre Marroniers 1\, 1400 Yverdon-les-Bains\n
LOCATION:Avenue des Quatre Marroniers 1\, 1400 Yverdon-les-Bains
CATEGORIES:Saison 2024/25
END:VEVENT
BEGIN:VEVENT
DTSTAMP:20260424T062138Z
DTSTART;TZID=Europe/Berlin:20250313T200000
DTEND;TZID=Europe/Berlin:20250313T230000
SUMMARY:ME L1 Gr 2\, Tours 3&4 Martigny vs Collombey/Muraz (0)
UID:d9a1f3a1-d317-48d8-aaed-89a8de7f4551
STATUS:CONFIRMED
LAST-MODIFIED:20250314T181541Z
DESCRIPTION:1ère ligue Hommes Groupe 2\, Tours 3&4\nBegegnungs-Nr: 0\nHeim: Martigny\nGast: Collombey/Muraz\n\nAdresse: Rue des Ecoles 9\, 1920 Martigny\n
LOCATION:Rue des Ecoles 9\, 1920 Martigny
CATEGORIES:Saison 2024/25
END:VEVENT
BEGIN:VEVENT
DTSTAMP:20260424T062138Z
DTSTART;TZID=Europe/Berlin:20250213T194500
DTEND;TZID=Europe/Berlin:20250213T224500
SUMMARY:ME L1 Gr 2\, Tours 3&4 Forward-Morges II vs Collombey/Muraz (0)
UID:cd2bcfee-6bab-4075-8989-027324750c80
STATUS:CONFIRMED
LAST-MODIFIED:20250214T134419Z
DESCRIPTION:1ère ligue Hommes Groupe 2\, Tours 3&4\nBegegnungs-Nr: 0\nHeim: Forward-Morges II\nGast: Collombey/Muraz\n\nAdresse: Chemin de Tolochenaz\, 1110 Morges\n
LOCATION:Chemin de Tolochenaz\, 1110 Morges
CATEGORIES:Saison 2024/25
END:VEVENT
BEGIN:VEVENT
DTSTAMP:20260424T062138Z
DTSTART;TZID=Europe/Berlin:20250117T194500
DTEND;TZID=Europe/Berlin:20250117T224500
SUMMARY:ME L1 Gr 2\, Tours 3&4 Bulle III vs Collombey/Muraz (0)
UID:9fb1d578-0319-4153-8d12-afdbe539f6dd
STATUS:CONFIRMED
LAST-MODIFIED:20250119T142550Z
DESCRIPTION:1ère ligue Hommes Groupe 2\, Tours 3&4\nBegegnungs-Nr: 0\nHeim: Bulle III\nGast: Collombey/Muraz\n\nAdresse: Rue du Stade 50\, 1630 Bulle\n
LOCATION:Rue du Stade 50\, 1630 Bulle
CATEGORIES:Saison 2024/25
END:VEVENT
END:VCALENDAR
