BEGIN:VCALENDAR
PRODID:-//nuDatenautomaten//framework iCal4j //DE
VERSION:2.0
CALSCALE:GREGORIAN
BEGIN:VTIMEZONE
TZID:Europe/Berlin
LAST-MODIFIED:20260306T231828Z
TZURL:https://www.tzurl.org/zoneinfo/Europe/Berlin
X-LIC-LOCATION:Europe/Berlin
X-PROLEPTIC-TZNAME:LMT
BEGIN:STANDARD
TZNAME:CET
TZOFFSETFROM:+005328
TZOFFSETTO:+0100
DTSTART:18930401T000000
END:STANDARD
BEGIN:DAYLIGHT
TZNAME:CEST
TZOFFSETFROM:+0100
TZOFFSETTO:+0200
DTSTART:19160430T230000
RDATE:19400401T020000
RDATE:19430329T020000
RDATE:19460414T020000
RDATE:19470406T030000
RDATE:19480418T020000
RDATE:19490410T020000
RDATE:19800406T020000
END:DAYLIGHT
BEGIN:STANDARD
TZNAME:CET
TZOFFSETFROM:+0200
TZOFFSETTO:+0100
DTSTART:19161001T010000
RDATE:19421102T030000
RDATE:19431004T030000
RDATE:19441002T030000
RDATE:19451118T030000
RDATE:19461007T030000
END:STANDARD
BEGIN:DAYLIGHT
TZNAME:CEST
TZOFFSETFROM:+0100
TZOFFSETTO:+0200
DTSTART:19170416T020000
RRULE:FREQ=YEARLY;UNTIL=19180415T010000Z;BYMONTH=4;BYDAY=3MO
END:DAYLIGHT
BEGIN:STANDARD
TZNAME:CET
TZOFFSETFROM:+0200
TZOFFSETTO:+0100
DTSTART:19170917T030000
RRULE:FREQ=YEARLY;UNTIL=19180916T010000Z;BYMONTH=9;BYDAY=3MO
END:STANDARD
BEGIN:DAYLIGHT
TZNAME:CEST
TZOFFSETFROM:+0100
TZOFFSETTO:+0200
DTSTART:19440403T020000
RRULE:FREQ=YEARLY;UNTIL=19450402T010000Z;BYMONTH=4;BYDAY=1MO
END:DAYLIGHT
BEGIN:DAYLIGHT
TZNAME:CEMT
TZOFFSETFROM:+0200
TZOFFSETTO:+0300
DTSTART:19450524T020000
RDATE:19470511T030000
END:DAYLIGHT
BEGIN:DAYLIGHT
TZNAME:CEST
TZOFFSETFROM:+0300
TZOFFSETTO:+0200
DTSTART:19450924T030000
RDATE:19470629T030000
END:DAYLIGHT
BEGIN:STANDARD
TZNAME:CET
TZOFFSETFROM:+0100
TZOFFSETTO:+0100
DTSTART:19460101T000000
RDATE:19800101T000000
END:STANDARD
BEGIN:STANDARD
TZNAME:CET
TZOFFSETFROM:+0200
TZOFFSETTO:+0100
DTSTART:19471005T030000
RRULE:FREQ=YEARLY;UNTIL=19491002T010000Z;BYMONTH=10;BYDAY=1SU
END:STANDARD
BEGIN:STANDARD
TZNAME:CET
TZOFFSETFROM:+0200
TZOFFSETTO:+0100
DTSTART:19800928T030000
RRULE:FREQ=YEARLY;UNTIL=19950924T010000Z;BYMONTH=9;BYDAY=-1SU
END:STANDARD
BEGIN:DAYLIGHT
TZNAME:CEST
TZOFFSETFROM:+0100
TZOFFSETTO:+0200
DTSTART:19810329T020000
RRULE:FREQ=YEARLY;BYMONTH=3;BYDAY=-1SU
END:DAYLIGHT
BEGIN:STANDARD
TZNAME:CET
TZOFFSETFROM:+0200
TZOFFSETTO:+0100
DTSTART:19961027T030000
RRULE:FREQ=YEARLY;BYMONTH=10;BYDAY=-1SU
END:STANDARD
END:VTIMEZONE
BEGIN:VEVENT
DTSTAMP:20260424T043559Z
DTSTART;TZID=Europe/Berlin:20241206T200000
DTEND;TZID=Europe/Berlin:20241206T230000
SUMMARY:ME L3 Gr 2\, Tours 1&2 Blonay vs Grône (0)
UID:b009b0ad-26fc-4b30-a9af-de82af3dcdac
STATUS:CONFIRMED
LAST-MODIFIED:20241209T220248Z
DESCRIPTION:3ème ligue Hommes Groupe 2\, Tours 1&2\nBegegnungs-Nr: 0\nHeim: Blonay\nGast: Grône\n\nAdresse: Route de Prélaz 2\, 1807 Blonay\n
LOCATION:Route de Prélaz 2\, 1807 Blonay
CATEGORIES:Saison 2024/25
END:VEVENT
BEGIN:VEVENT
DTSTAMP:20260424T043559Z
DTSTART;TZID=Europe/Berlin:20241108T200000
DTEND;TZID=Europe/Berlin:20241108T230000
SUMMARY:ME L3 Gr 2\, Tours 1&2 Blonay vs Fribourg V (0)
UID:f7675af4-f7db-46fd-8888-247c534ccf7a
STATUS:CONFIRMED
LAST-MODIFIED:20241110T153720Z
DESCRIPTION:3ème ligue Hommes Groupe 2\, Tours 1&2\nBegegnungs-Nr: 0\nHeim: Blonay\nGast: Fribourg V\n\nAdresse: Route de Prélaz 2\, 1807 Blonay\n
LOCATION:Route de Prélaz 2\, 1807 Blonay
CATEGORIES:Saison 2024/25
END:VEVENT
BEGIN:VEVENT
DTSTAMP:20260424T043559Z
DTSTART;TZID=Europe/Berlin:20241011T200000
DTEND;TZID=Europe/Berlin:20241011T230000
SUMMARY:ME L3 Gr 2\, Tours 1&2 Blonay vs Fribourg VI (0)
UID:a09cb4e8-70d6-4971-98a4-88b871ac3f60
STATUS:CONFIRMED
LAST-MODIFIED:20241016T185006Z
DESCRIPTION:3ème ligue Hommes Groupe 2\, Tours 1&2\nBegegnungs-Nr: 0\nHeim: Blonay\nGast: Fribourg VI\n\nAdresse: Route de Prélaz 2\, 1807 Blonay\n
LOCATION:Route de Prélaz 2\, 1807 Blonay
CATEGORIES:Saison 2024/25
END:VEVENT
BEGIN:VEVENT
DTSTAMP:20260424T043559Z
DTSTART;TZID=Europe/Berlin:20240917T200000
DTEND;TZID=Europe/Berlin:20240917T230000
SUMMARY:ME L3 Gr 2\, Tours 1&2 Blonay vs Ependes (0)
UID:224b9867-a717-4e18-8db7-a7ea189fcb15
STATUS:CONFIRMED
LAST-MODIFIED:20240918T204317Z
DESCRIPTION:3ème ligue Hommes Groupe 2\, Tours 1&2\nBegegnungs-Nr: 0\nHeim: Blonay\nGast: Ependes\n\nAdresse: Route de Prélaz 2\, 1807 Blonay\n
LOCATION:Route de Prélaz 2\, 1807 Blonay
CATEGORIES:Saison 2024/25
END:VEVENT
BEGIN:VEVENT
DTSTAMP:20260424T043559Z
DTSTART;TZID=Europe/Berlin:20241003T200000
DTEND;TZID=Europe/Berlin:20241003T230000
SUMMARY:ME L3 Gr 2\, Tours 1&2 Blonay vs Avry-Rosé II (0)
UID:395bd90b-07f5-4612-b752-fedcda320523
STATUS:CONFIRMED
LAST-MODIFIED:20241007T063448Z
DESCRIPTION:3ème ligue Hommes Groupe 2\, Tours 1&2\nBegegnungs-Nr: 0\nHeim: Blonay\nGast: Avry-Rosé II\n\nAdresse: Route de Prélaz 2\, 1807 Blonay\n
LOCATION:Route de Prélaz 2\, 1807 Blonay
CATEGORIES:Saison 2024/25
END:VEVENT
BEGIN:VEVENT
DTSTAMP:20260424T043559Z
DTSTART;TZID=Europe/Berlin:20250411T200000
DTEND;TZID=Europe/Berlin:20250411T230000
SUMMARY:ME L3 Gr 2\, Tours 3&4 Blonay vs Fribourg V (0)
UID:136bb9c1-e7ed-457e-87e3-fc0017064d96
STATUS:CONFIRMED
LAST-MODIFIED:20250412T102707Z
DESCRIPTION:3ème ligue Hommes Groupe 2\, Tours 3&4\nBegegnungs-Nr: 0\nHeim: Blonay\nGast: Fribourg V\n\nAdresse: Route de Prélaz 2\, 1807 Blonay\n
LOCATION:Route de Prélaz 2\, 1807 Blonay
CATEGORIES:Saison 2024/25
END:VEVENT
BEGIN:VEVENT
DTSTAMP:20260424T043559Z
DTSTART;TZID=Europe/Berlin:20250307T200000
DTEND;TZID=Europe/Berlin:20250307T230000
SUMMARY:ME L3 Gr 2\, Tours 3&4 Blonay vs Mézières II (0)
UID:949d8fc7-23e0-48f7-b552-f8d85b46bfeb
STATUS:CONFIRMED
LAST-MODIFIED:20250308T180804Z
DESCRIPTION:3ème ligue Hommes Groupe 2\, Tours 3&4\nBegegnungs-Nr: 0\nHeim: Blonay\nGast: Mézières II\n\nAdresse: Route de Prélaz 2\, 1807 Blonay\n
LOCATION:Route de Prélaz 2\, 1807 Blonay
CATEGORIES:Saison 2024/25
END:VEVENT
BEGIN:VEVENT
DTSTAMP:20260424T043559Z
DTSTART;TZID=Europe/Berlin:20250228T200000
DTEND;TZID=Europe/Berlin:20250228T230000
SUMMARY:ME L3 Gr 2\, Tours 3&4 Blonay vs Rossens IV (0)
UID:c61e993c-acf7-4d5e-b095-70ba0bdf6caa
STATUS:CONFIRMED
LAST-MODIFIED:20250301T115921Z
DESCRIPTION:3ème ligue Hommes Groupe 2\, Tours 3&4\nBegegnungs-Nr: 0\nHeim: Blonay\nGast: Rossens IV\n\nAdresse: Route de Prélaz 2\, 1807 Blonay\n
LOCATION:Route de Prélaz 2\, 1807 Blonay
CATEGORIES:Saison 2024/25
END:VEVENT
BEGIN:VEVENT
DTSTAMP:20260424T043559Z
DTSTART;TZID=Europe/Berlin:20250220T200000
DTEND;TZID=Europe/Berlin:20250220T230000
SUMMARY:ME L3 Gr 2\, Tours 3&4 Blonay vs Ependes (0)
UID:76bb5742-68c0-4004-857d-788f210df022
STATUS:CONFIRMED
LAST-MODIFIED:20250222T175858Z
DESCRIPTION:3ème ligue Hommes Groupe 2\, Tours 3&4\nBegegnungs-Nr: 0\nHeim: Blonay\nGast: Ependes\n\nAdresse: Route de Prélaz 2\, 1807 Blonay\n
LOCATION:Route de Prélaz 2\, 1807 Blonay
CATEGORIES:Saison 2024/25
END:VEVENT
BEGIN:VEVENT
DTSTAMP:20260424T043559Z
DTSTART;TZID=Europe/Berlin:20250117T200000
DTEND;TZID=Europe/Berlin:20250117T230000
SUMMARY:ME L3 Gr 2\, Tours 3&4 Blonay vs Blonay II (0)
UID:2bf66887-1620-4447-8a92-9f8c0ef84497
STATUS:CONFIRMED
LAST-MODIFIED:20250120T123440Z
DESCRIPTION:3ème ligue Hommes Groupe 2\, Tours 3&4\nBegegnungs-Nr: 0\nHeim: Blonay\nGast: Blonay II\n\nAdresse: Route de Prélaz 2\, 1807 Blonay\n
LOCATION:Route de Prélaz 2\, 1807 Blonay
CATEGORIES:Saison 2024/25
END:VEVENT
BEGIN:VEVENT
DTSTAMP:20260424T043559Z
DTSTART;TZID=Europe/Berlin:20241212T191500
DTEND;TZID=Europe/Berlin:20241212T221500
SUMMARY:ME L3 Gr 2\, Tours 1&2 Fribourg VI vs Blonay (0)
UID:571f6e34-3139-41f0-8fe9-b899eb1ce417
STATUS:CONFIRMED
LAST-MODIFIED:20241215T005744Z
DESCRIPTION:3ème ligue Hommes Groupe 2\, Tours 1&2\nBegegnungs-Nr: 0\nHeim: Fribourg VI\nGast: Blonay\n\nAdresse: Avenue Général Guisan 61\, 1700 Fribourg\n
LOCATION:Avenue Général Guisan 61\, 1700 Fribourg
CATEGORIES:Saison 2024/25
END:VEVENT
BEGIN:VEVENT
DTSTAMP:20260424T043559Z
DTSTART;TZID=Europe/Berlin:20241120T194500
DTEND;TZID=Europe/Berlin:20241120T224500
SUMMARY:ME L3 Gr 2\, Tours 1&2 Ependes vs Blonay (0)
UID:0ca13886-472d-4b3e-be72-359daedae2ae
STATUS:CONFIRMED
LAST-MODIFIED:20241126T111958Z
DESCRIPTION:3ème ligue Hommes Groupe 2\, Tours 1&2\nBegegnungs-Nr: 0\nHeim: Ependes\nGast: Blonay\n\nAdresse: -\, 1731 Ependes FR\n
LOCATION:-\, 1731 Ependes FR
CATEGORIES:Saison 2024/25
END:VEVENT
BEGIN:VEVENT
DTSTAMP:20260424T043559Z
DTSTART;TZID=Europe/Berlin:20241101T200000
DTEND;TZID=Europe/Berlin:20241101T230000
SUMMARY:ME L3 Gr 2\, Tours 1&2 Avry-Rosé II vs Blonay (0)
UID:bb275cef-19e1-4ea3-b79a-b47caf2bff5c
STATUS:CONFIRMED
LAST-MODIFIED:20241102T091209Z
DESCRIPTION:3ème ligue Hommes Groupe 2\, Tours 1&2\nBegegnungs-Nr: 0\nHeim: Avry-Rosé II\nGast: Blonay\n\nAdresse: Route du Château 15\, 1754 Avry-sur-Matran\n
LOCATION:Route du Château 15\, 1754 Avry-sur-Matran
CATEGORIES:Saison 2024/25
END:VEVENT
BEGIN:VEVENT
DTSTAMP:20260424T043559Z
DTSTART;TZID=Europe/Berlin:20241004T200000
DTEND;TZID=Europe/Berlin:20241004T230000
SUMMARY:ME L3 Gr 2\, Tours 1&2 Grône vs Blonay (0)
UID:7517ba06-37f1-4d77-ad12-39a21fa21efc
STATUS:CONFIRMED
LAST-MODIFIED:20241008T173205Z
DESCRIPTION:3ème ligue Hommes Groupe 2\, Tours 1&2\nBegegnungs-Nr: 0\nHeim: Grône\nGast: Blonay\n\nAdresse:  Rue Centrale\,  \, Rue de la Piscine\, \, 3979 Grône\n
LOCATION: Rue Centrale\,  \, Rue de la Piscine\, \, 3979 Grône
CATEGORIES:Saison 2024/25
END:VEVENT
BEGIN:VEVENT
DTSTAMP:20260424T043559Z
DTSTART;TZID=Europe/Berlin:20240912T193000
DTEND;TZID=Europe/Berlin:20240912T223000
SUMMARY:ME L3 Gr 2\, Tours 1&2 Fribourg V vs Blonay (0)
UID:b9ed2b42-5b65-4010-bdd3-16ce3077aa31
STATUS:CONFIRMED
LAST-MODIFIED:20240918T114003Z
DESCRIPTION:3ème ligue Hommes Groupe 2\, Tours 1&2\nBegegnungs-Nr: 0\nHeim: Fribourg V\nGast: Blonay\n\nAdresse: Route du Centre sportif\, 1752 Villars-sur-Glâne\n
LOCATION:Route du Centre sportif\, 1752 Villars-sur-Glâne
CATEGORIES:Saison 2024/25
END:VEVENT
BEGIN:VEVENT
DTSTAMP:20260424T043559Z
DTSTART;TZID=Europe/Berlin:20250509T201500
DTEND;TZID=Europe/Berlin:20250509T231500
SUMMARY:ME L3 Gr 2\, Tours 3&4 Rossens IV vs Blonay (0)
UID:bd6cddcc-3590-4cb6-8a28-85f86c0668d8
STATUS:CONFIRMED
LAST-MODIFIED:20250511T173026Z
DESCRIPTION:3ème ligue Hommes Groupe 2\, Tours 3&4\nBegegnungs-Nr: 0\nHeim: Rossens IV\nGast: Blonay\n\nAdresse: Route du Jordil 14\, 1728 Rossens\n
LOCATION:Route du Jordil 14\, 1728 Rossens
CATEGORIES:Saison 2024/25
END:VEVENT
BEGIN:VEVENT
DTSTAMP:20260424T043559Z
DTSTART;TZID=Europe/Berlin:20250430T194500
DTEND;TZID=Europe/Berlin:20250430T224500
SUMMARY:ME L3 Gr 2\, Tours 3&4 Ependes vs Blonay (0)
UID:66c762d5-5074-4ffb-b6f9-4021899978d8
STATUS:CONFIRMED
LAST-MODIFIED:20250504T233000Z
DESCRIPTION:3ème ligue Hommes Groupe 2\, Tours 3&4\nBegegnungs-Nr: 0\nHeim: Ependes\nGast: Blonay\n\nAdresse: -\, 1731 Ependes FR\n
LOCATION:-\, 1731 Ependes FR
CATEGORIES:Saison 2024/25
END:VEVENT
BEGIN:VEVENT
DTSTAMP:20260424T043559Z
DTSTART;TZID=Europe/Berlin:20250325T200000
DTEND;TZID=Europe/Berlin:20250325T230000
SUMMARY:ME L3 Gr 2\, Tours 3&4 Blonay II vs Blonay (0)
UID:45b21b57-688b-4f8a-b450-c4644971458e
STATUS:CONFIRMED
LAST-MODIFIED:20250326T182851Z
DESCRIPTION:3ème ligue Hommes Groupe 2\, Tours 3&4\nBegegnungs-Nr: 0\nHeim: Blonay II\nGast: Blonay\n\nAdresse: Route de Prélaz 2\, 1807 Blonay\n
LOCATION:Route de Prélaz 2\, 1807 Blonay
CATEGORIES:Saison 2024/25
END:VEVENT
BEGIN:VEVENT
DTSTAMP:20260424T043559Z
DTSTART;TZID=Europe/Berlin:20250213T193000
DTEND;TZID=Europe/Berlin:20250213T223000
SUMMARY:ME L3 Gr 2\, Tours 3&4 Fribourg V vs Blonay (0)
UID:2850f37a-81ec-4546-a2ed-b0a12871ebb2
STATUS:CONFIRMED
LAST-MODIFIED:20250214T134504Z
DESCRIPTION:3ème ligue Hommes Groupe 2\, Tours 3&4\nBegegnungs-Nr: 0\nHeim: Fribourg V\nGast: Blonay\n\nAdresse: Route du Centre sportif\, 1752 Villars-sur-Glâne\n
LOCATION:Route du Centre sportif\, 1752 Villars-sur-Glâne
CATEGORIES:Saison 2024/25
END:VEVENT
BEGIN:VEVENT
DTSTAMP:20260424T043559Z
DTSTART;TZID=Europe/Berlin:20250211T203000
DTEND;TZID=Europe/Berlin:20250211T233000
SUMMARY:ME L3 Gr 2\, Tours 3&4 Mézières II vs Blonay (0)
UID:a15bf7d0-815e-40b4-9192-c174bfeed00b
STATUS:CONFIRMED
LAST-MODIFIED:20250212T000920Z
DESCRIPTION:3ème ligue Hommes Groupe 2\, Tours 3&4\nBegegnungs-Nr: 0\nHeim: Mézières II\nGast: Blonay\n\nAdresse: -\, 1083 Mézières\n
LOCATION:-\, 1083 Mézières
CATEGORIES:Saison 2024/25
END:VEVENT
BEGIN:VEVENT
DTSTAMP:20260424T043559Z
DTSTART;TZID=Europe/Berlin:20250519T193000
DTEND;TZID=Europe/Berlin:20250519T223000
SUMMARY:ME L3 Finales Collombey/Muraz II vs Blonay (2)
UID:bda7d9c3-0507-4d06-919d-4445c58864b5
STATUS:CONFIRMED
LAST-MODIFIED:20250521T132244Z
DESCRIPTION:3ème ligue Hommes Finales\nBegegnungs-Nr: 2\nHeim: Collombey/Muraz II\nGast: Blonay\n\nAdresse: Route du Montagnier 81\, 1868 Collombey\n
LOCATION:Route du Montagnier 81\, 1868 Collombey
CATEGORIES:Saison 2024/25
END:VEVENT
END:VCALENDAR
