BEGIN:VCALENDAR
PRODID:-//nuDatenautomaten//framework iCal4j //DE
VERSION:2.0
CALSCALE:GREGORIAN
BEGIN:VTIMEZONE
TZID:Europe/Berlin
LAST-MODIFIED:20260306T231828Z
TZURL:https://www.tzurl.org/zoneinfo/Europe/Berlin
X-LIC-LOCATION:Europe/Berlin
X-PROLEPTIC-TZNAME:LMT
BEGIN:STANDARD
TZNAME:CET
TZOFFSETFROM:+005328
TZOFFSETTO:+0100
DTSTART:18930401T000000
END:STANDARD
BEGIN:DAYLIGHT
TZNAME:CEST
TZOFFSETFROM:+0100
TZOFFSETTO:+0200
DTSTART:19160430T230000
RDATE:19400401T020000
RDATE:19430329T020000
RDATE:19460414T020000
RDATE:19470406T030000
RDATE:19480418T020000
RDATE:19490410T020000
RDATE:19800406T020000
END:DAYLIGHT
BEGIN:STANDARD
TZNAME:CET
TZOFFSETFROM:+0200
TZOFFSETTO:+0100
DTSTART:19161001T010000
RDATE:19421102T030000
RDATE:19431004T030000
RDATE:19441002T030000
RDATE:19451118T030000
RDATE:19461007T030000
END:STANDARD
BEGIN:DAYLIGHT
TZNAME:CEST
TZOFFSETFROM:+0100
TZOFFSETTO:+0200
DTSTART:19170416T020000
RRULE:FREQ=YEARLY;UNTIL=19180415T010000Z;BYMONTH=4;BYDAY=3MO
END:DAYLIGHT
BEGIN:STANDARD
TZNAME:CET
TZOFFSETFROM:+0200
TZOFFSETTO:+0100
DTSTART:19170917T030000
RRULE:FREQ=YEARLY;UNTIL=19180916T010000Z;BYMONTH=9;BYDAY=3MO
END:STANDARD
BEGIN:DAYLIGHT
TZNAME:CEST
TZOFFSETFROM:+0100
TZOFFSETTO:+0200
DTSTART:19440403T020000
RRULE:FREQ=YEARLY;UNTIL=19450402T010000Z;BYMONTH=4;BYDAY=1MO
END:DAYLIGHT
BEGIN:DAYLIGHT
TZNAME:CEMT
TZOFFSETFROM:+0200
TZOFFSETTO:+0300
DTSTART:19450524T020000
RDATE:19470511T030000
END:DAYLIGHT
BEGIN:DAYLIGHT
TZNAME:CEST
TZOFFSETFROM:+0300
TZOFFSETTO:+0200
DTSTART:19450924T030000
RDATE:19470629T030000
END:DAYLIGHT
BEGIN:STANDARD
TZNAME:CET
TZOFFSETFROM:+0100
TZOFFSETTO:+0100
DTSTART:19460101T000000
RDATE:19800101T000000
END:STANDARD
BEGIN:STANDARD
TZNAME:CET
TZOFFSETFROM:+0200
TZOFFSETTO:+0100
DTSTART:19471005T030000
RRULE:FREQ=YEARLY;UNTIL=19491002T010000Z;BYMONTH=10;BYDAY=1SU
END:STANDARD
BEGIN:STANDARD
TZNAME:CET
TZOFFSETFROM:+0200
TZOFFSETTO:+0100
DTSTART:19800928T030000
RRULE:FREQ=YEARLY;UNTIL=19950924T010000Z;BYMONTH=9;BYDAY=-1SU
END:STANDARD
BEGIN:DAYLIGHT
TZNAME:CEST
TZOFFSETFROM:+0100
TZOFFSETTO:+0200
DTSTART:19810329T020000
RRULE:FREQ=YEARLY;BYMONTH=3;BYDAY=-1SU
END:DAYLIGHT
BEGIN:STANDARD
TZNAME:CET
TZOFFSETFROM:+0200
TZOFFSETTO:+0100
DTSTART:19961027T030000
RRULE:FREQ=YEARLY;BYMONTH=10;BYDAY=-1SU
END:STANDARD
END:VTIMEZONE
BEGIN:VEVENT
DTSTAMP:20260424T004906Z
DTSTART;TZID=Europe/Berlin:20241101T193000
DTEND;TZID=Europe/Berlin:20241101T223000
SUMMARY:ME L2 Gr 3\, Tours 1&2 Gland vs Eysins (0)
UID:526befea-fc69-427a-81ad-fb21ffde6651
STATUS:CONFIRMED
LAST-MODIFIED:20241102T213115Z
DESCRIPTION:2ème ligue Hommes Groupe 3\, Tours 1&2\nBegegnungs-Nr: 0\nHeim: Gland\nGast: Eysins\n\nAdresse: Chemin de la Perroude 1\, 1196 Gland\n
LOCATION:Chemin de la Perroude 1\, 1196 Gland
CATEGORIES:Saison 2024/25
END:VEVENT
BEGIN:VEVENT
DTSTAMP:20260424T004906Z
DTSTART;TZID=Europe/Berlin:20240920T193000
DTEND;TZID=Europe/Berlin:20240920T223000
SUMMARY:ME L2 Gr 3\, Tours 1&2 Gland vs Romanel II (0)
UID:f0ad48eb-f4dc-42f1-b23e-2d2d3192c76e
STATUS:CONFIRMED
LAST-MODIFIED:20240922T132253Z
DESCRIPTION:2ème ligue Hommes Groupe 3\, Tours 1&2\nBegegnungs-Nr: 0\nHeim: Gland\nGast: Romanel II\n\nAdresse: Chemin de la Perroude 1\, 1196 Gland\n
LOCATION:Chemin de la Perroude 1\, 1196 Gland
CATEGORIES:Saison 2024/25
END:VEVENT
BEGIN:VEVENT
DTSTAMP:20260424T004906Z
DTSTART;TZID=Europe/Berlin:20241018T193000
DTEND;TZID=Europe/Berlin:20241018T223000
SUMMARY:ME L2 Gr 3\, Tours 1&2 Gland vs Crissier II (0)
UID:b79d72fd-5b07-4fcb-9cc4-01c9a4b17b2d
STATUS:CONFIRMED
LAST-MODIFIED:20241019T205532Z
DESCRIPTION:2ème ligue Hommes Groupe 3\, Tours 1&2\nBegegnungs-Nr: 0\nHeim: Gland\nGast: Crissier II\n\nAdresse: Chemin de la Perroude 1\, 1196 Gland\n
LOCATION:Chemin de la Perroude 1\, 1196 Gland
CATEGORIES:Saison 2024/25
END:VEVENT
BEGIN:VEVENT
DTSTAMP:20260424T004906Z
DTSTART;TZID=Europe/Berlin:20241115T193000
DTEND;TZID=Europe/Berlin:20241115T223000
SUMMARY:ME L2 Gr 3\, Tours 1&2 Gland vs Forward-Morges II (0)
UID:9292b043-7114-4615-aac8-b0a2c49a88dc
STATUS:CONFIRMED
LAST-MODIFIED:20241116T192130Z
DESCRIPTION:2ème ligue Hommes Groupe 3\, Tours 1&2\nBegegnungs-Nr: 0\nHeim: Gland\nGast: Forward-Morges II\n\nAdresse: Chemin de la Perroude 1\, 1196 Gland\n
LOCATION:Chemin de la Perroude 1\, 1196 Gland
CATEGORIES:Saison 2024/25
END:VEVENT
BEGIN:VEVENT
DTSTAMP:20260424T004906Z
DTSTART;TZID=Europe/Berlin:20241129T193000
DTEND;TZID=Europe/Berlin:20241129T223000
SUMMARY:ME L2 Gr 3\, Tours 1&2 Gland vs Lausanne III (0)
UID:e55c90d2-93f2-40b6-b8b4-5194fa727554
STATUS:CONFIRMED
LAST-MODIFIED:20241130T173007Z
DESCRIPTION:2ème ligue Hommes Groupe 3\, Tours 1&2\nBegegnungs-Nr: 0\nHeim: Gland\nGast: Lausanne III\n\nAdresse: Chemin de la Perroude 1\, 1196 Gland\n
LOCATION:Chemin de la Perroude 1\, 1196 Gland
CATEGORIES:Saison 2024/25
END:VEVENT
BEGIN:VEVENT
DTSTAMP:20260424T004906Z
DTSTART;TZID=Europe/Berlin:20250411T193000
DTEND;TZID=Europe/Berlin:20250411T223000
SUMMARY:ME L2 Gr 3\, Tours 3&4 Gland vs Eysins (0)
UID:97f1d3cb-9dde-4c06-a853-353c77f73406
STATUS:CONFIRMED
LAST-MODIFIED:20250412T101724Z
DESCRIPTION:2ème ligue Hommes Groupe 3\, Tours 3&4\nBegegnungs-Nr: 0\nHeim: Gland\nGast: Eysins\n\nAdresse: Chemin de la Perroude 1\, 1196 Gland\n
LOCATION:Chemin de la Perroude 1\, 1196 Gland
CATEGORIES:Saison 2024/25
END:VEVENT
BEGIN:VEVENT
DTSTAMP:20260424T004906Z
DTSTART;TZID=Europe/Berlin:20250424T193000
DTEND;TZID=Europe/Berlin:20250424T223000
SUMMARY:ME L2 Gr 3\, Tours 3&4 Gland vs Forward-Morges III (0)
UID:b0690554-a61d-4d91-b4cb-9d6247ca38fe
STATUS:CONFIRMED
LAST-MODIFIED:20250426T105008Z
DESCRIPTION:2ème ligue Hommes Groupe 3\, Tours 3&4\nBegegnungs-Nr: 0\nHeim: Gland\nGast: Forward-Morges III\n\nAdresse: Chemin de la Perroude 1\, 1196 Gland\n
LOCATION:Chemin de la Perroude 1\, 1196 Gland
CATEGORIES:Saison 2024/25
END:VEVENT
BEGIN:VEVENT
DTSTAMP:20260424T004906Z
DTSTART;TZID=Europe/Berlin:20250228T193000
DTEND;TZID=Europe/Berlin:20250228T223000
SUMMARY:ME L2 Gr 3\, Tours 3&4 Gland vs Avry-Rosé (0)
UID:fd02379d-6cf8-4561-a887-293f91c913f7
STATUS:CONFIRMED
LAST-MODIFIED:20250301T115910Z
DESCRIPTION:2ème ligue Hommes Groupe 3\, Tours 3&4\nBegegnungs-Nr: 0\nHeim: Gland\nGast: Avry-Rosé\n\nAdresse: Chemin de la Perroude 1\, 1196 Gland\n
LOCATION:Chemin de la Perroude 1\, 1196 Gland
CATEGORIES:Saison 2024/25
END:VEVENT
BEGIN:VEVENT
DTSTAMP:20260424T004906Z
DTSTART;TZID=Europe/Berlin:20250221T193000
DTEND;TZID=Europe/Berlin:20250221T223000
SUMMARY:ME L2 Gr 3\, Tours 3&4 Gland vs Crissier II (0)
UID:26e77b51-b3ed-405e-8c91-a01520413176
STATUS:CONFIRMED
LAST-MODIFIED:20250225T182415Z
DESCRIPTION:2ème ligue Hommes Groupe 3\, Tours 3&4\nBegegnungs-Nr: 0\nHeim: Gland\nGast: Crissier II\n\nAdresse: Chemin de la Perroude 1\, 1196 Gland\n
LOCATION:Chemin de la Perroude 1\, 1196 Gland
CATEGORIES:Saison 2024/25
END:VEVENT
BEGIN:VEVENT
DTSTAMP:20260424T004906Z
DTSTART;TZID=Europe/Berlin:20250302T160000
DTEND;TZID=Europe/Berlin:20250302T190000
SUMMARY:ME L2 Gr 3\, Tours 3&4 Gland vs Lausanne IV (0)
UID:b85de38e-63bb-417d-ab01-d7e2968de8a2
STATUS:CONFIRMED
LAST-MODIFIED:20250304T120458Z
DESCRIPTION:2ème ligue Hommes Groupe 3\, Tours 3&4\nBegegnungs-Nr: 0\nHeim: Gland\nGast: Lausanne IV\n\nAdresse: Chemin de la Perroude 1\, 1196 Gland\n
LOCATION:Chemin de la Perroude 1\, 1196 Gland
CATEGORIES:Saison 2024/25
END:VEVENT
BEGIN:VEVENT
DTSTAMP:20260424T004906Z
DTSTART;TZID=Europe/Berlin:20241009T194500
DTEND;TZID=Europe/Berlin:20241009T224500
SUMMARY:ME L2 Gr 3\, Tours 1&2 Forward-Morges II vs Gland (0)
UID:3ac7394d-3845-49cb-8cf6-040ac556822d
STATUS:CONFIRMED
LAST-MODIFIED:20241010T132119Z
DESCRIPTION:2ème ligue Hommes Groupe 3\, Tours 1&2\nBegegnungs-Nr: 0\nHeim: Forward-Morges II\nGast: Gland\n\nAdresse: Chemin de Tolochenaz\, 1110 Morges\n
LOCATION:Chemin de Tolochenaz\, 1110 Morges
CATEGORIES:Saison 2024/25
END:VEVENT
BEGIN:VEVENT
DTSTAMP:20260424T004906Z
DTSTART;TZID=Europe/Berlin:20240927T200000
DTEND;TZID=Europe/Berlin:20240927T230000
SUMMARY:ME L2 Gr 3\, Tours 1&2 Lausanne III vs Gland (0)
UID:96afa6cb-06ec-4315-b601-b88065b7ab3a
STATUS:CONFIRMED
LAST-MODIFIED:20241001T215958Z
DESCRIPTION:2ème ligue Hommes Groupe 3\, Tours 1&2\nBegegnungs-Nr: 0\nHeim: Lausanne III\nGast: Gland\n\nAdresse: Vaudoise Aréna\, Ch. du Viaduc 14\, 1008 Prilly\n
LOCATION:Vaudoise Aréna\, Ch. du Viaduc 14\, 1008 Prilly
CATEGORIES:Saison 2024/25
END:VEVENT
BEGIN:VEVENT
DTSTAMP:20260424T004906Z
DTSTART;TZID=Europe/Berlin:20240904T200000
DTEND;TZID=Europe/Berlin:20240904T230000
SUMMARY:ME L2 Gr 3\, Tours 1&2 Eysins vs Gland (0)
UID:db6e2b2f-0505-48c7-b980-503c1c68cf9a
STATUS:CONFIRMED
LAST-MODIFIED:20240906T164133Z
DESCRIPTION:2ème ligue Hommes Groupe 3\, Tours 1&2\nBegegnungs-Nr: 0\nHeim: Eysins\nGast: Gland\n\nAdresse: En Bellossiez 1\, 1262 Eysins\n
LOCATION:En Bellossiez 1\, 1262 Eysins
CATEGORIES:Saison 2024/25
END:VEVENT
BEGIN:VEVENT
DTSTAMP:20260424T004906Z
DTSTART;TZID=Europe/Berlin:20241121T194500
DTEND;TZID=Europe/Berlin:20241121T224500
SUMMARY:ME L2 Gr 3\, Tours 1&2 Romanel II vs Gland (0)
UID:d84903a9-5ba3-402f-afa8-f4b80a08a728
STATUS:CONFIRMED
LAST-MODIFIED:20241126T111918Z
DESCRIPTION:2ème ligue Hommes Groupe 3\, Tours 1&2\nBegegnungs-Nr: 0\nHeim: Romanel II\nGast: Gland\n\nAdresse: Ch des Epinettes 1\, 1032 Romanel-sur-Lausanne\n
LOCATION:Ch des Epinettes 1\, 1032 Romanel-sur-Lausanne
CATEGORIES:Saison 2024/25
END:VEVENT
BEGIN:VEVENT
DTSTAMP:20260424T004906Z
DTSTART;TZID=Europe/Berlin:20241107T193000
DTEND;TZID=Europe/Berlin:20241107T223000
SUMMARY:ME L2 Gr 3\, Tours 1&2 Crissier II vs Gland (0)
UID:e96b7970-3aea-4ebe-a64c-29927279341d
STATUS:CONFIRMED
LAST-MODIFIED:20241108T194934Z
DESCRIPTION:2ème ligue Hommes Groupe 3\, Tours 1&2\nBegegnungs-Nr: 0\nHeim: Crissier II\nGast: Gland\n\nAdresse: ch. des Oches du Mur\, 1023 Crissier\n
LOCATION:ch. des Oches du Mur\, 1023 Crissier
CATEGORIES:Saison 2024/25
END:VEVENT
BEGIN:VEVENT
DTSTAMP:20260424T004906Z
DTSTART;TZID=Europe/Berlin:20250506T193000
DTEND;TZID=Europe/Berlin:20250506T223000
SUMMARY:ME L2 Gr 3\, Tours 3&4 Avry-Rosé vs Gland (0)
UID:980ab987-3668-4008-a382-de2be2c4db38
STATUS:CONFIRMED
LAST-MODIFIED:20250508T231005Z
DESCRIPTION:2ème ligue Hommes Groupe 3\, Tours 3&4\nBegegnungs-Nr: 0\nHeim: Avry-Rosé\nGast: Gland\n\nAdresse: Route du Château 15\, 1754 Avry-sur-Matran\n
LOCATION:Route du Château 15\, 1754 Avry-sur-Matran
CATEGORIES:Saison 2024/25
END:VEVENT
BEGIN:VEVENT
DTSTAMP:20260424T004906Z
DTSTART;TZID=Europe/Berlin:20250501T193000
DTEND;TZID=Europe/Berlin:20250501T223000
SUMMARY:ME L2 Gr 3\, Tours 3&4 Crissier II vs Gland (0)
UID:ee9366f2-a1f1-4161-9440-08441fcaf610
STATUS:CONFIRMED
LAST-MODIFIED:20250503T000314Z
DESCRIPTION:2ème ligue Hommes Groupe 3\, Tours 3&4\nBegegnungs-Nr: 0\nHeim: Crissier II\nGast: Gland\n\nAdresse: ch. des Oches du Mur\, 1023 Crissier\n
LOCATION:ch. des Oches du Mur\, 1023 Crissier
CATEGORIES:Saison 2024/25
END:VEVENT
BEGIN:VEVENT
DTSTAMP:20260424T004906Z
DTSTART;TZID=Europe/Berlin:20250326T200000
DTEND;TZID=Europe/Berlin:20250326T230000
SUMMARY:ME L2 Gr 3\, Tours 3&4 Lausanne IV vs Gland (0)
UID:82818046-b2da-46ea-9157-ad4ceb83928b
STATUS:CONFIRMED
LAST-MODIFIED:20250327T083419Z
DESCRIPTION:2ème ligue Hommes Groupe 3\, Tours 3&4\nBegegnungs-Nr: 0\nHeim: Lausanne IV\nGast: Gland\n\nAdresse: Vaudoise Aréna\, Ch. du Viaduc 14\, 1008 Prilly\n
LOCATION:Vaudoise Aréna\, Ch. du Viaduc 14\, 1008 Prilly
CATEGORIES:Saison 2024/25
END:VEVENT
BEGIN:VEVENT
DTSTAMP:20260424T004906Z
DTSTART;TZID=Europe/Berlin:20250205T200000
DTEND;TZID=Europe/Berlin:20250205T230000
SUMMARY:ME L2 Gr 3\, Tours 3&4 Eysins vs Gland (0)
UID:1704be33-94dc-4386-9e09-382ac0e59da6
STATUS:CONFIRMED
LAST-MODIFIED:20250206T113418Z
DESCRIPTION:2ème ligue Hommes Groupe 3\, Tours 3&4\nBegegnungs-Nr: 0\nHeim: Eysins\nGast: Gland\n\nAdresse: En Bellossiez 1\, 1262 Eysins\n
LOCATION:En Bellossiez 1\, 1262 Eysins
CATEGORIES:Saison 2024/25
END:VEVENT
BEGIN:VEVENT
DTSTAMP:20260424T004906Z
DTSTART;TZID=Europe/Berlin:20250210T194500
DTEND;TZID=Europe/Berlin:20250210T224500
SUMMARY:ME L2 Gr 3\, Tours 3&4 Forward-Morges III vs Gland (0)
UID:50ff30e2-5eda-4684-b5ad-d0a7e4a5e59b
STATUS:CONFIRMED
LAST-MODIFIED:20250211T180014Z
DESCRIPTION:2ème ligue Hommes Groupe 3\, Tours 3&4\nBegegnungs-Nr: 0\nHeim: Forward-Morges III\nGast: Gland\n\nAdresse: Chemin de Tolochenaz\, 1110 Morges\n
LOCATION:Chemin de Tolochenaz\, 1110 Morges
CATEGORIES:Saison 2024/25
END:VEVENT
END:VCALENDAR
