BEGIN:VCALENDAR
PRODID:-//nuDatenautomaten//framework iCal4j //DE
VERSION:2.0
CALSCALE:GREGORIAN
BEGIN:VTIMEZONE
TZID:Europe/Berlin
LAST-MODIFIED:20260306T231828Z
TZURL:https://www.tzurl.org/zoneinfo/Europe/Berlin
X-LIC-LOCATION:Europe/Berlin
X-PROLEPTIC-TZNAME:LMT
BEGIN:STANDARD
TZNAME:CET
TZOFFSETFROM:+005328
TZOFFSETTO:+0100
DTSTART:18930401T000000
END:STANDARD
BEGIN:DAYLIGHT
TZNAME:CEST
TZOFFSETFROM:+0100
TZOFFSETTO:+0200
DTSTART:19160430T230000
RDATE:19400401T020000
RDATE:19430329T020000
RDATE:19460414T020000
RDATE:19470406T030000
RDATE:19480418T020000
RDATE:19490410T020000
RDATE:19800406T020000
END:DAYLIGHT
BEGIN:STANDARD
TZNAME:CET
TZOFFSETFROM:+0200
TZOFFSETTO:+0100
DTSTART:19161001T010000
RDATE:19421102T030000
RDATE:19431004T030000
RDATE:19441002T030000
RDATE:19451118T030000
RDATE:19461007T030000
END:STANDARD
BEGIN:DAYLIGHT
TZNAME:CEST
TZOFFSETFROM:+0100
TZOFFSETTO:+0200
DTSTART:19170416T020000
RRULE:FREQ=YEARLY;UNTIL=19180415T010000Z;BYMONTH=4;BYDAY=3MO
END:DAYLIGHT
BEGIN:STANDARD
TZNAME:CET
TZOFFSETFROM:+0200
TZOFFSETTO:+0100
DTSTART:19170917T030000
RRULE:FREQ=YEARLY;UNTIL=19180916T010000Z;BYMONTH=9;BYDAY=3MO
END:STANDARD
BEGIN:DAYLIGHT
TZNAME:CEST
TZOFFSETFROM:+0100
TZOFFSETTO:+0200
DTSTART:19440403T020000
RRULE:FREQ=YEARLY;UNTIL=19450402T010000Z;BYMONTH=4;BYDAY=1MO
END:DAYLIGHT
BEGIN:DAYLIGHT
TZNAME:CEMT
TZOFFSETFROM:+0200
TZOFFSETTO:+0300
DTSTART:19450524T020000
RDATE:19470511T030000
END:DAYLIGHT
BEGIN:DAYLIGHT
TZNAME:CEST
TZOFFSETFROM:+0300
TZOFFSETTO:+0200
DTSTART:19450924T030000
RDATE:19470629T030000
END:DAYLIGHT
BEGIN:STANDARD
TZNAME:CET
TZOFFSETFROM:+0100
TZOFFSETTO:+0100
DTSTART:19460101T000000
RDATE:19800101T000000
END:STANDARD
BEGIN:STANDARD
TZNAME:CET
TZOFFSETFROM:+0200
TZOFFSETTO:+0100
DTSTART:19471005T030000
RRULE:FREQ=YEARLY;UNTIL=19491002T010000Z;BYMONTH=10;BYDAY=1SU
END:STANDARD
BEGIN:STANDARD
TZNAME:CET
TZOFFSETFROM:+0200
TZOFFSETTO:+0100
DTSTART:19800928T030000
RRULE:FREQ=YEARLY;UNTIL=19950924T010000Z;BYMONTH=9;BYDAY=-1SU
END:STANDARD
BEGIN:DAYLIGHT
TZNAME:CEST
TZOFFSETFROM:+0100
TZOFFSETTO:+0200
DTSTART:19810329T020000
RRULE:FREQ=YEARLY;BYMONTH=3;BYDAY=-1SU
END:DAYLIGHT
BEGIN:STANDARD
TZNAME:CET
TZOFFSETFROM:+0200
TZOFFSETTO:+0100
DTSTART:19961027T030000
RRULE:FREQ=YEARLY;BYMONTH=10;BYDAY=-1SU
END:STANDARD
END:VTIMEZONE
BEGIN:VEVENT
DTSTAMP:20260424T022656Z
DTSTART;TZID=Europe/Berlin:20241209T200000
DTEND;TZID=Europe/Berlin:20241209T230000
SUMMARY:ME L3 Gr 1\, Tours 1&2 Stalden vs Martigny II (0)
UID:f6b61925-900d-4ca4-ae78-4e89ec80235d
STATUS:CONFIRMED
LAST-MODIFIED:20241210T222607Z
DESCRIPTION:3ème ligue Hommes Groupe 1\, Tours 1&2\nBegegnungs-Nr: 0\nHeim: Stalden\nGast: Martigny II\n\nAdresse: -\, 3922 Stalden\n
LOCATION:-\, 3922 Stalden
CATEGORIES:Saison 2024/25
END:VEVENT
BEGIN:VEVENT
DTSTAMP:20260424T022656Z
DTSTART;TZID=Europe/Berlin:20241111T200000
DTEND;TZID=Europe/Berlin:20241111T230000
SUMMARY:ME L3 Gr 1\, Tours 1&2 Stalden vs Gampel-Steg (0)
UID:ed35a725-9040-4970-afbc-435e6aaf0565
STATUS:CONFIRMED
LAST-MODIFIED:20241114T121223Z
DESCRIPTION:3ème ligue Hommes Groupe 1\, Tours 1&2\nBegegnungs-Nr: 0\nHeim: Stalden\nGast: Gampel-Steg\n\nAdresse: -\, 3922 Stalden\n
LOCATION:-\, 3922 Stalden
CATEGORIES:Saison 2024/25
END:VEVENT
BEGIN:VEVENT
DTSTAMP:20260424T022656Z
DTSTART;TZID=Europe/Berlin:20241028T200000
DTEND;TZID=Europe/Berlin:20241028T230000
SUMMARY:ME L3 Gr 1\, Tours 1&2 Stalden vs Collombey/Muraz II (0)
UID:87fb20fd-d1d8-49f4-a334-5709bf564333
STATUS:CONFIRMED
LAST-MODIFIED:20241031T235824Z
DESCRIPTION:3ème ligue Hommes Groupe 1\, Tours 1&2\nBegegnungs-Nr: 0\nHeim: Stalden\nGast: Collombey/Muraz II\n\nAdresse: -\, 3922 Stalden\n
LOCATION:-\, 3922 Stalden
CATEGORIES:Saison 2024/25
END:VEVENT
BEGIN:VEVENT
DTSTAMP:20260424T022656Z
DTSTART;TZID=Europe/Berlin:20241014T200000
DTEND;TZID=Europe/Berlin:20241014T230000
SUMMARY:ME L3 Gr 1\, Tours 1&2 Stalden vs Collombey/Muraz III (0)
UID:4fbcf354-11a0-4381-be72-ca0a7f02ff75
STATUS:CONFIRMED
LAST-MODIFIED:20241015T120838Z
DESCRIPTION:3ème ligue Hommes Groupe 1\, Tours 1&2\nBegegnungs-Nr: 0\nHeim: Stalden\nGast: Collombey/Muraz III\n\nAdresse: -\, 3922 Stalden\n
LOCATION:-\, 3922 Stalden
CATEGORIES:Saison 2024/25
END:VEVENT
BEGIN:VEVENT
DTSTAMP:20260424T022656Z
DTSTART;TZID=Europe/Berlin:20240909T200000
DTEND;TZID=Europe/Berlin:20240909T230000
SUMMARY:ME L3 Gr 1\, Tours 1&2 Stalden vs Gampel-Steg II (0)
UID:9746aaaa-c2f1-4409-9494-aa9d8f6567c9
STATUS:CONFIRMED
LAST-MODIFIED:20240910T210958Z
DESCRIPTION:3ème ligue Hommes Groupe 1\, Tours 1&2\nBegegnungs-Nr: 0\nHeim: Stalden\nGast: Gampel-Steg II\n\nAdresse: -\, 3922 Stalden\n
LOCATION:-\, 3922 Stalden
CATEGORIES:Saison 2024/25
END:VEVENT
BEGIN:VEVENT
DTSTAMP:20260424T022656Z
DTSTART;TZID=Europe/Berlin:20250407T200000
DTEND;TZID=Europe/Berlin:20250407T230000
SUMMARY:ME L3 Gr 1\, Tours 3&4 Stalden vs Collombey/Muraz III (0)
UID:3fae0c4c-0793-4708-a7c8-1fd98ff5a1d5
STATUS:CONFIRMED
LAST-MODIFIED:20250410T202554Z
DESCRIPTION:3ème ligue Hommes Groupe 1\, Tours 3&4\nBegegnungs-Nr: 0\nHeim: Stalden\nGast: Collombey/Muraz III\n\nAdresse: -\, 3922 Stalden\n
LOCATION:-\, 3922 Stalden
CATEGORIES:Saison 2024/25
END:VEVENT
BEGIN:VEVENT
DTSTAMP:20260424T022656Z
DTSTART;TZID=Europe/Berlin:20250310T200000
DTEND;TZID=Europe/Berlin:20250310T230000
SUMMARY:ME L3 Gr 1\, Tours 3&4 Stalden vs Collombey/Muraz II (0)
UID:1b42881f-6a57-42b9-ae8b-a5dbad416096
STATUS:CONFIRMED
LAST-MODIFIED:20250315T141229Z
DESCRIPTION:3ème ligue Hommes Groupe 1\, Tours 3&4\nBegegnungs-Nr: 0\nHeim: Stalden\nGast: Collombey/Muraz II\n\nAdresse: -\, 3922 Stalden\n
LOCATION:-\, 3922 Stalden
CATEGORIES:Saison 2024/25
END:VEVENT
BEGIN:VEVENT
DTSTAMP:20260424T022656Z
DTSTART;TZID=Europe/Berlin:20250207T200000
DTEND;TZID=Europe/Berlin:20250207T230000
SUMMARY:ME L3 Gr 1\, Tours 3&4 Stalden vs Romanel (0)
UID:b962ada7-c033-4fc3-9506-7676dcfd828c
STATUS:CONFIRMED
LAST-MODIFIED:20250210T162350Z
DESCRIPTION:3ème ligue Hommes Groupe 1\, Tours 3&4\nBegegnungs-Nr: 0\nHeim: Stalden\nGast: Romanel\n\nAdresse: -\, 3922 Stalden\n
LOCATION:-\, 3922 Stalden
CATEGORIES:Saison 2024/25
END:VEVENT
BEGIN:VEVENT
DTSTAMP:20260424T022656Z
DTSTART;TZID=Europe/Berlin:20250303T200000
DTEND;TZID=Europe/Berlin:20250303T230000
SUMMARY:ME L3 Gr 1\, Tours 3&4 Stalden vs Gampel-Steg (0)
UID:6a767a90-b625-49fd-9331-2b87b644b966
STATUS:CONFIRMED
LAST-MODIFIED:20250304T220930Z
DESCRIPTION:3ème ligue Hommes Groupe 1\, Tours 3&4\nBegegnungs-Nr: 0\nHeim: Stalden\nGast: Gampel-Steg\n\nAdresse: -\, 3922 Stalden\n
LOCATION:-\, 3922 Stalden
CATEGORIES:Saison 2024/25
END:VEVENT
BEGIN:VEVENT
DTSTAMP:20260424T022656Z
DTSTART;TZID=Europe/Berlin:20250131T200000
DTEND;TZID=Europe/Berlin:20250131T230000
SUMMARY:ME L3 Gr 1\, Tours 3&4 Stalden vs Sierre IV (0)
UID:369bed6f-4918-408d-bf93-ce7bae6b8715
STATUS:CONFIRMED
LAST-MODIFIED:20250201T200357Z
DESCRIPTION:3ème ligue Hommes Groupe 1\, Tours 3&4\nBegegnungs-Nr: 0\nHeim: Stalden\nGast: Sierre IV\n\nAdresse: -\, 3922 Stalden\n
LOCATION:-\, 3922 Stalden
CATEGORIES:Saison 2024/25
END:VEVENT
BEGIN:VEVENT
DTSTAMP:20260424T022656Z
DTSTART;TZID=Europe/Berlin:20241125T193000
DTEND;TZID=Europe/Berlin:20241125T223000
SUMMARY:ME L3 Gr 1\, Tours 1&2 Collombey/Muraz III vs Stalden (0)
UID:3f3f8878-3fda-4b2c-8500-27d3ffe90d18
STATUS:CONFIRMED
LAST-MODIFIED:20241128T003018Z
DESCRIPTION:3ème ligue Hommes Groupe 1\, Tours 1&2\nBegegnungs-Nr: 0\nHeim: Collombey/Muraz III\nGast: Stalden\n\nAdresse: Route du Montagnier 81\, 1868 Collombey\n
LOCATION:Route du Montagnier 81\, 1868 Collombey
CATEGORIES:Saison 2024/25
END:VEVENT
BEGIN:VEVENT
DTSTAMP:20260424T022656Z
DTSTART;TZID=Europe/Berlin:20241204T193000
DTEND;TZID=Europe/Berlin:20241204T223000
SUMMARY:ME L3 Gr 1\, Tours 1&2 Gampel-Steg II vs Stalden (0)
UID:72c4d9d9-e5bf-4d45-af0f-b198ea82043f
STATUS:CONFIRMED
LAST-MODIFIED:20241207T181551Z
DESCRIPTION:3ème ligue Hommes Groupe 1\, Tours 1&2\nBegegnungs-Nr: 0\nHeim: Gampel-Steg II\nGast: Stalden\n\nAdresse: Bienenstrasse 2\, 3945 Niedergampel\n
LOCATION:Bienenstrasse 2\, 3945 Niedergampel
CATEGORIES:Saison 2024/25
END:VEVENT
BEGIN:VEVENT
DTSTAMP:20260424T022656Z
DTSTART;TZID=Europe/Berlin:20241010T200000
DTEND;TZID=Europe/Berlin:20241010T230000
SUMMARY:ME L3 Gr 1\, Tours 1&2 Martigny II vs Stalden (0)
UID:9f5a2b42-078e-4479-9cca-8061a03f18f0
STATUS:CONFIRMED
LAST-MODIFIED:20241010T231539Z
DESCRIPTION:3ème ligue Hommes Groupe 1\, Tours 1&2\nBegegnungs-Nr: 0\nHeim: Martigny II\nGast: Stalden\n\nAdresse: Rue des Ecoles 9\, 1920 Martigny\n
LOCATION:Rue des Ecoles 9\, 1920 Martigny
CATEGORIES:Saison 2024/25
END:VEVENT
BEGIN:VEVENT
DTSTAMP:20260424T022656Z
DTSTART;TZID=Europe/Berlin:20240920T200000
DTEND;TZID=Europe/Berlin:20240920T230000
SUMMARY:ME L3 Gr 1\, Tours 1&2 Gampel-Steg vs Stalden (0)
UID:fe8b674c-7cd1-47b1-b7b5-65e8a17e6695
STATUS:CONFIRMED
LAST-MODIFIED:20240922T132311Z
DESCRIPTION:3ème ligue Hommes Groupe 1\, Tours 1&2\nBegegnungs-Nr: 0\nHeim: Gampel-Steg\nGast: Stalden\n\nAdresse: Bienenstrasse 2\, 3945 Niedergampel\n
LOCATION:Bienenstrasse 2\, 3945 Niedergampel
CATEGORIES:Saison 2024/25
END:VEVENT
BEGIN:VEVENT
DTSTAMP:20260424T022656Z
DTSTART;TZID=Europe/Berlin:20240918T193000
DTEND;TZID=Europe/Berlin:20240918T223000
SUMMARY:ME L3 Gr 1\, Tours 1&2 Collombey/Muraz II vs Stalden (0)
UID:16be4013-a0a4-497d-877c-7a687956d83c
STATUS:CONFIRMED
LAST-MODIFIED:20240920T064845Z
DESCRIPTION:3ème ligue Hommes Groupe 1\, Tours 1&2\nBegegnungs-Nr: 0\nHeim: Collombey/Muraz II\nGast: Stalden\n\nAdresse: Route du Montagnier 81\, 1868 Collombey\n
LOCATION:Route du Montagnier 81\, 1868 Collombey
CATEGORIES:Saison 2024/25
END:VEVENT
BEGIN:VEVENT
DTSTAMP:20260424T022656Z
DTSTART;TZID=Europe/Berlin:20250509T200000
DTEND;TZID=Europe/Berlin:20250509T230000
SUMMARY:ME L3 Gr 1\, Tours 3&4 Romanel vs Stalden (0)
UID:f8b288df-e162-4e5f-b7a0-84b7673cf0fe
STATUS:CONFIRMED
LAST-MODIFIED:20250510T115234Z
DESCRIPTION:3ème ligue Hommes Groupe 1\, Tours 3&4\nBegegnungs-Nr: 0\nHeim: Romanel\nGast: Stalden\n\nAdresse: Ch des Epinettes 1\, 1032 Romanel-sur-Lausanne\n
LOCATION:Ch des Epinettes 1\, 1032 Romanel-sur-Lausanne
CATEGORIES:Saison 2024/25
END:VEVENT
BEGIN:VEVENT
DTSTAMP:20260424T022656Z
DTSTART;TZID=Europe/Berlin:20250502T200000
DTEND;TZID=Europe/Berlin:20250502T230000
SUMMARY:ME L3 Gr 1\, Tours 3&4 Gampel-Steg vs Stalden (0)
UID:11eb19f7-b907-4bfa-9a06-bc5b636eaeea
STATUS:CONFIRMED
LAST-MODIFIED:20250504T234210Z
DESCRIPTION:3ème ligue Hommes Groupe 1\, Tours 3&4\nBegegnungs-Nr: 0\nHeim: Gampel-Steg\nGast: Stalden\n\nAdresse: Bienenstrasse 2\, 3945 Niedergampel\n
LOCATION:Bienenstrasse 2\, 3945 Niedergampel
CATEGORIES:Saison 2024/25
END:VEVENT
BEGIN:VEVENT
DTSTAMP:20260424T022656Z
DTSTART;TZID=Europe/Berlin:20250320T191500
DTEND;TZID=Europe/Berlin:20250320T221500
SUMMARY:ME L3 Gr 1\, Tours 3&4 Sierre IV vs Stalden (0)
UID:8df77481-3577-4b36-a3d3-b87eff05aeeb
STATUS:CONFIRMED
LAST-MODIFIED:20250323T215551Z
DESCRIPTION:3ème ligue Hommes Groupe 1\, Tours 3&4\nBegegnungs-Nr: 0\nHeim: Sierre IV\nGast: Stalden\n\nAdresse: Rue de Guillamo 3\, 3960 Sierre\n
LOCATION:Rue de Guillamo 3\, 3960 Sierre
CATEGORIES:Saison 2024/25
END:VEVENT
BEGIN:VEVENT
DTSTAMP:20260424T022656Z
DTSTART;TZID=Europe/Berlin:20250219T193000
DTEND;TZID=Europe/Berlin:20250219T223000
SUMMARY:ME L3 Gr 1\, Tours 3&4 Collombey/Muraz III vs Stalden (0)
UID:4871df53-6b85-48f1-9913-144a93cc0edb
STATUS:CONFIRMED
LAST-MODIFIED:20250222T175847Z
DESCRIPTION:3ème ligue Hommes Groupe 1\, Tours 3&4\nBegegnungs-Nr: 0\nHeim: Collombey/Muraz III\nGast: Stalden\n\nAdresse: Route du Montagnier 81\, 1868 Collombey\n
LOCATION:Route du Montagnier 81\, 1868 Collombey
CATEGORIES:Saison 2024/25
END:VEVENT
BEGIN:VEVENT
DTSTAMP:20260424T022656Z
DTSTART;TZID=Europe/Berlin:20250122T193000
DTEND;TZID=Europe/Berlin:20250122T223000
SUMMARY:ME L3 Gr 1\, Tours 3&4 Collombey/Muraz II vs Stalden (0)
UID:52e3ba82-954b-4f7e-8511-8f77dd4a501e
STATUS:CONFIRMED
LAST-MODIFIED:20250122T231919Z
DESCRIPTION:3ème ligue Hommes Groupe 1\, Tours 3&4\nBegegnungs-Nr: 0\nHeim: Collombey/Muraz II\nGast: Stalden\n\nAdresse: Route du Montagnier 81\, 1868 Collombey\n
LOCATION:Route du Montagnier 81\, 1868 Collombey
CATEGORIES:Saison 2024/25
END:VEVENT
END:VCALENDAR
