BEGIN:VCALENDAR
PRODID:-//nuDatenautomaten//framework iCal4j //DE
VERSION:2.0
CALSCALE:GREGORIAN
BEGIN:VTIMEZONE
TZID:Europe/Berlin
LAST-MODIFIED:20260306T231828Z
TZURL:https://www.tzurl.org/zoneinfo/Europe/Berlin
X-LIC-LOCATION:Europe/Berlin
X-PROLEPTIC-TZNAME:LMT
BEGIN:STANDARD
TZNAME:CET
TZOFFSETFROM:+005328
TZOFFSETTO:+0100
DTSTART:18930401T000000
END:STANDARD
BEGIN:DAYLIGHT
TZNAME:CEST
TZOFFSETFROM:+0100
TZOFFSETTO:+0200
DTSTART:19160430T230000
RDATE:19400401T020000
RDATE:19430329T020000
RDATE:19460414T020000
RDATE:19470406T030000
RDATE:19480418T020000
RDATE:19490410T020000
RDATE:19800406T020000
END:DAYLIGHT
BEGIN:STANDARD
TZNAME:CET
TZOFFSETFROM:+0200
TZOFFSETTO:+0100
DTSTART:19161001T010000
RDATE:19421102T030000
RDATE:19431004T030000
RDATE:19441002T030000
RDATE:19451118T030000
RDATE:19461007T030000
END:STANDARD
BEGIN:DAYLIGHT
TZNAME:CEST
TZOFFSETFROM:+0100
TZOFFSETTO:+0200
DTSTART:19170416T020000
RRULE:FREQ=YEARLY;UNTIL=19180415T010000Z;BYMONTH=4;BYDAY=3MO
END:DAYLIGHT
BEGIN:STANDARD
TZNAME:CET
TZOFFSETFROM:+0200
TZOFFSETTO:+0100
DTSTART:19170917T030000
RRULE:FREQ=YEARLY;UNTIL=19180916T010000Z;BYMONTH=9;BYDAY=3MO
END:STANDARD
BEGIN:DAYLIGHT
TZNAME:CEST
TZOFFSETFROM:+0100
TZOFFSETTO:+0200
DTSTART:19440403T020000
RRULE:FREQ=YEARLY;UNTIL=19450402T010000Z;BYMONTH=4;BYDAY=1MO
END:DAYLIGHT
BEGIN:DAYLIGHT
TZNAME:CEMT
TZOFFSETFROM:+0200
TZOFFSETTO:+0300
DTSTART:19450524T020000
RDATE:19470511T030000
END:DAYLIGHT
BEGIN:DAYLIGHT
TZNAME:CEST
TZOFFSETFROM:+0300
TZOFFSETTO:+0200
DTSTART:19450924T030000
RDATE:19470629T030000
END:DAYLIGHT
BEGIN:STANDARD
TZNAME:CET
TZOFFSETFROM:+0100
TZOFFSETTO:+0100
DTSTART:19460101T000000
RDATE:19800101T000000
END:STANDARD
BEGIN:STANDARD
TZNAME:CET
TZOFFSETFROM:+0200
TZOFFSETTO:+0100
DTSTART:19471005T030000
RRULE:FREQ=YEARLY;UNTIL=19491002T010000Z;BYMONTH=10;BYDAY=1SU
END:STANDARD
BEGIN:STANDARD
TZNAME:CET
TZOFFSETFROM:+0200
TZOFFSETTO:+0100
DTSTART:19800928T030000
RRULE:FREQ=YEARLY;UNTIL=19950924T010000Z;BYMONTH=9;BYDAY=-1SU
END:STANDARD
BEGIN:DAYLIGHT
TZNAME:CEST
TZOFFSETFROM:+0100
TZOFFSETTO:+0200
DTSTART:19810329T020000
RRULE:FREQ=YEARLY;BYMONTH=3;BYDAY=-1SU
END:DAYLIGHT
BEGIN:STANDARD
TZNAME:CET
TZOFFSETFROM:+0200
TZOFFSETTO:+0100
DTSTART:19961027T030000
RRULE:FREQ=YEARLY;BYMONTH=10;BYDAY=-1SU
END:STANDARD
END:VTIMEZONE
BEGIN:VEVENT
DTSTAMP:20260424T024008Z
DTSTART;TZID=Europe/Berlin:20241018T201500
DTEND;TZID=Europe/Berlin:20241018T231500
SUMMARY:2° Divisione Lugano VI vs ABTT IV (4)
UID:9ccc69a3-255f-4d14-ae2f-1dcb2e859fb0
STATUS:CONFIRMED
LAST-MODIFIED:20241021T060349Z
DESCRIPTION:2° Divisione\nBegegnungs-Nr: 4\nHeim: Lugano VI\nGast: ABTT IV\n\nAdresse: Via al Chioso 7\, 6900 Lugano-Cassarate\n
LOCATION:Via al Chioso 7\, 6900 Lugano-Cassarate
CATEGORIES:Saison 2024/25
END:VEVENT
BEGIN:VEVENT
DTSTAMP:20260424T024008Z
DTSTART;TZID=Europe/Berlin:20241129T000000
DTEND;TZID=Europe/Berlin:20241129T030000
SUMMARY:2° Divisione Lugano VI vs spielfrei (9)
UID:62e097ed-2ad5-4c8a-b8d1-8846704cb2cb
STATUS:CONFIRMED
DESCRIPTION:2° Divisione\nBegegnungs-Nr: 9\nHeim: Lugano VI\nGast: spielfrei\n\nAdresse: Via al Chioso 7\, 6900 Lugano-Cassarate\n
LOCATION:Via al Chioso 7\, 6900 Lugano-Cassarate
CATEGORIES:Saison 2024/25
END:VEVENT
BEGIN:VEVENT
DTSTAMP:20260424T024008Z
DTSTART;TZID=Europe/Berlin:20241115T201500
DTEND;TZID=Europe/Berlin:20241115T231500
SUMMARY:2° Divisione Lugano VI vs Locarno II (12)
UID:4aee85bf-cf9c-4585-b4c6-988a10fc007c
STATUS:CONFIRMED
LAST-MODIFIED:20241118T105438Z
DESCRIPTION:2° Divisione\nBegegnungs-Nr: 12\nHeim: Lugano VI\nGast: Locarno II\n\nAdresse: Via al Chioso 7\, 6900 Lugano-Cassarate\n
LOCATION:Via al Chioso 7\, 6900 Lugano-Cassarate
CATEGORIES:Saison 2024/25
END:VEVENT
BEGIN:VEVENT
DTSTAMP:20260424T024008Z
DTSTART;TZID=Europe/Berlin:20250123T201500
DTEND;TZID=Europe/Berlin:20250123T231500
SUMMARY:2° Divisione Lugano VI vs Lugano V (17)
UID:79a7f2d9-1956-437d-8725-ea3e0f49dadf
STATUS:CONFIRMED
LAST-MODIFIED:20250126T200924Z
DESCRIPTION:2° Divisione\nBegegnungs-Nr: 17\nHeim: Lugano VI\nGast: Lugano V\n\nAdresse: Via al Chioso 7\, 6900 Lugano-Cassarate\n
LOCATION:Via al Chioso 7\, 6900 Lugano-Cassarate
CATEGORIES:Saison 2024/25
END:VEVENT
BEGIN:VEVENT
DTSTAMP:20260424T024008Z
DTSTART;TZID=Europe/Berlin:20250404T202000
DTEND;TZID=Europe/Berlin:20250404T232000
SUMMARY:2° Divisione Lugano VI vs Riva S.Vitale II (29)
UID:00616b19-8b21-4a01-a213-13c96349f378
STATUS:CONFIRMED
LAST-MODIFIED:20250407T091310Z
DESCRIPTION:2° Divisione\nBegegnungs-Nr: 29\nHeim: Lugano VI\nGast: Riva S.Vitale II\n\nAdresse: Via al Chioso 7\, 6900 Lugano-Cassarate\n
LOCATION:Via al Chioso 7\, 6900 Lugano-Cassarate
CATEGORIES:Saison 2024/25
END:VEVENT
BEGIN:VEVENT
DTSTAMP:20260424T024008Z
DTSTART;TZID=Europe/Berlin:20240926T201500
DTEND;TZID=Europe/Berlin:20240926T231500
SUMMARY:2° Divisione Lugano V vs Lugano VI (2)
UID:aa5d8d93-a804-4622-8301-f896a80417bd
STATUS:CONFIRMED
LAST-MODIFIED:20240927T092120Z
DESCRIPTION:2° Divisione\nBegegnungs-Nr: 2\nHeim: Lugano V\nGast: Lugano VI\n\nAdresse: Via al Chioso 7\, 6900 Lugano-Cassarate\n
LOCATION:Via al Chioso 7\, 6900 Lugano-Cassarate
CATEGORIES:Saison 2024/25
END:VEVENT
BEGIN:VEVENT
DTSTAMP:20260424T024008Z
DTSTART;TZID=Europe/Berlin:20241213T203000
DTEND;TZID=Europe/Berlin:20241213T233000
SUMMARY:2° Divisione Riva S.Vitale II vs Lugano VI (14)
UID:90c6394a-39fd-4825-ad66-0cc1aabaa32d
STATUS:CONFIRMED
LAST-MODIFIED:20241216T075425Z
DESCRIPTION:2° Divisione\nBegegnungs-Nr: 14\nHeim: Riva S.Vitale II\nGast: Lugano VI\n\nAdresse: Via Monsignor Sesti\, 6826 Riva San Vitale\n
LOCATION:Via Monsignor Sesti\, 6826 Riva San Vitale
CATEGORIES:Saison 2024/25
END:VEVENT
BEGIN:VEVENT
DTSTAMP:20260424T024008Z
DTSTART;TZID=Europe/Berlin:20250207T201500
DTEND;TZID=Europe/Berlin:20250207T231500
SUMMARY:2° Divisione ABTT IV vs Lugano VI (19)
UID:3985f9b3-481c-4260-9c79-dcdb5b5ca806
STATUS:CONFIRMED
LAST-MODIFIED:20250215T075116Z
DESCRIPTION:2° Divisione\nBegegnungs-Nr: 19\nHeim: ABTT IV\nGast: Lugano VI\n\nAdresse: Francesco Chiesa 2a\, 6500 Bellinzona\n
LOCATION:Francesco Chiesa 2a\, 6500 Bellinzona
CATEGORIES:Saison 2024/25
END:VEVENT
BEGIN:VEVENT
DTSTAMP:20260424T024008Z
DTSTART;TZID=Europe/Berlin:20250321T000000
DTEND;TZID=Europe/Berlin:20250321T030000
SUMMARY:2° Divisione spielfrei vs Lugano VI (24)
UID:c334d5b9-fad4-4d32-8d07-6b7af145b216
STATUS:CONFIRMED
DESCRIPTION:2° Divisione\nBegegnungs-Nr: 24\nHeim: spielfrei\nGast: Lugano VI\n
LOCATION:
CATEGORIES:Saison 2024/25
END:VEVENT
BEGIN:VEVENT
DTSTAMP:20260424T024008Z
DTSTART;TZID=Europe/Berlin:20250218T203000
DTEND;TZID=Europe/Berlin:20250218T233000
SUMMARY:2° Divisione Locarno II vs Lugano VI (27)
UID:c9f038d2-ecc5-409d-871d-a23d951fd0a5
STATUS:CONFIRMED
LAST-MODIFIED:20250220T150135Z
DESCRIPTION:2° Divisione\nBegegnungs-Nr: 27\nHeim: Locarno II\nGast: Lugano VI\n\nAdresse: Via alla Morettina 3\, 6600 Locarno\n
LOCATION:Via alla Morettina 3\, 6600 Locarno
CATEGORIES:Saison 2024/25
END:VEVENT
END:VCALENDAR
