BEGIN:VCALENDAR
PRODID:-//nuDatenautomaten//framework iCal4j //DE
VERSION:2.0
CALSCALE:GREGORIAN
BEGIN:VTIMEZONE
TZID:Europe/Berlin
LAST-MODIFIED:20260306T231828Z
TZURL:https://www.tzurl.org/zoneinfo/Europe/Berlin
X-LIC-LOCATION:Europe/Berlin
X-PROLEPTIC-TZNAME:LMT
BEGIN:STANDARD
TZNAME:CET
TZOFFSETFROM:+005328
TZOFFSETTO:+0100
DTSTART:18930401T000000
END:STANDARD
BEGIN:DAYLIGHT
TZNAME:CEST
TZOFFSETFROM:+0100
TZOFFSETTO:+0200
DTSTART:19160430T230000
RDATE:19400401T020000
RDATE:19430329T020000
RDATE:19460414T020000
RDATE:19470406T030000
RDATE:19480418T020000
RDATE:19490410T020000
RDATE:19800406T020000
END:DAYLIGHT
BEGIN:STANDARD
TZNAME:CET
TZOFFSETFROM:+0200
TZOFFSETTO:+0100
DTSTART:19161001T010000
RDATE:19421102T030000
RDATE:19431004T030000
RDATE:19441002T030000
RDATE:19451118T030000
RDATE:19461007T030000
END:STANDARD
BEGIN:DAYLIGHT
TZNAME:CEST
TZOFFSETFROM:+0100
TZOFFSETTO:+0200
DTSTART:19170416T020000
RRULE:FREQ=YEARLY;UNTIL=19180415T010000Z;BYMONTH=4;BYDAY=3MO
END:DAYLIGHT
BEGIN:STANDARD
TZNAME:CET
TZOFFSETFROM:+0200
TZOFFSETTO:+0100
DTSTART:19170917T030000
RRULE:FREQ=YEARLY;UNTIL=19180916T010000Z;BYMONTH=9;BYDAY=3MO
END:STANDARD
BEGIN:DAYLIGHT
TZNAME:CEST
TZOFFSETFROM:+0100
TZOFFSETTO:+0200
DTSTART:19440403T020000
RRULE:FREQ=YEARLY;UNTIL=19450402T010000Z;BYMONTH=4;BYDAY=1MO
END:DAYLIGHT
BEGIN:DAYLIGHT
TZNAME:CEMT
TZOFFSETFROM:+0200
TZOFFSETTO:+0300
DTSTART:19450524T020000
RDATE:19470511T030000
END:DAYLIGHT
BEGIN:DAYLIGHT
TZNAME:CEST
TZOFFSETFROM:+0300
TZOFFSETTO:+0200
DTSTART:19450924T030000
RDATE:19470629T030000
END:DAYLIGHT
BEGIN:STANDARD
TZNAME:CET
TZOFFSETFROM:+0100
TZOFFSETTO:+0100
DTSTART:19460101T000000
RDATE:19800101T000000
END:STANDARD
BEGIN:STANDARD
TZNAME:CET
TZOFFSETFROM:+0200
TZOFFSETTO:+0100
DTSTART:19471005T030000
RRULE:FREQ=YEARLY;UNTIL=19491002T010000Z;BYMONTH=10;BYDAY=1SU
END:STANDARD
BEGIN:STANDARD
TZNAME:CET
TZOFFSETFROM:+0200
TZOFFSETTO:+0100
DTSTART:19800928T030000
RRULE:FREQ=YEARLY;UNTIL=19950924T010000Z;BYMONTH=9;BYDAY=-1SU
END:STANDARD
BEGIN:DAYLIGHT
TZNAME:CEST
TZOFFSETFROM:+0100
TZOFFSETTO:+0200
DTSTART:19810329T020000
RRULE:FREQ=YEARLY;BYMONTH=3;BYDAY=-1SU
END:DAYLIGHT
BEGIN:STANDARD
TZNAME:CET
TZOFFSETFROM:+0200
TZOFFSETTO:+0100
DTSTART:19961027T030000
RRULE:FREQ=YEARLY;BYMONTH=10;BYDAY=-1SU
END:STANDARD
END:VTIMEZONE
BEGIN:VEVENT
DTSTAMP:20260424T043527Z
DTSTART;TZID=Europe/Berlin:20241009T194500
DTEND;TZID=Europe/Berlin:20241009T224500
SUMMARY:Ligue 3 Gr.1 Ph.A Onex III vs UGS-Chênois VI (10)
UID:d9dca674-fe68-468b-8416-82014d89dc58
STATUS:CONFIRMED
LAST-MODIFIED:20241010T074750Z
DESCRIPTION:3ème ligue Hommes Gr.1 Phase A\nBegegnungs-Nr: 10\nHeim: Onex III\nGast: UGS-Chênois VI\n
LOCATION:
CATEGORIES:Saison 2024/25
END:VEVENT
BEGIN:VEVENT
DTSTAMP:20260424T043527Z
DTSTART;TZID=Europe/Berlin:20241120T194500
DTEND;TZID=Europe/Berlin:20241120T224500
SUMMARY:Ligue 3 Gr.1 Ph.A Onex III vs Silver Star V (23)
UID:773dae6b-9dfe-415a-a47a-b4e89a355a31
STATUS:CONFIRMED
LAST-MODIFIED:20241121T111404Z
DESCRIPTION:3ème ligue Hommes Gr.1 Phase A\nBegegnungs-Nr: 23\nHeim: Onex III\nGast: Silver Star V\n
LOCATION:
CATEGORIES:Saison 2024/25
END:VEVENT
BEGIN:VEVENT
DTSTAMP:20260424T043527Z
DTSTART;TZID=Europe/Berlin:20241113T194500
DTEND;TZID=Europe/Berlin:20241113T224500
SUMMARY:Ligue 3 Gr.1 Ph.A Onex III vs Meyrin III (19)
UID:23d01920-76a4-4a1a-a260-bfc90a28f292
STATUS:CONFIRMED
LAST-MODIFIED:20241114T073600Z
DESCRIPTION:3ème ligue Hommes Gr.1 Phase A\nBegegnungs-Nr: 19\nHeim: Onex III\nGast: Meyrin III\n
LOCATION:
CATEGORIES:Saison 2024/25
END:VEVENT
BEGIN:VEVENT
DTSTAMP:20260424T043527Z
DTSTART;TZID=Europe/Berlin:20240913T194500
DTEND;TZID=Europe/Berlin:20240913T224500
SUMMARY:Ligue 3 Gr.1 Ph.A Onex III vs Carouge V (3)
UID:bbf62390-cbb7-4989-9788-7bc972eb3f58
STATUS:CONFIRMED
LAST-MODIFIED:20240914T081652Z
DESCRIPTION:3ème ligue Hommes Gr.1 Phase A\nBegegnungs-Nr: 3\nHeim: Onex III\nGast: Carouge V\n
LOCATION:
CATEGORIES:Saison 2024/25
END:VEVENT
BEGIN:VEVENT
DTSTAMP:20260424T043527Z
DTSTART;TZID=Europe/Berlin:20241016T194500
DTEND;TZID=Europe/Berlin:20241016T224500
SUMMARY:Ligue 3 Gr.1 Ph.A Onex III vs Versoix III (14)
UID:712c1ef4-4a7f-4b25-95e8-093b10702e7b
STATUS:CONFIRMED
LAST-MODIFIED:20241017T103156Z
DESCRIPTION:3ème ligue Hommes Gr.1 Phase A\nBegegnungs-Nr: 14\nHeim: Onex III\nGast: Versoix III\n
LOCATION:
CATEGORIES:Saison 2024/25
END:VEVENT
BEGIN:VEVENT
DTSTAMP:20260424T043527Z
DTSTART;TZID=Europe/Berlin:20250130T194500
DTEND;TZID=Europe/Berlin:20250130T224500
SUMMARY:Ligue 4 Gr.3 Ph.B Onex III vs Versoix V (7)
UID:9dfeecff-b087-48af-ae1a-7db2f6af9ff5
STATUS:CONFIRMED
LAST-MODIFIED:20250131T080836Z
DESCRIPTION:4ème ligue Hommes Gr.3 Phase B\nBegegnungs-Nr: 7\nHeim: Onex III\nGast: Versoix V\n
LOCATION:
CATEGORIES:Saison 2024/25
END:VEVENT
BEGIN:VEVENT
DTSTAMP:20260424T043527Z
DTSTART;TZID=Europe/Berlin:20250313T194500
DTEND;TZID=Europe/Berlin:20250313T224500
SUMMARY:Ligue 4 Gr.3 Ph.B Onex III vs Veyrier IV (16)
UID:31711dc7-19bb-4d0f-baa5-34353c8e0ec7
STATUS:CONFIRMED
LAST-MODIFIED:20250314T170445Z
DESCRIPTION:4ème ligue Hommes Gr.3 Phase B\nBegegnungs-Nr: 16\nHeim: Onex III\nGast: Veyrier IV\n\nAdresse: Avenue du Bois-de-la Chapelle 90\, 1213 Onex\n
LOCATION:Avenue du Bois-de-la Chapelle 90\, 1213 Onex
CATEGORIES:Saison 2024/25
END:VEVENT
BEGIN:VEVENT
DTSTAMP:20260424T043527Z
DTSTART;TZID=Europe/Berlin:20250220T194500
DTEND;TZID=Europe/Berlin:20250220T224500
SUMMARY:Ligue 4 Gr.3 Ph.B Onex III vs Silver Star VII (13)
UID:036fdb49-1fcf-4e1b-bb15-26cfe06f2167
STATUS:CONFIRMED
LAST-MODIFIED:20250221T083806Z
DESCRIPTION:4ème ligue Hommes Gr.3 Phase B\nBegegnungs-Nr: 13\nHeim: Onex III\nGast: Silver Star VII\n
LOCATION:
CATEGORIES:Saison 2024/25
END:VEVENT
BEGIN:VEVENT
DTSTAMP:20260424T043527Z
DTSTART;TZID=Europe/Berlin:20250410T200000
DTEND;TZID=Europe/Berlin:20250410T230000
SUMMARY:Ligue 4 Gr.3 Ph.B Onex III vs Châtelaine VI (25)
UID:83eb62aa-a19d-416e-b433-3283d6660832
STATUS:CONFIRMED
LAST-MODIFIED:20250411T083543Z
DESCRIPTION:4ème ligue Hommes Gr.3 Phase B\nBegegnungs-Nr: 25\nHeim: Onex III\nGast: Châtelaine VI\n
LOCATION:
CATEGORIES:Saison 2024/25
END:VEVENT
BEGIN:VEVENT
DTSTAMP:20260424T043527Z
DTSTART;TZID=Europe/Berlin:20250320T194500
DTEND;TZID=Europe/Berlin:20250320T224500
SUMMARY:Ligue 4 Gr.3 Ph.B Onex III vs UGS-Chênois IX (21)
UID:660d9615-b26c-4b95-b85d-239fdc1b8ab8
STATUS:CONFIRMED
LAST-MODIFIED:20250321T094354Z
DESCRIPTION:4ème ligue Hommes Gr.3 Phase B\nBegegnungs-Nr: 21\nHeim: Onex III\nGast: UGS-Chênois IX\n
LOCATION:
CATEGORIES:Saison 2024/25
END:VEVENT
BEGIN:VEVENT
DTSTAMP:20260424T043527Z
DTSTART;TZID=Europe/Berlin:20240925T194500
DTEND;TZID=Europe/Berlin:20240925T224500
SUMMARY:Ligue 3 Gr.1 Ph.A Silver Star V vs Onex III (8)
UID:6f70e44e-4869-47e0-9d45-e290efaa2b38
STATUS:CONFIRMED
LAST-MODIFIED:20240926T050158Z
DESCRIPTION:3ème ligue Hommes Gr.1 Phase A\nBegegnungs-Nr: 8\nHeim: Silver Star V\nGast: Onex III\n
LOCATION:
CATEGORIES:Saison 2024/25
END:VEVENT
BEGIN:VEVENT
DTSTAMP:20260424T043527Z
DTSTART;TZID=Europe/Berlin:20241127T194500
DTEND;TZID=Europe/Berlin:20241127T224500
SUMMARY:Ligue 3 Gr.1 Ph.A UGS-Chênois VI vs Onex III (25)
UID:4219cfb3-f93a-46e1-82a1-33b04410f408
STATUS:CONFIRMED
LAST-MODIFIED:20241128T173347Z
DESCRIPTION:3ème ligue Hommes Gr.1 Phase A\nBegegnungs-Nr: 25\nHeim: UGS-Chênois VI\nGast: Onex III\n
LOCATION:
CATEGORIES:Saison 2024/25
END:VEVENT
BEGIN:VEVENT
DTSTAMP:20260424T043527Z
DTSTART;TZID=Europe/Berlin:20241030T194500
DTEND;TZID=Europe/Berlin:20241030T224500
SUMMARY:Ligue 3 Gr.1 Ph.A Carouge V vs Onex III (18)
UID:32191639-abb2-44fa-868f-47dc5fd350e6
STATUS:CONFIRMED
LAST-MODIFIED:20241031T085843Z
DESCRIPTION:3ème ligue Hommes Gr.1 Phase A\nBegegnungs-Nr: 18\nHeim: Carouge V\nGast: Onex III\n
LOCATION:
CATEGORIES:Saison 2024/25
END:VEVENT
BEGIN:VEVENT
DTSTAMP:20260424T043527Z
DTSTART;TZID=Europe/Berlin:20240918T194500
DTEND;TZID=Europe/Berlin:20240918T224500
SUMMARY:Ligue 3 Gr.1 Ph.A Meyrin III vs Onex III (4)
UID:d1aa149d-c1e6-4bff-949d-8a49e5ff1e2a
STATUS:CONFIRMED
LAST-MODIFIED:20240919T131508Z
DESCRIPTION:3ème ligue Hommes Gr.1 Phase A\nBegegnungs-Nr: 4\nHeim: Meyrin III\nGast: Onex III\n
LOCATION:
CATEGORIES:Saison 2024/25
END:VEVENT
BEGIN:VEVENT
DTSTAMP:20260424T043527Z
DTSTART;TZID=Europe/Berlin:20241204T194500
DTEND;TZID=Europe/Berlin:20241204T224500
SUMMARY:Ligue 3 Gr.1 Ph.A Versoix III vs Onex III (29)
UID:0923d838-0de5-4c7e-9b4b-44833c7974fa
STATUS:CONFIRMED
LAST-MODIFIED:20241205T085732Z
DESCRIPTION:3ème ligue Hommes Gr.1 Phase A\nBegegnungs-Nr: 29\nHeim: Versoix III\nGast: Onex III\n
LOCATION:
CATEGORIES:Saison 2024/25
END:VEVENT
BEGIN:VEVENT
DTSTAMP:20260424T043527Z
DTSTART;TZID=Europe/Berlin:20250508T194500
DTEND;TZID=Europe/Berlin:20250508T224500
SUMMARY:Ligue 4 Titre quart Mandement V vs Onex III (4)
UID:a9c7e821-3f4e-4b3f-a944-3edfd1d4bd8b
STATUS:CONFIRMED
LAST-MODIFIED:20250510T075219Z
DESCRIPTION:4ème ligue Hommes Titre quart\nBegegnungs-Nr: 4\nHeim: Mandement V\nGast: Onex III\n
LOCATION:
CATEGORIES:Saison 2024/25
END:VEVENT
BEGIN:VEVENT
DTSTAMP:20260424T043527Z
DTSTART;TZID=Europe/Berlin:20250123T194500
DTEND;TZID=Europe/Berlin:20250123T224500
SUMMARY:Ligue 4 Gr.3 Ph.B UGS-Chênois IX vs Onex III (6)
UID:5ea1b120-75db-4abf-8f72-a0b4bd01aef1
STATUS:CONFIRMED
LAST-MODIFIED:20250124T121534Z
DESCRIPTION:4ème ligue Hommes Gr.3 Phase B\nBegegnungs-Nr: 6\nHeim: UGS-Chênois IX\nGast: Onex III\n
LOCATION:
CATEGORIES:Saison 2024/25
END:VEVENT
BEGIN:VEVENT
DTSTAMP:20260424T043527Z
DTSTART;TZID=Europe/Berlin:20250116T194500
DTEND;TZID=Europe/Berlin:20250116T224500
SUMMARY:Ligue 4 Gr.3 Ph.B Veyrier IV vs Onex III (1)
UID:39ae80fe-4e7a-4640-ac74-dd85ba38ba6f
STATUS:CONFIRMED
LAST-MODIFIED:20250117T082819Z
DESCRIPTION:4ème ligue Hommes Gr.3 Phase B\nBegegnungs-Nr: 1\nHeim: Veyrier IV\nGast: Onex III\n\nAdresse: -\, 1255 Veyrier\n
LOCATION:-\, 1255 Veyrier
CATEGORIES:Saison 2024/25
END:VEVENT
BEGIN:VEVENT
DTSTAMP:20260424T043527Z
DTSTART;TZID=Europe/Berlin:20250213T200000
DTEND;TZID=Europe/Berlin:20250213T230000
SUMMARY:Ligue 4 Gr.3 Ph.B Châtelaine VI vs Onex III (10)
UID:f6e99cef-55d9-4bd8-ac77-c74d51cb0b02
STATUS:CONFIRMED
LAST-MODIFIED:20250214T170328Z
DESCRIPTION:4ème ligue Hommes Gr.3 Phase B\nBegegnungs-Nr: 10\nHeim: Châtelaine VI\nGast: Onex III\n
LOCATION:
CATEGORIES:Saison 2024/25
END:VEVENT
BEGIN:VEVENT
DTSTAMP:20260424T043527Z
DTSTART;TZID=Europe/Berlin:20250417T194500
DTEND;TZID=Europe/Berlin:20250417T224500
SUMMARY:Ligue 4 Gr.3 Ph.B Silver Star VII vs Onex III (28)
UID:2495d511-d0c6-44a8-9b44-efe8c1aa765d
STATUS:CONFIRMED
LAST-MODIFIED:20250418T193220Z
DESCRIPTION:4ème ligue Hommes Gr.3 Phase B\nBegegnungs-Nr: 28\nHeim: Silver Star VII\nGast: Onex III\n
LOCATION:
CATEGORIES:Saison 2024/25
END:VEVENT
BEGIN:VEVENT
DTSTAMP:20260424T043527Z
DTSTART;TZID=Europe/Berlin:20250403T194500
DTEND;TZID=Europe/Berlin:20250403T224500
SUMMARY:Ligue 4 Gr.3 Ph.B Versoix V vs Onex III (22)
UID:8449fc06-d7e0-4a4f-b213-b463c11d1f1e
STATUS:CONFIRMED
LAST-MODIFIED:20250404T064238Z
DESCRIPTION:4ème ligue Hommes Gr.3 Phase B\nBegegnungs-Nr: 22\nHeim: Versoix V\nGast: Onex III\n
LOCATION:
CATEGORIES:Saison 2024/25
END:VEVENT
END:VCALENDAR
