BEGIN:VCALENDAR
PRODID:-//nuDatenautomaten//framework iCal4j //DE
VERSION:2.0
CALSCALE:GREGORIAN
BEGIN:VTIMEZONE
TZID:Europe/Berlin
LAST-MODIFIED:20260306T231828Z
TZURL:https://www.tzurl.org/zoneinfo/Europe/Berlin
X-LIC-LOCATION:Europe/Berlin
X-PROLEPTIC-TZNAME:LMT
BEGIN:STANDARD
TZNAME:CET
TZOFFSETFROM:+005328
TZOFFSETTO:+0100
DTSTART:18930401T000000
END:STANDARD
BEGIN:DAYLIGHT
TZNAME:CEST
TZOFFSETFROM:+0100
TZOFFSETTO:+0200
DTSTART:19160430T230000
RDATE:19400401T020000
RDATE:19430329T020000
RDATE:19460414T020000
RDATE:19470406T030000
RDATE:19480418T020000
RDATE:19490410T020000
RDATE:19800406T020000
END:DAYLIGHT
BEGIN:STANDARD
TZNAME:CET
TZOFFSETFROM:+0200
TZOFFSETTO:+0100
DTSTART:19161001T010000
RDATE:19421102T030000
RDATE:19431004T030000
RDATE:19441002T030000
RDATE:19451118T030000
RDATE:19461007T030000
END:STANDARD
BEGIN:DAYLIGHT
TZNAME:CEST
TZOFFSETFROM:+0100
TZOFFSETTO:+0200
DTSTART:19170416T020000
RRULE:FREQ=YEARLY;UNTIL=19180415T010000Z;BYMONTH=4;BYDAY=3MO
END:DAYLIGHT
BEGIN:STANDARD
TZNAME:CET
TZOFFSETFROM:+0200
TZOFFSETTO:+0100
DTSTART:19170917T030000
RRULE:FREQ=YEARLY;UNTIL=19180916T010000Z;BYMONTH=9;BYDAY=3MO
END:STANDARD
BEGIN:DAYLIGHT
TZNAME:CEST
TZOFFSETFROM:+0100
TZOFFSETTO:+0200
DTSTART:19440403T020000
RRULE:FREQ=YEARLY;UNTIL=19450402T010000Z;BYMONTH=4;BYDAY=1MO
END:DAYLIGHT
BEGIN:DAYLIGHT
TZNAME:CEMT
TZOFFSETFROM:+0200
TZOFFSETTO:+0300
DTSTART:19450524T020000
RDATE:19470511T030000
END:DAYLIGHT
BEGIN:DAYLIGHT
TZNAME:CEST
TZOFFSETFROM:+0300
TZOFFSETTO:+0200
DTSTART:19450924T030000
RDATE:19470629T030000
END:DAYLIGHT
BEGIN:STANDARD
TZNAME:CET
TZOFFSETFROM:+0100
TZOFFSETTO:+0100
DTSTART:19460101T000000
RDATE:19800101T000000
END:STANDARD
BEGIN:STANDARD
TZNAME:CET
TZOFFSETFROM:+0200
TZOFFSETTO:+0100
DTSTART:19471005T030000
RRULE:FREQ=YEARLY;UNTIL=19491002T010000Z;BYMONTH=10;BYDAY=1SU
END:STANDARD
BEGIN:STANDARD
TZNAME:CET
TZOFFSETFROM:+0200
TZOFFSETTO:+0100
DTSTART:19800928T030000
RRULE:FREQ=YEARLY;UNTIL=19950924T010000Z;BYMONTH=9;BYDAY=-1SU
END:STANDARD
BEGIN:DAYLIGHT
TZNAME:CEST
TZOFFSETFROM:+0100
TZOFFSETTO:+0200
DTSTART:19810329T020000
RRULE:FREQ=YEARLY;BYMONTH=3;BYDAY=-1SU
END:DAYLIGHT
BEGIN:STANDARD
TZNAME:CET
TZOFFSETFROM:+0200
TZOFFSETTO:+0100
DTSTART:19961027T030000
RRULE:FREQ=YEARLY;BYMONTH=10;BYDAY=-1SU
END:STANDARD
END:VTIMEZONE
BEGIN:VEVENT
DTSTAMP:20260424T022712Z
DTSTART;TZID=Europe/Berlin:20241206T193000
DTEND;TZID=Europe/Berlin:20241206T223000
SUMMARY:ME L1 Gr 2\, Tours 1&2 Lausanne II vs Sierre II (0)
UID:21d32237-83f9-491c-8484-8d67b0888b6f
STATUS:CONFIRMED
LAST-MODIFIED:20241207T181518Z
DESCRIPTION:1ère ligue Hommes Groupe 2\, Tours 1&2\nBegegnungs-Nr: 0\nHeim: Lausanne II\nGast: Sierre II\n\nAdresse: Vaudoise Aréna\, Ch. du Viaduc 14\, 1008 Prilly\n
LOCATION:Vaudoise Aréna\, Ch. du Viaduc 14\, 1008 Prilly
CATEGORIES:Saison 2024/25
END:VEVENT
BEGIN:VEVENT
DTSTAMP:20260424T022712Z
DTSTART;TZID=Europe/Berlin:20241115T193000
DTEND;TZID=Europe/Berlin:20241115T223000
SUMMARY:ME L1 Gr 2\, Tours 1&2 Lausanne II vs Fribourg III (0)
UID:d9350d86-a314-467d-83c4-16d0bf80013a
STATUS:CONFIRMED
LAST-MODIFIED:20241116T192051Z
DESCRIPTION:1ère ligue Hommes Groupe 2\, Tours 1&2\nBegegnungs-Nr: 0\nHeim: Lausanne II\nGast: Fribourg III\n\nAdresse: Vaudoise Aréna\, Ch. du Viaduc 14\, 1008 Prilly\n
LOCATION:Vaudoise Aréna\, Ch. du Viaduc 14\, 1008 Prilly
CATEGORIES:Saison 2024/25
END:VEVENT
BEGIN:VEVENT
DTSTAMP:20260424T022712Z
DTSTART;TZID=Europe/Berlin:20241029T193000
DTEND;TZID=Europe/Berlin:20241029T223000
SUMMARY:ME L1 Gr 2\, Tours 1&2 Lausanne II vs Yverdon (0)
UID:7b45f5f0-ee2a-4a40-8495-f6db72bc442b
STATUS:CONFIRMED
LAST-MODIFIED:20241030T214558Z
DESCRIPTION:1ère ligue Hommes Groupe 2\, Tours 1&2\nBegegnungs-Nr: 0\nHeim: Lausanne II\nGast: Yverdon\n\nAdresse: Vaudoise Aréna\, Ch. du Viaduc 14\, 1008 Prilly\n
LOCATION:Vaudoise Aréna\, Ch. du Viaduc 14\, 1008 Prilly
CATEGORIES:Saison 2024/25
END:VEVENT
BEGIN:VEVENT
DTSTAMP:20260424T022712Z
DTSTART;TZID=Europe/Berlin:20241004T193000
DTEND;TZID=Europe/Berlin:20241004T223000
SUMMARY:ME L1 Gr 2\, Tours 1&2 Lausanne II vs Crissier (0)
UID:1e184a93-ab98-4956-b256-63cefc970bcd
STATUS:CONFIRMED
LAST-MODIFIED:20241007T063018Z
DESCRIPTION:1ère ligue Hommes Groupe 2\, Tours 1&2\nBegegnungs-Nr: 0\nHeim: Lausanne II\nGast: Crissier\n\nAdresse: Vaudoise Aréna\, Ch. du Viaduc 14\, 1008 Prilly\n
LOCATION:Vaudoise Aréna\, Ch. du Viaduc 14\, 1008 Prilly
CATEGORIES:Saison 2024/25
END:VEVENT
BEGIN:VEVENT
DTSTAMP:20260424T022712Z
DTSTART;TZID=Europe/Berlin:20240913T193000
DTEND;TZID=Europe/Berlin:20240913T223000
SUMMARY:ME L1 Gr 2\, Tours 1&2 Lausanne II vs Bulle IV (0)
UID:602d0165-2fc2-47b8-a5a1-172f851d9d63
STATUS:CONFIRMED
LAST-MODIFIED:20240914T210144Z
DESCRIPTION:1ère ligue Hommes Groupe 2\, Tours 1&2\nBegegnungs-Nr: 0\nHeim: Lausanne II\nGast: Bulle IV\n\nAdresse: Vaudoise Aréna\, Ch. du Viaduc 14\, 1008 Prilly\n
LOCATION:Vaudoise Aréna\, Ch. du Viaduc 14\, 1008 Prilly
CATEGORIES:Saison 2024/25
END:VEVENT
BEGIN:VEVENT
DTSTAMP:20260424T022712Z
DTSTART;TZID=Europe/Berlin:20250214T193000
DTEND;TZID=Europe/Berlin:20250214T223000
SUMMARY:ME L1 Gr 1\, Tours 3&4 Lausanne II vs Bulle IV (0)
UID:18a06a41-d3c6-4308-9ba3-529588c3cb97
STATUS:CONFIRMED
LAST-MODIFIED:20250215T151658Z
DESCRIPTION:1ère ligue Hommes Groupe 1\, Tours 3&4\nBegegnungs-Nr: 0\nHeim: Lausanne II\nGast: Bulle IV\n\nAdresse: Vaudoise Aréna\, Ch. du Viaduc 14\, 1008 Prilly\n
LOCATION:Vaudoise Aréna\, Ch. du Viaduc 14\, 1008 Prilly
CATEGORIES:Saison 2024/25
END:VEVENT
BEGIN:VEVENT
DTSTAMP:20260424T022712Z
DTSTART;TZID=Europe/Berlin:20250124T193000
DTEND;TZID=Europe/Berlin:20250124T223000
SUMMARY:ME L1 Gr 1\, Tours 3&4 Lausanne II vs Rossens II (0)
UID:690b01ed-2b02-49c5-ab6b-495aab4ef5b4
STATUS:CONFIRMED
LAST-MODIFIED:20250125T161508Z
DESCRIPTION:1ère ligue Hommes Groupe 1\, Tours 3&4\nBegegnungs-Nr: 0\nHeim: Lausanne II\nGast: Rossens II\n\nAdresse: Vaudoise Aréna\, Ch. du Viaduc 14\, 1008 Prilly\n
LOCATION:Vaudoise Aréna\, Ch. du Viaduc 14\, 1008 Prilly
CATEGORIES:Saison 2024/25
END:VEVENT
BEGIN:VEVENT
DTSTAMP:20260424T022712Z
DTSTART;TZID=Europe/Berlin:20250404T193000
DTEND;TZID=Europe/Berlin:20250404T223000
SUMMARY:ME L1 Gr 1\, Tours 3&4 Lausanne II vs Montriond-Ouchy  (0)
UID:078fc480-c8c1-4043-882f-661a4d3a6333
STATUS:CONFIRMED
LAST-MODIFIED:20250405T115732Z
DESCRIPTION:1ère ligue Hommes Groupe 1\, Tours 3&4\nBegegnungs-Nr: 0\nHeim: Lausanne II\nGast: Montriond-Ouchy \n\nAdresse: Vaudoise Aréna\, Ch. du Viaduc 14\, 1008 Prilly\n
LOCATION:Vaudoise Aréna\, Ch. du Viaduc 14\, 1008 Prilly
CATEGORIES:Saison 2024/25
END:VEVENT
BEGIN:VEVENT
DTSTAMP:20260424T022712Z
DTSTART;TZID=Europe/Berlin:20250314T193000
DTEND;TZID=Europe/Berlin:20250314T223000
SUMMARY:ME L1 Gr 1\, Tours 3&4 Lausanne II vs Forward-Morges (0)
UID:f9fe4309-dd15-418d-bdda-c7751f7dbb19
STATUS:CONFIRMED
LAST-MODIFIED:20250316T010635Z
DESCRIPTION:1ère ligue Hommes Groupe 1\, Tours 3&4\nBegegnungs-Nr: 0\nHeim: Lausanne II\nGast: Forward-Morges\n\nAdresse: Vaudoise Aréna\, Ch. du Viaduc 14\, 1008 Prilly\n
LOCATION:Vaudoise Aréna\, Ch. du Viaduc 14\, 1008 Prilly
CATEGORIES:Saison 2024/25
END:VEVENT
BEGIN:VEVENT
DTSTAMP:20260424T022712Z
DTSTART;TZID=Europe/Berlin:20250207T193000
DTEND;TZID=Europe/Berlin:20250207T223000
SUMMARY:ME L1 Gr 1\, Tours 3&4 Lausanne II vs Crissier (0)
UID:fcbb1fce-07ae-47d1-b2cf-8c2dc9a457f8
STATUS:CONFIRMED
LAST-MODIFIED:20250210T162317Z
DESCRIPTION:1ère ligue Hommes Groupe 1\, Tours 3&4\nBegegnungs-Nr: 0\nHeim: Lausanne II\nGast: Crissier\n\nAdresse: Vaudoise Aréna\, Ch. du Viaduc 14\, 1008 Prilly\n
LOCATION:Vaudoise Aréna\, Ch. du Viaduc 14\, 1008 Prilly
CATEGORIES:Saison 2024/25
END:VEVENT
BEGIN:VEVENT
DTSTAMP:20260424T022712Z
DTSTART;TZID=Europe/Berlin:20241127T193000
DTEND;TZID=Europe/Berlin:20241127T223000
SUMMARY:ME L1 Gr 2\, Tours 1&2 Crissier vs Lausanne II (0)
UID:eed429c8-a182-46b7-89a6-3d4a6fc4e112
STATUS:CONFIRMED
LAST-MODIFIED:20241128T002947Z
DESCRIPTION:1ère ligue Hommes Groupe 2\, Tours 1&2\nBegegnungs-Nr: 0\nHeim: Crissier\nGast: Lausanne II\n\nAdresse: ch. des Oches du Mur\, 1023 Crissier\n
LOCATION:ch. des Oches du Mur\, 1023 Crissier
CATEGORIES:Saison 2024/25
END:VEVENT
BEGIN:VEVENT
DTSTAMP:20260424T022712Z
DTSTART;TZID=Europe/Berlin:20241106T193000
DTEND;TZID=Europe/Berlin:20241106T223000
SUMMARY:ME L1 Gr 2\, Tours 1&2 Bulle IV vs Lausanne II (0)
UID:97db9387-5a6c-4336-b6dc-a4aef94604cb
STATUS:CONFIRMED
LAST-MODIFIED:20241107T130045Z
DESCRIPTION:1ère ligue Hommes Groupe 2\, Tours 1&2\nBegegnungs-Nr: 0\nHeim: Bulle IV\nGast: Lausanne II\n\nAdresse: Rue du Stade 50\, 1630 Bulle\n
LOCATION:Rue du Stade 50\, 1630 Bulle
CATEGORIES:Saison 2024/25
END:VEVENT
BEGIN:VEVENT
DTSTAMP:20260424T022712Z
DTSTART;TZID=Europe/Berlin:20241009T200000
DTEND;TZID=Europe/Berlin:20241009T230000
SUMMARY:ME L1 Gr 2\, Tours 1&2 Sierre II vs Lausanne II (0)
UID:75c9f6d4-7aab-48c7-af1e-c82f3fbbfb20
STATUS:CONFIRMED
LAST-MODIFIED:20241009T221110Z
DESCRIPTION:1ère ligue Hommes Groupe 2\, Tours 1&2\nBegegnungs-Nr: 0\nHeim: Sierre II\nGast: Lausanne II\n\nAdresse: Rte des Liddes 6\, 3960 Sierre\n
LOCATION:Rte des Liddes 6\, 3960 Sierre
CATEGORIES:Saison 2024/25
END:VEVENT
BEGIN:VEVENT
DTSTAMP:20260424T022712Z
DTSTART;TZID=Europe/Berlin:20240919T193000
DTEND;TZID=Europe/Berlin:20240919T223000
SUMMARY:ME L1 Gr 2\, Tours 1&2 Fribourg III vs Lausanne II (0)
UID:bb5a3bf9-d982-4a60-b980-3b5219ad9113
STATUS:CONFIRMED
LAST-MODIFIED:20240922T132147Z
DESCRIPTION:1ère ligue Hommes Groupe 2\, Tours 1&2\nBegegnungs-Nr: 0\nHeim: Fribourg III\nGast: Lausanne II\n\nAdresse: Route du Centre sportif\, 1752 Villars-sur-Glâne\n
LOCATION:Route du Centre sportif\, 1752 Villars-sur-Glâne
CATEGORIES:Saison 2024/25
END:VEVENT
BEGIN:VEVENT
DTSTAMP:20260424T022712Z
DTSTART;TZID=Europe/Berlin:20240905T201500
DTEND;TZID=Europe/Berlin:20240905T231500
SUMMARY:ME L1 Gr 2\, Tours 1&2 Yverdon vs Lausanne II (0)
UID:f8ce543d-e6d7-4ce6-9eed-fe6407662df9
STATUS:CONFIRMED
LAST-MODIFIED:20240907T122750Z
DESCRIPTION:1ère ligue Hommes Groupe 2\, Tours 1&2\nBegegnungs-Nr: 0\nHeim: Yverdon\nGast: Lausanne II\n\nAdresse: Avenue des Quatre Marroniers 1\, 1400 Yverdon-les-Bains\n
LOCATION:Avenue des Quatre Marroniers 1\, 1400 Yverdon-les-Bains
CATEGORIES:Saison 2024/25
END:VEVENT
BEGIN:VEVENT
DTSTAMP:20260424T022712Z
DTSTART;TZID=Europe/Berlin:20250131T194400
DTEND;TZID=Europe/Berlin:20250131T224400
SUMMARY:ME L1 Gr 1\, Tours 3&4 Montriond-Ouchy  vs Lausanne II (0)
UID:0bdda669-c624-4451-86f3-ab88fb12f184
STATUS:CONFIRMED
LAST-MODIFIED:20250202T141327Z
DESCRIPTION:1ère ligue Hommes Groupe 1\, Tours 3&4\nBegegnungs-Nr: 0\nHeim: Montriond-Ouchy \nGast: Lausanne II\n\nAdresse: Avenue d'Ouchy 45\, 1006 Lausanne\n
LOCATION:Avenue d'Ouchy 45\, 1006 Lausanne
CATEGORIES:Saison 2024/25
END:VEVENT
BEGIN:VEVENT
DTSTAMP:20260424T022712Z
DTSTART;TZID=Europe/Berlin:20250123T194500
DTEND;TZID=Europe/Berlin:20250123T224500
SUMMARY:ME L1 Gr 1\, Tours 3&4 Forward-Morges vs Lausanne II (0)
UID:a04a1012-945f-46ad-a743-67fa39ea3057
STATUS:CONFIRMED
LAST-MODIFIED:20250125T161446Z
DESCRIPTION:1ère ligue Hommes Groupe 1\, Tours 3&4\nBegegnungs-Nr: 0\nHeim: Forward-Morges\nGast: Lausanne II\n\nAdresse: Chemin de Tolochenaz\, 1110 Morges\n
LOCATION:Chemin de Tolochenaz\, 1110 Morges
CATEGORIES:Saison 2024/25
END:VEVENT
BEGIN:VEVENT
DTSTAMP:20260424T022712Z
DTSTART;TZID=Europe/Berlin:20250402T193000
DTEND;TZID=Europe/Berlin:20250402T223000
SUMMARY:ME L1 Gr 1\, Tours 3&4 Crissier vs Lausanne II (0)
UID:8441bf4a-9316-4fa0-8e20-2ee1e62c3f15
STATUS:CONFIRMED
LAST-MODIFIED:20250403T072025Z
DESCRIPTION:1ère ligue Hommes Groupe 1\, Tours 3&4\nBegegnungs-Nr: 0\nHeim: Crissier\nGast: Lausanne II\n\nAdresse: ch. des Oches du Mur\, 1023 Crissier\n
LOCATION:ch. des Oches du Mur\, 1023 Crissier
CATEGORIES:Saison 2024/25
END:VEVENT
BEGIN:VEVENT
DTSTAMP:20260424T022712Z
DTSTART;TZID=Europe/Berlin:20250326T193000
DTEND;TZID=Europe/Berlin:20250326T223000
SUMMARY:ME L1 Gr 1\, Tours 3&4 Bulle IV vs Lausanne II (0)
UID:ae185797-f2ce-4a8c-98ce-4256abadc2d0
STATUS:CONFIRMED
LAST-MODIFIED:20250329T153225Z
DESCRIPTION:1ère ligue Hommes Groupe 1\, Tours 3&4\nBegegnungs-Nr: 0\nHeim: Bulle IV\nGast: Lausanne II\n\nAdresse: Rue du Stade 50\, 1630 Bulle\n
LOCATION:Rue du Stade 50\, 1630 Bulle
CATEGORIES:Saison 2024/25
END:VEVENT
BEGIN:VEVENT
DTSTAMP:20260424T022712Z
DTSTART;TZID=Europe/Berlin:20250310T200000
DTEND;TZID=Europe/Berlin:20250310T230000
SUMMARY:ME L1 Gr 1\, Tours 3&4 Rossens II vs Lausanne II (0)
UID:166fc1bb-6174-412f-937d-6d0c89d98aed
STATUS:CONFIRMED
LAST-MODIFIED:20250310T233000Z
DESCRIPTION:1ère ligue Hommes Groupe 1\, Tours 3&4\nBegegnungs-Nr: 0\nHeim: Rossens II\nGast: Lausanne II\n\nAdresse: Route du Jordil 14\, 1728 Rossens\n
LOCATION:Route du Jordil 14\, 1728 Rossens
CATEGORIES:Saison 2024/25
END:VEVENT
END:VCALENDAR
