BEGIN:VCALENDAR
PRODID:-//nuDatenautomaten//framework iCal4j //DE
VERSION:2.0
CALSCALE:GREGORIAN
BEGIN:VTIMEZONE
TZID:Europe/Berlin
LAST-MODIFIED:20260306T231828Z
TZURL:https://www.tzurl.org/zoneinfo/Europe/Berlin
X-LIC-LOCATION:Europe/Berlin
X-PROLEPTIC-TZNAME:LMT
BEGIN:STANDARD
TZNAME:CET
TZOFFSETFROM:+005328
TZOFFSETTO:+0100
DTSTART:18930401T000000
END:STANDARD
BEGIN:DAYLIGHT
TZNAME:CEST
TZOFFSETFROM:+0100
TZOFFSETTO:+0200
DTSTART:19160430T230000
RDATE:19400401T020000
RDATE:19430329T020000
RDATE:19460414T020000
RDATE:19470406T030000
RDATE:19480418T020000
RDATE:19490410T020000
RDATE:19800406T020000
END:DAYLIGHT
BEGIN:STANDARD
TZNAME:CET
TZOFFSETFROM:+0200
TZOFFSETTO:+0100
DTSTART:19161001T010000
RDATE:19421102T030000
RDATE:19431004T030000
RDATE:19441002T030000
RDATE:19451118T030000
RDATE:19461007T030000
END:STANDARD
BEGIN:DAYLIGHT
TZNAME:CEST
TZOFFSETFROM:+0100
TZOFFSETTO:+0200
DTSTART:19170416T020000
RRULE:FREQ=YEARLY;UNTIL=19180415T010000Z;BYMONTH=4;BYDAY=3MO
END:DAYLIGHT
BEGIN:STANDARD
TZNAME:CET
TZOFFSETFROM:+0200
TZOFFSETTO:+0100
DTSTART:19170917T030000
RRULE:FREQ=YEARLY;UNTIL=19180916T010000Z;BYMONTH=9;BYDAY=3MO
END:STANDARD
BEGIN:DAYLIGHT
TZNAME:CEST
TZOFFSETFROM:+0100
TZOFFSETTO:+0200
DTSTART:19440403T020000
RRULE:FREQ=YEARLY;UNTIL=19450402T010000Z;BYMONTH=4;BYDAY=1MO
END:DAYLIGHT
BEGIN:DAYLIGHT
TZNAME:CEMT
TZOFFSETFROM:+0200
TZOFFSETTO:+0300
DTSTART:19450524T020000
RDATE:19470511T030000
END:DAYLIGHT
BEGIN:DAYLIGHT
TZNAME:CEST
TZOFFSETFROM:+0300
TZOFFSETTO:+0200
DTSTART:19450924T030000
RDATE:19470629T030000
END:DAYLIGHT
BEGIN:STANDARD
TZNAME:CET
TZOFFSETFROM:+0100
TZOFFSETTO:+0100
DTSTART:19460101T000000
RDATE:19800101T000000
END:STANDARD
BEGIN:STANDARD
TZNAME:CET
TZOFFSETFROM:+0200
TZOFFSETTO:+0100
DTSTART:19471005T030000
RRULE:FREQ=YEARLY;UNTIL=19491002T010000Z;BYMONTH=10;BYDAY=1SU
END:STANDARD
BEGIN:STANDARD
TZNAME:CET
TZOFFSETFROM:+0200
TZOFFSETTO:+0100
DTSTART:19800928T030000
RRULE:FREQ=YEARLY;UNTIL=19950924T010000Z;BYMONTH=9;BYDAY=-1SU
END:STANDARD
BEGIN:DAYLIGHT
TZNAME:CEST
TZOFFSETFROM:+0100
TZOFFSETTO:+0200
DTSTART:19810329T020000
RRULE:FREQ=YEARLY;BYMONTH=3;BYDAY=-1SU
END:DAYLIGHT
BEGIN:STANDARD
TZNAME:CET
TZOFFSETFROM:+0200
TZOFFSETTO:+0100
DTSTART:19961027T030000
RRULE:FREQ=YEARLY;BYMONTH=10;BYDAY=-1SU
END:STANDARD
END:VTIMEZONE
BEGIN:VEVENT
DTSTAMP:20260424T062026Z
DTSTART;TZID=Europe/Berlin:20241212T193000
DTEND;TZID=Europe/Berlin:20241212T223000
SUMMARY:ME L4 Gr 4\, Tours 1&2 Montriond-Ouchy  IV vs Eysins II (0)
UID:fb4d754d-a310-47d7-9b64-461bd9a6c188
STATUS:CONFIRMED
LAST-MODIFIED:20241215T005937Z
DESCRIPTION:4ème ligue Hommes Groupe 4\, Tours 1&2\nBegegnungs-Nr: 0\nHeim: Montriond-Ouchy  IV\nGast: Eysins II\n\nAdresse: Avenue d'Ouchy 45\, 1006 Lausanne\n
LOCATION:Avenue d'Ouchy 45\, 1006 Lausanne
CATEGORIES:Saison 2024/25
END:VEVENT
BEGIN:VEVENT
DTSTAMP:20260424T062026Z
DTSTART;TZID=Europe/Berlin:20241121T193000
DTEND;TZID=Europe/Berlin:20241121T223000
SUMMARY:ME L4 Gr 4\, Tours 1&2 Montriond-Ouchy  IV vs Trams-Renens II (0)
UID:d75f0459-f090-49af-b328-705237cb50a6
STATUS:CONFIRMED
LAST-MODIFIED:20241126T112544Z
DESCRIPTION:4ème ligue Hommes Groupe 4\, Tours 1&2\nBegegnungs-Nr: 0\nHeim: Montriond-Ouchy  IV\nGast: Trams-Renens II\n\nAdresse: Avenue d'Ouchy 45\, 1006 Lausanne\n
LOCATION:Avenue d'Ouchy 45\, 1006 Lausanne
CATEGORIES:Saison 2024/25
END:VEVENT
BEGIN:VEVENT
DTSTAMP:20260424T062026Z
DTSTART;TZID=Europe/Berlin:20241031T193000
DTEND;TZID=Europe/Berlin:20241031T223000
SUMMARY:ME L4 Gr 4\, Tours 1&2 Montriond-Ouchy  IV vs Nyon (0)
UID:0719158f-0e20-45a0-81de-2744e38f4fcb
STATUS:CONFIRMED
LAST-MODIFIED:20241102T091530Z
DESCRIPTION:4ème ligue Hommes Groupe 4\, Tours 1&2\nBegegnungs-Nr: 0\nHeim: Montriond-Ouchy  IV\nGast: Nyon\n\nAdresse: Avenue d'Ouchy 45\, 1006 Lausanne\n
LOCATION:Avenue d'Ouchy 45\, 1006 Lausanne
CATEGORIES:Saison 2024/25
END:VEVENT
BEGIN:VEVENT
DTSTAMP:20260424T062026Z
DTSTART;TZID=Europe/Berlin:20241003T193000
DTEND;TZID=Europe/Berlin:20241003T223000
SUMMARY:ME L4 Gr 4\, Tours 1&2 Montriond-Ouchy  IV vs Lausanne VIII (0)
UID:03f00d4e-e386-477a-961f-92a6cb71f9ac
STATUS:CONFIRMED
LAST-MODIFIED:20241007T064552Z
DESCRIPTION:4ème ligue Hommes Groupe 4\, Tours 1&2\nBegegnungs-Nr: 0\nHeim: Montriond-Ouchy  IV\nGast: Lausanne VIII\n\nAdresse: Avenue d'Ouchy 45\, 1006 Lausanne\n
LOCATION:Avenue d'Ouchy 45\, 1006 Lausanne
CATEGORIES:Saison 2024/25
END:VEVENT
BEGIN:VEVENT
DTSTAMP:20260424T062026Z
DTSTART;TZID=Europe/Berlin:20240912T193000
DTEND;TZID=Europe/Berlin:20240912T223000
SUMMARY:ME L4 Gr 4\, Tours 1&2 Montriond-Ouchy  IV vs Lausanne VII (0)
UID:37c14a62-c7be-4d5c-a0d0-e7c489af6c94
STATUS:CONFIRMED
LAST-MODIFIED:20240913T172531Z
DESCRIPTION:4ème ligue Hommes Groupe 4\, Tours 1&2\nBegegnungs-Nr: 0\nHeim: Montriond-Ouchy  IV\nGast: Lausanne VII\n\nAdresse: Avenue d'Ouchy 45\, 1006 Lausanne\n
LOCATION:Avenue d'Ouchy 45\, 1006 Lausanne
CATEGORIES:Saison 2024/25
END:VEVENT
BEGIN:VEVENT
DTSTAMP:20260424T062026Z
DTSTART;TZID=Europe/Berlin:20250508T193000
DTEND;TZID=Europe/Berlin:20250508T223000
SUMMARY:ME L5 Gr 3\, Tours 3&4 Montriond-Ouchy  IV vs Lausanne IX (0)
UID:876c3e4b-04c6-4991-98da-869b365cf6b5
STATUS:CONFIRMED
LAST-MODIFIED:20250509T150406Z
DESCRIPTION:5ème ligue Hommes Groupe 3\, Tours 3&4\nBegegnungs-Nr: 0\nHeim: Montriond-Ouchy  IV\nGast: Lausanne IX\n\nAdresse: Avenue d'Ouchy 45\, 1006 Lausanne\n
LOCATION:Avenue d'Ouchy 45\, 1006 Lausanne
CATEGORIES:Saison 2024/25
END:VEVENT
BEGIN:VEVENT
DTSTAMP:20260424T062026Z
DTSTART;TZID=Europe/Berlin:20250313T193000
DTEND;TZID=Europe/Berlin:20250313T223000
SUMMARY:ME L5 Gr 3\, Tours 3&4 Montriond-Ouchy  IV vs Gland IV (0)
UID:ff93e94f-c8b5-4c86-9db2-d758a2bb9b8b
STATUS:CONFIRMED
LAST-MODIFIED:20250314T181726Z
DESCRIPTION:5ème ligue Hommes Groupe 3\, Tours 3&4\nBegegnungs-Nr: 0\nHeim: Montriond-Ouchy  IV\nGast: Gland IV\n\nAdresse: Avenue d'Ouchy 45\, 1006 Lausanne\n
LOCATION:Avenue d'Ouchy 45\, 1006 Lausanne
CATEGORIES:Saison 2024/25
END:VEVENT
BEGIN:VEVENT
DTSTAMP:20260424T062026Z
DTSTART;TZID=Europe/Berlin:20250305T193000
DTEND;TZID=Europe/Berlin:20250305T223000
SUMMARY:ME L5 Gr 3\, Tours 3&4 Montriond-Ouchy  IV vs Romanel V (0)
UID:02bb335f-0e96-45c9-9b44-dcc889b70d76
STATUS:CONFIRMED
LAST-MODIFIED:20250306T230530Z
DESCRIPTION:5ème ligue Hommes Groupe 3\, Tours 3&4\nBegegnungs-Nr: 0\nHeim: Montriond-Ouchy  IV\nGast: Romanel V\n\nAdresse: Avenue d'Ouchy 45\, 1006 Lausanne\n
LOCATION:Avenue d'Ouchy 45\, 1006 Lausanne
CATEGORIES:Saison 2024/25
END:VEVENT
BEGIN:VEVENT
DTSTAMP:20260424T062026Z
DTSTART;TZID=Europe/Berlin:20250213T193000
DTEND;TZID=Europe/Berlin:20250213T223000
SUMMARY:ME L5 Gr 3\, Tours 3&4 Montriond-Ouchy  IV vs Trams-Renens III (0)
UID:83346faa-d5f6-4f38-b715-fe69a93c32b2
STATUS:CONFIRMED
LAST-MODIFIED:20250214T134624Z
DESCRIPTION:5ème ligue Hommes Groupe 3\, Tours 3&4\nBegegnungs-Nr: 0\nHeim: Montriond-Ouchy  IV\nGast: Trams-Renens III\n\nAdresse: Avenue d'Ouchy 45\, 1006 Lausanne\n
LOCATION:Avenue d'Ouchy 45\, 1006 Lausanne
CATEGORIES:Saison 2024/25
END:VEVENT
BEGIN:VEVENT
DTSTAMP:20260424T062026Z
DTSTART;TZID=Europe/Berlin:20250130T193000
DTEND;TZID=Europe/Berlin:20250130T223000
SUMMARY:ME L5 Gr 3\, Tours 3&4 Montriond-Ouchy  IV vs Mézières III (0)
UID:41aab62f-34b6-4dc8-b9b6-be65d8237d1d
STATUS:CONFIRMED
LAST-MODIFIED:20250201T002550Z
DESCRIPTION:5ème ligue Hommes Groupe 3\, Tours 3&4\nBegegnungs-Nr: 0\nHeim: Montriond-Ouchy  IV\nGast: Mézières III\n\nAdresse: Avenue d'Ouchy 45\, 1006 Lausanne\n
LOCATION:Avenue d'Ouchy 45\, 1006 Lausanne
CATEGORIES:Saison 2024/25
END:VEVENT
BEGIN:VEVENT
DTSTAMP:20260424T062026Z
DTSTART;TZID=Europe/Berlin:20241127T200000
DTEND;TZID=Europe/Berlin:20241127T230000
SUMMARY:ME L4 Gr 4\, Tours 1&2 Lausanne VIII vs Montriond-Ouchy  IV (0)
UID:1a2aff11-add4-4063-8814-3004d8c7ed91
STATUS:CONFIRMED
LAST-MODIFIED:20241128T003147Z
DESCRIPTION:4ème ligue Hommes Groupe 4\, Tours 1&2\nBegegnungs-Nr: 0\nHeim: Lausanne VIII\nGast: Montriond-Ouchy  IV\n\nAdresse: Vaudoise Aréna\, Ch. du Viaduc 14\, 1008 Prilly\n
LOCATION:Vaudoise Aréna\, Ch. du Viaduc 14\, 1008 Prilly
CATEGORIES:Saison 2024/25
END:VEVENT
BEGIN:VEVENT
DTSTAMP:20260424T062026Z
DTSTART;TZID=Europe/Berlin:20241104T200000
DTEND;TZID=Europe/Berlin:20241104T230000
SUMMARY:ME L4 Gr 4\, Tours 1&2 Lausanne VII vs Montriond-Ouchy  IV (0)
UID:1019b63f-62b2-4f3e-aacf-32f880468eac
STATUS:CONFIRMED
LAST-MODIFIED:20241105T173523Z
DESCRIPTION:4ème ligue Hommes Groupe 4\, Tours 1&2\nBegegnungs-Nr: 0\nHeim: Lausanne VII\nGast: Montriond-Ouchy  IV\n\nAdresse: Vaudoise Aréna\, Ch. du Viaduc 14\, 1008 Prilly\n
LOCATION:Vaudoise Aréna\, Ch. du Viaduc 14\, 1008 Prilly
CATEGORIES:Saison 2024/25
END:VEVENT
BEGIN:VEVENT
DTSTAMP:20260424T062026Z
DTSTART;TZID=Europe/Berlin:20241009T200000
DTEND;TZID=Europe/Berlin:20241009T230000
SUMMARY:ME L4 Gr 4\, Tours 1&2 Eysins II vs Montriond-Ouchy  IV (0)
UID:7d013bad-5b98-4c4e-a28e-063d77f14676
STATUS:CONFIRMED
LAST-MODIFIED:20241009T221432Z
DESCRIPTION:4ème ligue Hommes Groupe 4\, Tours 1&2\nBegegnungs-Nr: 0\nHeim: Eysins II\nGast: Montriond-Ouchy  IV\n\nAdresse: En Bellossiez 1\, 1262 Eysins\n
LOCATION:En Bellossiez 1\, 1262 Eysins
CATEGORIES:Saison 2024/25
END:VEVENT
BEGIN:VEVENT
DTSTAMP:20260424T062026Z
DTSTART;TZID=Europe/Berlin:20240917T193000
DTEND;TZID=Europe/Berlin:20240917T223000
SUMMARY:ME L4 Gr 4\, Tours 1&2 Trams-Renens II vs Montriond-Ouchy  IV (0)
UID:0a8fc87b-66dc-4b3d-89f0-0b0b0d65f380
STATUS:CONFIRMED
LAST-MODIFIED:20240918T204739Z
DESCRIPTION:4ème ligue Hommes Groupe 4\, Tours 1&2\nBegegnungs-Nr: 0\nHeim: Trams-Renens II\nGast: Montriond-Ouchy  IV\n\nAdresse: Av Saugiaz\, 1020 Renens\n
LOCATION:Av Saugiaz\, 1020 Renens
CATEGORIES:Saison 2024/25
END:VEVENT
BEGIN:VEVENT
DTSTAMP:20260424T062026Z
DTSTART;TZID=Europe/Berlin:20240924T193000
DTEND;TZID=Europe/Berlin:20240924T223000
SUMMARY:ME L4 Gr 4\, Tours 1&2 Nyon vs Montriond-Ouchy  IV (0)
UID:b12009d8-8f6e-4501-bf01-0c1e438c85cf
STATUS:CONFIRMED
LAST-MODIFIED:20240924T212123Z
DESCRIPTION:4ème ligue Hommes Groupe 4\, Tours 1&2\nBegegnungs-Nr: 0\nHeim: Nyon\nGast: Montriond-Ouchy  IV\n\nAdresse: Rte des Tattes-d'Oie 97\, 1260 Nyon\n
LOCATION:Rte des Tattes-d'Oie 97\, 1260 Nyon
CATEGORIES:Saison 2024/25
END:VEVENT
BEGIN:VEVENT
DTSTAMP:20260424T062026Z
DTSTART;TZID=Europe/Berlin:20250430T200000
DTEND;TZID=Europe/Berlin:20250430T230000
SUMMARY:ME L5 Gr 3\, Tours 3&4 Romanel V vs Montriond-Ouchy  IV (0)
UID:75a979f4-98e3-4afc-8b29-f254b06ff369
STATUS:CONFIRMED
LAST-MODIFIED:20250501T114949Z
DESCRIPTION:5ème ligue Hommes Groupe 3\, Tours 3&4\nBegegnungs-Nr: 0\nHeim: Romanel V\nGast: Montriond-Ouchy  IV\n\nAdresse: Ch des Epinettes 1\, 1032 Romanel-sur-Lausanne\n
LOCATION:Ch des Epinettes 1\, 1032 Romanel-sur-Lausanne
CATEGORIES:Saison 2024/25
END:VEVENT
BEGIN:VEVENT
DTSTAMP:20260424T062026Z
DTSTART;TZID=Europe/Berlin:20250411T193000
DTEND;TZID=Europe/Berlin:20250411T223000
SUMMARY:ME L5 Gr 3\, Tours 3&4 Trams-Renens III vs Montriond-Ouchy  IV (0)
UID:0e4a470f-a2c0-4fee-ae48-358008f722fd
STATUS:CONFIRMED
LAST-MODIFIED:20250412T101828Z
DESCRIPTION:5ème ligue Hommes Groupe 3\, Tours 3&4\nBegegnungs-Nr: 0\nHeim: Trams-Renens III\nGast: Montriond-Ouchy  IV\n\nAdresse: Av Saugiaz\, 1020 Renens\n
LOCATION:Av Saugiaz\, 1020 Renens
CATEGORIES:Saison 2024/25
END:VEVENT
BEGIN:VEVENT
DTSTAMP:20260424T062026Z
DTSTART;TZID=Europe/Berlin:20250327T200000
DTEND;TZID=Europe/Berlin:20250327T230000
SUMMARY:ME L5 Gr 3\, Tours 3&4 Mézières III vs Montriond-Ouchy  IV (0)
UID:3a6109e0-4975-4143-95d1-ae9129684aec
STATUS:CONFIRMED
LAST-MODIFIED:20250401T215735Z
DESCRIPTION:5ème ligue Hommes Groupe 3\, Tours 3&4\nBegegnungs-Nr: 0\nHeim: Mézières III\nGast: Montriond-Ouchy  IV\n\nAdresse: -\, 1083 Mézières\n
LOCATION:-\, 1083 Mézières
CATEGORIES:Saison 2024/25
END:VEVENT
BEGIN:VEVENT
DTSTAMP:20260424T062026Z
DTSTART;TZID=Europe/Berlin:20250227T193000
DTEND;TZID=Europe/Berlin:20250227T223000
SUMMARY:ME L5 Gr 3\, Tours 3&4 Lausanne IX vs Montriond-Ouchy  IV (0)
UID:1ab88ab0-88ba-40a6-9547-17d88c46126f
STATUS:CONFIRMED
LAST-MODIFIED:20250228T165009Z
DESCRIPTION:5ème ligue Hommes Groupe 3\, Tours 3&4\nBegegnungs-Nr: 0\nHeim: Lausanne IX\nGast: Montriond-Ouchy  IV\n\nAdresse: Vaudoise Aréna\, Ch. du Viaduc 14\, 1008 Prilly\n
LOCATION:Vaudoise Aréna\, Ch. du Viaduc 14\, 1008 Prilly
CATEGORIES:Saison 2024/25
END:VEVENT
BEGIN:VEVENT
DTSTAMP:20260424T062026Z
DTSTART;TZID=Europe/Berlin:20250124T193000
DTEND;TZID=Europe/Berlin:20250124T223000
SUMMARY:ME L5 Gr 3\, Tours 3&4 Gland IV vs Montriond-Ouchy  IV (0)
UID:3e2286af-b7fd-4c0e-9251-4bae3678a056
STATUS:CONFIRMED
LAST-MODIFIED:20250125T161826Z
DESCRIPTION:5ème ligue Hommes Groupe 3\, Tours 3&4\nBegegnungs-Nr: 0\nHeim: Gland IV\nGast: Montriond-Ouchy  IV\n\nAdresse: Chemin de la Perroude 1\, 1196 Gland\n
LOCATION:Chemin de la Perroude 1\, 1196 Gland
CATEGORIES:Saison 2024/25
END:VEVENT
END:VCALENDAR
