BEGIN:VCALENDAR
PRODID:-//nuDatenautomaten//framework iCal4j //DE
VERSION:2.0
CALSCALE:GREGORIAN
BEGIN:VTIMEZONE
TZID:Europe/Berlin
LAST-MODIFIED:20260306T231828Z
TZURL:https://www.tzurl.org/zoneinfo/Europe/Berlin
X-LIC-LOCATION:Europe/Berlin
X-PROLEPTIC-TZNAME:LMT
BEGIN:STANDARD
TZNAME:CET
TZOFFSETFROM:+005328
TZOFFSETTO:+0100
DTSTART:18930401T000000
END:STANDARD
BEGIN:DAYLIGHT
TZNAME:CEST
TZOFFSETFROM:+0100
TZOFFSETTO:+0200
DTSTART:19160430T230000
RDATE:19400401T020000
RDATE:19430329T020000
RDATE:19460414T020000
RDATE:19470406T030000
RDATE:19480418T020000
RDATE:19490410T020000
RDATE:19800406T020000
END:DAYLIGHT
BEGIN:STANDARD
TZNAME:CET
TZOFFSETFROM:+0200
TZOFFSETTO:+0100
DTSTART:19161001T010000
RDATE:19421102T030000
RDATE:19431004T030000
RDATE:19441002T030000
RDATE:19451118T030000
RDATE:19461007T030000
END:STANDARD
BEGIN:DAYLIGHT
TZNAME:CEST
TZOFFSETFROM:+0100
TZOFFSETTO:+0200
DTSTART:19170416T020000
RRULE:FREQ=YEARLY;UNTIL=19180415T010000Z;BYMONTH=4;BYDAY=3MO
END:DAYLIGHT
BEGIN:STANDARD
TZNAME:CET
TZOFFSETFROM:+0200
TZOFFSETTO:+0100
DTSTART:19170917T030000
RRULE:FREQ=YEARLY;UNTIL=19180916T010000Z;BYMONTH=9;BYDAY=3MO
END:STANDARD
BEGIN:DAYLIGHT
TZNAME:CEST
TZOFFSETFROM:+0100
TZOFFSETTO:+0200
DTSTART:19440403T020000
RRULE:FREQ=YEARLY;UNTIL=19450402T010000Z;BYMONTH=4;BYDAY=1MO
END:DAYLIGHT
BEGIN:DAYLIGHT
TZNAME:CEMT
TZOFFSETFROM:+0200
TZOFFSETTO:+0300
DTSTART:19450524T020000
RDATE:19470511T030000
END:DAYLIGHT
BEGIN:DAYLIGHT
TZNAME:CEST
TZOFFSETFROM:+0300
TZOFFSETTO:+0200
DTSTART:19450924T030000
RDATE:19470629T030000
END:DAYLIGHT
BEGIN:STANDARD
TZNAME:CET
TZOFFSETFROM:+0100
TZOFFSETTO:+0100
DTSTART:19460101T000000
RDATE:19800101T000000
END:STANDARD
BEGIN:STANDARD
TZNAME:CET
TZOFFSETFROM:+0200
TZOFFSETTO:+0100
DTSTART:19471005T030000
RRULE:FREQ=YEARLY;UNTIL=19491002T010000Z;BYMONTH=10;BYDAY=1SU
END:STANDARD
BEGIN:STANDARD
TZNAME:CET
TZOFFSETFROM:+0200
TZOFFSETTO:+0100
DTSTART:19800928T030000
RRULE:FREQ=YEARLY;UNTIL=19950924T010000Z;BYMONTH=9;BYDAY=-1SU
END:STANDARD
BEGIN:DAYLIGHT
TZNAME:CEST
TZOFFSETFROM:+0100
TZOFFSETTO:+0200
DTSTART:19810329T020000
RRULE:FREQ=YEARLY;BYMONTH=3;BYDAY=-1SU
END:DAYLIGHT
BEGIN:STANDARD
TZNAME:CET
TZOFFSETFROM:+0200
TZOFFSETTO:+0100
DTSTART:19961027T030000
RRULE:FREQ=YEARLY;BYMONTH=10;BYDAY=-1SU
END:STANDARD
END:VTIMEZONE
BEGIN:VEVENT
DTSTAMP:20260423T203705Z
DTSTART;TZID=Europe/Berlin:20250315T143000
DTEND;TZID=Europe/Berlin:20250315T173000
SUMMARY:U15 R3 D2 Rapid Luzern II vs Kriens (4)
UID:c22c385c-70da-4f63-a6a2-89a0cb345eb6
STATUS:CONFIRMED
LAST-MODIFIED:20250316T200455Z
DESCRIPTION:U15\, 3. Runde\, 2. Division\nBegegnungs-Nr: 4\nHeim: Rapid Luzern II\nGast: Kriens\n\nAdresse: Kreuzbuchstr. 60\, 6006 Luzern\n
LOCATION:Kreuzbuchstr. 60\, 6006 Luzern
CATEGORIES:Saison 2024/25
END:VEVENT
BEGIN:VEVENT
DTSTAMP:20260423T203705Z
DTSTART;TZID=Europe/Berlin:20240831T130000
DTEND;TZID=Europe/Berlin:20240831T160000
SUMMARY:U15 R1 GA Rapid Luzern II vs Sarnen (2)
UID:75cf3f2a-cf8a-4039-ae11-045f458f25db
STATUS:CONFIRMED
LAST-MODIFIED:20240901T174333Z
DESCRIPTION:U15\, 1. Runde\, Gruppe A\nBegegnungs-Nr: 2\nHeim: Rapid Luzern II\nGast: Sarnen\n\nAdresse: Kreuzbuchstr. 60\, 6006 Luzern\n
LOCATION:Kreuzbuchstr. 60\, 6006 Luzern
CATEGORIES:Saison 2024/25
END:VEVENT
BEGIN:VEVENT
DTSTAMP:20260423T203705Z
DTSTART;TZID=Europe/Berlin:20241214T143000
DTEND;TZID=Europe/Berlin:20241214T173000
SUMMARY:U15 R2 GB Rapid Luzern II vs Baar (3)
UID:8bf3b454-a076-4a00-9c95-e834dbce8e93
STATUS:CONFIRMED
LAST-MODIFIED:20250109T080918Z
DESCRIPTION:U15\, 2. Runde\, Gruppe B\nBegegnungs-Nr: 3\nHeim: Rapid Luzern II\nGast: Baar\n\nAdresse: Kreuzbuchstr. 60\, 6006 Luzern\n
LOCATION:Kreuzbuchstr. 60\, 6006 Luzern
CATEGORIES:Saison 2024/25
END:VEVENT
BEGIN:VEVENT
DTSTAMP:20260423T203705Z
DTSTART;TZID=Europe/Berlin:20250315T160000
DTEND;TZID=Europe/Berlin:20250315T190000
SUMMARY:U15 R3 D2 Kriens II vs Rapid Luzern II (6)
UID:e40f5da1-f400-4fbe-bdb9-8cffb5b3340e
STATUS:CONFIRMED
LAST-MODIFIED:20250316T200724Z
DESCRIPTION:U15\, 3. Runde\, 2. Division\nBegegnungs-Nr: 6\nHeim: Kriens II\nGast: Rapid Luzern II\n
LOCATION:
CATEGORIES:Saison 2024/25
END:VEVENT
BEGIN:VEVENT
DTSTAMP:20260423T203705Z
DTSTART;TZID=Europe/Berlin:20240831T143000
DTEND;TZID=Europe/Berlin:20240831T173000
SUMMARY:U15 R1 GA Schenkon vs Rapid Luzern II (4)
UID:4ac24238-3ec0-465d-b788-5709a423ca72
STATUS:CONFIRMED
LAST-MODIFIED:20240901T174108Z
DESCRIPTION:U15\, 1. Runde\, Gruppe A\nBegegnungs-Nr: 4\nHeim: Schenkon\nGast: Rapid Luzern II\n
LOCATION:
CATEGORIES:Saison 2024/25
END:VEVENT
BEGIN:VEVENT
DTSTAMP:20260423T203705Z
DTSTART;TZID=Europe/Berlin:20241214T130000
DTEND;TZID=Europe/Berlin:20241214T160000
SUMMARY:U15 R2 GB Schenkon vs Rapid Luzern II (1)
UID:fdb6e539-f131-42ba-b0f9-5d73b81a3133
STATUS:CONFIRMED
LAST-MODIFIED:20250109T080619Z
DESCRIPTION:U15\, 2. Runde\, Gruppe B\nBegegnungs-Nr: 1\nHeim: Schenkon\nGast: Rapid Luzern II\n
LOCATION:
CATEGORIES:Saison 2024/25
END:VEVENT
BEGIN:VEVENT
DTSTAMP:20260423T203705Z
DTSTART;TZID=Europe/Berlin:20241214T160000
DTEND;TZID=Europe/Berlin:20241214T190000
SUMMARY:U15 R2 GB Rothenburg vs Rapid Luzern II (5)
UID:7ada1379-4bca-4792-8650-1bb860a128a6
STATUS:CONFIRMED
LAST-MODIFIED:20250109T065258Z
DESCRIPTION:U15\, 2. Runde\, Gruppe B\nBegegnungs-Nr: 5\nHeim: Rothenburg\nGast: Rapid Luzern II\n
LOCATION:
CATEGORIES:Saison 2024/25
END:VEVENT
END:VCALENDAR
