BEGIN:VCALENDAR
PRODID:-//nuDatenautomaten//framework iCal4j //DE
VERSION:2.0
CALSCALE:GREGORIAN
BEGIN:VTIMEZONE
TZID:Europe/Berlin
LAST-MODIFIED:20260306T231828Z
TZURL:https://www.tzurl.org/zoneinfo/Europe/Berlin
X-LIC-LOCATION:Europe/Berlin
X-PROLEPTIC-TZNAME:LMT
BEGIN:STANDARD
TZNAME:CET
TZOFFSETFROM:+005328
TZOFFSETTO:+0100
DTSTART:18930401T000000
END:STANDARD
BEGIN:DAYLIGHT
TZNAME:CEST
TZOFFSETFROM:+0100
TZOFFSETTO:+0200
DTSTART:19160430T230000
RDATE:19400401T020000
RDATE:19430329T020000
RDATE:19460414T020000
RDATE:19470406T030000
RDATE:19480418T020000
RDATE:19490410T020000
RDATE:19800406T020000
END:DAYLIGHT
BEGIN:STANDARD
TZNAME:CET
TZOFFSETFROM:+0200
TZOFFSETTO:+0100
DTSTART:19161001T010000
RDATE:19421102T030000
RDATE:19431004T030000
RDATE:19441002T030000
RDATE:19451118T030000
RDATE:19461007T030000
END:STANDARD
BEGIN:DAYLIGHT
TZNAME:CEST
TZOFFSETFROM:+0100
TZOFFSETTO:+0200
DTSTART:19170416T020000
RRULE:FREQ=YEARLY;UNTIL=19180415T010000Z;BYMONTH=4;BYDAY=3MO
END:DAYLIGHT
BEGIN:STANDARD
TZNAME:CET
TZOFFSETFROM:+0200
TZOFFSETTO:+0100
DTSTART:19170917T030000
RRULE:FREQ=YEARLY;UNTIL=19180916T010000Z;BYMONTH=9;BYDAY=3MO
END:STANDARD
BEGIN:DAYLIGHT
TZNAME:CEST
TZOFFSETFROM:+0100
TZOFFSETTO:+0200
DTSTART:19440403T020000
RRULE:FREQ=YEARLY;UNTIL=19450402T010000Z;BYMONTH=4;BYDAY=1MO
END:DAYLIGHT
BEGIN:DAYLIGHT
TZNAME:CEMT
TZOFFSETFROM:+0200
TZOFFSETTO:+0300
DTSTART:19450524T020000
RDATE:19470511T030000
END:DAYLIGHT
BEGIN:DAYLIGHT
TZNAME:CEST
TZOFFSETFROM:+0300
TZOFFSETTO:+0200
DTSTART:19450924T030000
RDATE:19470629T030000
END:DAYLIGHT
BEGIN:STANDARD
TZNAME:CET
TZOFFSETFROM:+0100
TZOFFSETTO:+0100
DTSTART:19460101T000000
RDATE:19800101T000000
END:STANDARD
BEGIN:STANDARD
TZNAME:CET
TZOFFSETFROM:+0200
TZOFFSETTO:+0100
DTSTART:19471005T030000
RRULE:FREQ=YEARLY;UNTIL=19491002T010000Z;BYMONTH=10;BYDAY=1SU
END:STANDARD
BEGIN:STANDARD
TZNAME:CET
TZOFFSETFROM:+0200
TZOFFSETTO:+0100
DTSTART:19800928T030000
RRULE:FREQ=YEARLY;UNTIL=19950924T010000Z;BYMONTH=9;BYDAY=-1SU
END:STANDARD
BEGIN:DAYLIGHT
TZNAME:CEST
TZOFFSETFROM:+0100
TZOFFSETTO:+0200
DTSTART:19810329T020000
RRULE:FREQ=YEARLY;BYMONTH=3;BYDAY=-1SU
END:DAYLIGHT
BEGIN:STANDARD
TZNAME:CET
TZOFFSETFROM:+0200
TZOFFSETTO:+0100
DTSTART:19961027T030000
RRULE:FREQ=YEARLY;BYMONTH=10;BYDAY=-1SU
END:STANDARD
END:VTIMEZONE
BEGIN:VEVENT
DTSTAMP:20260424T022714Z
DTSTART;TZID=Europe/Berlin:20241204T194500
DTEND;TZID=Europe/Berlin:20241204T224500
SUMMARY:Ligue 3 Gr.2 Ph.A Onex II vs Veyrier (30)
UID:8a94500b-c5bf-478d-8a6c-286ed5a24814
STATUS:CONFIRMED
LAST-MODIFIED:20241205T085920Z
DESCRIPTION:3ème ligue Hommes Gr.2 Phase A\nBegegnungs-Nr: 30\nHeim: Onex II\nGast: Veyrier\n
LOCATION:
CATEGORIES:Saison 2024/25
END:VEVENT
BEGIN:VEVENT
DTSTAMP:20260424T022714Z
DTSTART;TZID=Europe/Berlin:20241127T194500
DTEND;TZID=Europe/Berlin:20241127T224500
SUMMARY:Ligue 3 Gr.2 Ph.A Onex II vs Meyrin IV (27)
UID:e268031d-9bd2-4674-8802-694048ce3c47
STATUS:CONFIRMED
LAST-MODIFIED:20241128T085756Z
DESCRIPTION:3ème ligue Hommes Gr.2 Phase A\nBegegnungs-Nr: 27\nHeim: Onex II\nGast: Meyrin IV\n
LOCATION:
CATEGORIES:Saison 2024/25
END:VEVENT
BEGIN:VEVENT
DTSTAMP:20260424T022714Z
DTSTART;TZID=Europe/Berlin:20241030T194500
DTEND;TZID=Europe/Berlin:20241030T224500
SUMMARY:Ligue 3 Gr.2 Ph.A Onex II vs Bernex III (18)
UID:a0175c4e-7fe6-4f93-878b-f18078e7c75a
STATUS:CONFIRMED
LAST-MODIFIED:20241031T090509Z
DESCRIPTION:3ème ligue Hommes Gr.2 Phase A\nBegegnungs-Nr: 18\nHeim: Onex II\nGast: Bernex III\n
LOCATION:
CATEGORIES:Saison 2024/25
END:VEVENT
BEGIN:VEVENT
DTSTAMP:20260424T022714Z
DTSTART;TZID=Europe/Berlin:20240925T194500
DTEND;TZID=Europe/Berlin:20240925T224500
SUMMARY:Ligue 3 Gr.2 Ph.A Onex II vs UGS-Chênois VII (9)
UID:785a6f7a-f086-4504-ad7f-32db6946d1fe
STATUS:CONFIRMED
LAST-MODIFIED:20240926T050506Z
DESCRIPTION:3ème ligue Hommes Gr.2 Phase A\nBegegnungs-Nr: 9\nHeim: Onex II\nGast: UGS-Chênois VII\n
LOCATION:
CATEGORIES:Saison 2024/25
END:VEVENT
BEGIN:VEVENT
DTSTAMP:20260424T022714Z
DTSTART;TZID=Europe/Berlin:20240918T194500
DTEND;TZID=Europe/Berlin:20240918T224500
SUMMARY:Ligue 3 Gr.2 Ph.A Onex II vs Carouge IV (6)
UID:ea53f910-693a-4ceb-9814-c4874aacebe2
STATUS:CONFIRMED
LAST-MODIFIED:20240919T091421Z
DESCRIPTION:3ème ligue Hommes Gr.2 Phase A\nBegegnungs-Nr: 6\nHeim: Onex II\nGast: Carouge IV\n
LOCATION:
CATEGORIES:Saison 2024/25
END:VEVENT
BEGIN:VEVENT
DTSTAMP:20260424T022714Z
DTSTART;TZID=Europe/Berlin:20250416T194500
DTEND;TZID=Europe/Berlin:20250416T224500
SUMMARY:Ligue 3 Gr.3 Ph.B Onex II vs Rapid-Genève (28)
UID:9f2df56b-c004-4ceb-8bcc-6a3d1d35f9c6
STATUS:CONFIRMED
LAST-MODIFIED:20250417T093758Z
DESCRIPTION:3ème ligue Hommes Gr.3 Phase B\nBegegnungs-Nr: 28\nHeim: Onex II\nGast: Rapid-Genève\n
LOCATION:
CATEGORIES:Saison 2024/25
END:VEVENT
BEGIN:VEVENT
DTSTAMP:20260424T022714Z
DTSTART;TZID=Europe/Berlin:20250319T194500
DTEND;TZID=Europe/Berlin:20250319T224500
SUMMARY:Ligue 3 Gr.3 Ph.B Onex II vs Châtelaine V (20)
UID:bcbb9d31-3696-47ad-afab-0624e08f9a65
STATUS:CONFIRMED
LAST-MODIFIED:20250320T073139Z
DESCRIPTION:3ème ligue Hommes Gr.3 Phase B\nBegegnungs-Nr: 20\nHeim: Onex II\nGast: Châtelaine V\n
LOCATION:
CATEGORIES:Saison 2024/25
END:VEVENT
BEGIN:VEVENT
DTSTAMP:20260424T022714Z
DTSTART;TZID=Europe/Berlin:20250115T194500
DTEND;TZID=Europe/Berlin:20250115T224500
SUMMARY:Ligue 3 Gr.3 Ph.B Onex II vs Carouge V (2)
UID:39db703d-d697-4fd5-bf4b-8c60da99d38c
STATUS:CONFIRMED
LAST-MODIFIED:20250116T090451Z
DESCRIPTION:3ème ligue Hommes Gr.3 Phase B\nBegegnungs-Nr: 2\nHeim: Onex II\nGast: Carouge V\n
LOCATION:
CATEGORIES:Saison 2024/25
END:VEVENT
BEGIN:VEVENT
DTSTAMP:20260424T022714Z
DTSTART;TZID=Europe/Berlin:20250212T194500
DTEND;TZID=Europe/Berlin:20250212T224500
SUMMARY:Ligue 3 Gr.3 Ph.B Onex II vs UGS-Chênois VII (12)
UID:a23d2a27-2638-47f1-aa31-e26666ae5407
STATUS:CONFIRMED
LAST-MODIFIED:20250213T074509Z
DESCRIPTION:3ème ligue Hommes Gr.3 Phase B\nBegegnungs-Nr: 12\nHeim: Onex II\nGast: UGS-Chênois VII\n
LOCATION:
CATEGORIES:Saison 2024/25
END:VEVENT
BEGIN:VEVENT
DTSTAMP:20260424T022714Z
DTSTART;TZID=Europe/Berlin:20250129T194500
DTEND;TZID=Europe/Berlin:20250129T224500
SUMMARY:Ligue 3 Gr.3 Ph.B Onex II vs ZZ-Lancy VII (8)
UID:6d139d1c-2637-4ed7-b84f-565ad06b0fd9
STATUS:CONFIRMED
LAST-MODIFIED:20250131T080257Z
DESCRIPTION:3ème ligue Hommes Gr.3 Phase B\nBegegnungs-Nr: 8\nHeim: Onex II\nGast: ZZ-Lancy VII\n
LOCATION:
CATEGORIES:Saison 2024/25
END:VEVENT
BEGIN:VEVENT
DTSTAMP:20260424T022714Z
DTSTART;TZID=Europe/Berlin:20241120T194500
DTEND;TZID=Europe/Berlin:20241120T224500
SUMMARY:Ligue 3 Gr.2 Ph.A UGS-Chênois VII vs Onex II (24)
UID:516a1c84-561b-41d8-b33f-42eb93fd8f49
STATUS:CONFIRMED
LAST-MODIFIED:20241121T111723Z
DESCRIPTION:3ème ligue Hommes Gr.2 Phase A\nBegegnungs-Nr: 24\nHeim: UGS-Chênois VII\nGast: Onex II\n
LOCATION:
CATEGORIES:Saison 2024/25
END:VEVENT
BEGIN:VEVENT
DTSTAMP:20260424T022714Z
DTSTART;TZID=Europe/Berlin:20241113T194500
DTEND;TZID=Europe/Berlin:20241113T224500
SUMMARY:Ligue 3 Gr.2 Ph.A Carouge IV vs Onex II (21)
UID:85a5ad59-ec61-4ac7-9b26-95028a289bc8
STATUS:CONFIRMED
LAST-MODIFIED:20241114T074013Z
DESCRIPTION:3ème ligue Hommes Gr.2 Phase A\nBegegnungs-Nr: 21\nHeim: Carouge IV\nGast: Onex II\n
LOCATION:
CATEGORIES:Saison 2024/25
END:VEVENT
BEGIN:VEVENT
DTSTAMP:20260424T022714Z
DTSTART;TZID=Europe/Berlin:20241016T194500
DTEND;TZID=Europe/Berlin:20241016T224500
SUMMARY:Ligue 3 Gr.2 Ph.A Veyrier vs Onex II (15)
UID:544709b3-e8f8-4f0a-877d-129d32190a37
STATUS:CONFIRMED
LAST-MODIFIED:20241017T103528Z
DESCRIPTION:3ème ligue Hommes Gr.2 Phase A\nBegegnungs-Nr: 15\nHeim: Veyrier\nGast: Onex II\n
LOCATION:
CATEGORIES:Saison 2024/25
END:VEVENT
BEGIN:VEVENT
DTSTAMP:20260424T022714Z
DTSTART;TZID=Europe/Berlin:20241009T194500
DTEND;TZID=Europe/Berlin:20241009T224500
SUMMARY:Ligue 3 Gr.2 Ph.A Meyrin IV vs Onex II (12)
UID:966307e2-d639-4bc9-8bfe-1e995245a389
STATUS:CONFIRMED
LAST-MODIFIED:20241010T172345Z
DESCRIPTION:3ème ligue Hommes Gr.2 Phase A\nBegegnungs-Nr: 12\nHeim: Meyrin IV\nGast: Onex II\n
LOCATION:
CATEGORIES:Saison 2024/25
END:VEVENT
BEGIN:VEVENT
DTSTAMP:20260424T022714Z
DTSTART;TZID=Europe/Berlin:20240911T194500
DTEND;TZID=Europe/Berlin:20240911T224500
SUMMARY:Ligue 3 Gr.2 Ph.A Bernex III vs Onex II (3)
UID:6abd3bbd-32bf-4e8f-afd0-351c7100e291
STATUS:CONFIRMED
LAST-MODIFIED:20240914T144721Z
DESCRIPTION:3ème ligue Hommes Gr.2 Phase A\nBegegnungs-Nr: 3\nHeim: Bernex III\nGast: Onex II\n
LOCATION:
CATEGORIES:Saison 2024/25
END:VEVENT
BEGIN:VEVENT
DTSTAMP:20260424T022714Z
DTSTART;TZID=Europe/Berlin:20250521T194500
DTEND;TZID=Europe/Berlin:20250521T224500
SUMMARY:Ligue 3 barrage 2 maintien ZZ-Lancy VIII vs Onex II (1)
UID:faf4d803-913a-43e7-99b1-c600a7f3f434
STATUS:CONFIRMED
LAST-MODIFIED:20250522T070542Z
DESCRIPTION:3ème ligue Hommes barrage 2 maintien\nBegegnungs-Nr: 1\nHeim: ZZ-Lancy VIII\nGast: Onex II\n
LOCATION:
CATEGORIES:Saison 2024/25
END:VEVENT
BEGIN:VEVENT
DTSTAMP:20260424T022714Z
DTSTART;TZID=Europe/Berlin:20250409T194500
DTEND;TZID=Europe/Berlin:20250409T224500
SUMMARY:Ligue 3 Gr.3 Ph.B UGS-Chênois VII vs Onex II (27)
UID:4d0757d7-0642-4b7d-ac96-e097df1f9d31
STATUS:CONFIRMED
LAST-MODIFIED:20250410T101428Z
DESCRIPTION:3ème ligue Hommes Gr.3 Phase B\nBegegnungs-Nr: 27\nHeim: UGS-Chênois VII\nGast: Onex II\n
LOCATION:
CATEGORIES:Saison 2024/25
END:VEVENT
BEGIN:VEVENT
DTSTAMP:20260424T022714Z
DTSTART;TZID=Europe/Berlin:20250402T201500
DTEND;TZID=Europe/Berlin:20250402T231500
SUMMARY:Ligue 3 Gr.3 Ph.B ZZ-Lancy VII vs Onex II (23)
UID:ca6bdb4b-3a8c-4966-a0f5-b009501635db
STATUS:CONFIRMED
LAST-MODIFIED:20250403T080829Z
DESCRIPTION:3ème ligue Hommes Gr.3 Phase B\nBegegnungs-Nr: 23\nHeim: ZZ-Lancy VII\nGast: Onex II\n
LOCATION:
CATEGORIES:Saison 2024/25
END:VEVENT
BEGIN:VEVENT
DTSTAMP:20260424T022714Z
DTSTART;TZID=Europe/Berlin:20250312T194500
DTEND;TZID=Europe/Berlin:20250312T224500
SUMMARY:Ligue 3 Gr.3 Ph.B Carouge V vs Onex II (17)
UID:fcbe9580-7e4d-4442-b6d5-57169ad96981
STATUS:CONFIRMED
LAST-MODIFIED:20250313T073143Z
DESCRIPTION:3ème ligue Hommes Gr.3 Phase B\nBegegnungs-Nr: 17\nHeim: Carouge V\nGast: Onex II\n
LOCATION:
CATEGORIES:Saison 2024/25
END:VEVENT
BEGIN:VEVENT
DTSTAMP:20260424T022714Z
DTSTART;TZID=Europe/Berlin:20250219T194500
DTEND;TZID=Europe/Berlin:20250219T224500
SUMMARY:Ligue 3 Gr.3 Ph.B Rapid-Genève vs Onex II (13)
UID:564fa02b-059c-46b8-97f5-152f20bf939a
STATUS:CONFIRMED
LAST-MODIFIED:20250220T102538Z
DESCRIPTION:3ème ligue Hommes Gr.3 Phase B\nBegegnungs-Nr: 13\nHeim: Rapid-Genève\nGast: Onex II\n
LOCATION:
CATEGORIES:Saison 2024/25
END:VEVENT
BEGIN:VEVENT
DTSTAMP:20260424T022714Z
DTSTART;TZID=Europe/Berlin:20250122T194500
DTEND;TZID=Europe/Berlin:20250122T224500
SUMMARY:Ligue 3 Gr.3 Ph.B Châtelaine V vs Onex II (5)
UID:f7f8e862-8056-48e5-b544-74216052bed7
STATUS:CONFIRMED
LAST-MODIFIED:20250123T085438Z
DESCRIPTION:3ème ligue Hommes Gr.3 Phase B\nBegegnungs-Nr: 5\nHeim: Châtelaine V\nGast: Onex II\n
LOCATION:
CATEGORIES:Saison 2024/25
END:VEVENT
END:VCALENDAR
