BEGIN:VCALENDAR
PRODID:-//nuDatenautomaten//framework iCal4j //DE
VERSION:2.0
CALSCALE:GREGORIAN
BEGIN:VTIMEZONE
TZID:Europe/Berlin
LAST-MODIFIED:20260306T231828Z
TZURL:https://www.tzurl.org/zoneinfo/Europe/Berlin
X-LIC-LOCATION:Europe/Berlin
X-PROLEPTIC-TZNAME:LMT
BEGIN:STANDARD
TZNAME:CET
TZOFFSETFROM:+005328
TZOFFSETTO:+0100
DTSTART:18930401T000000
END:STANDARD
BEGIN:DAYLIGHT
TZNAME:CEST
TZOFFSETFROM:+0100
TZOFFSETTO:+0200
DTSTART:19160430T230000
RDATE:19400401T020000
RDATE:19430329T020000
RDATE:19460414T020000
RDATE:19470406T030000
RDATE:19480418T020000
RDATE:19490410T020000
RDATE:19800406T020000
END:DAYLIGHT
BEGIN:STANDARD
TZNAME:CET
TZOFFSETFROM:+0200
TZOFFSETTO:+0100
DTSTART:19161001T010000
RDATE:19421102T030000
RDATE:19431004T030000
RDATE:19441002T030000
RDATE:19451118T030000
RDATE:19461007T030000
END:STANDARD
BEGIN:DAYLIGHT
TZNAME:CEST
TZOFFSETFROM:+0100
TZOFFSETTO:+0200
DTSTART:19170416T020000
RRULE:FREQ=YEARLY;UNTIL=19180415T010000Z;BYMONTH=4;BYDAY=3MO
END:DAYLIGHT
BEGIN:STANDARD
TZNAME:CET
TZOFFSETFROM:+0200
TZOFFSETTO:+0100
DTSTART:19170917T030000
RRULE:FREQ=YEARLY;UNTIL=19180916T010000Z;BYMONTH=9;BYDAY=3MO
END:STANDARD
BEGIN:DAYLIGHT
TZNAME:CEST
TZOFFSETFROM:+0100
TZOFFSETTO:+0200
DTSTART:19440403T020000
RRULE:FREQ=YEARLY;UNTIL=19450402T010000Z;BYMONTH=4;BYDAY=1MO
END:DAYLIGHT
BEGIN:DAYLIGHT
TZNAME:CEMT
TZOFFSETFROM:+0200
TZOFFSETTO:+0300
DTSTART:19450524T020000
RDATE:19470511T030000
END:DAYLIGHT
BEGIN:DAYLIGHT
TZNAME:CEST
TZOFFSETFROM:+0300
TZOFFSETTO:+0200
DTSTART:19450924T030000
RDATE:19470629T030000
END:DAYLIGHT
BEGIN:STANDARD
TZNAME:CET
TZOFFSETFROM:+0100
TZOFFSETTO:+0100
DTSTART:19460101T000000
RDATE:19800101T000000
END:STANDARD
BEGIN:STANDARD
TZNAME:CET
TZOFFSETFROM:+0200
TZOFFSETTO:+0100
DTSTART:19471005T030000
RRULE:FREQ=YEARLY;UNTIL=19491002T010000Z;BYMONTH=10;BYDAY=1SU
END:STANDARD
BEGIN:STANDARD
TZNAME:CET
TZOFFSETFROM:+0200
TZOFFSETTO:+0100
DTSTART:19800928T030000
RRULE:FREQ=YEARLY;UNTIL=19950924T010000Z;BYMONTH=9;BYDAY=-1SU
END:STANDARD
BEGIN:DAYLIGHT
TZNAME:CEST
TZOFFSETFROM:+0100
TZOFFSETTO:+0200
DTSTART:19810329T020000
RRULE:FREQ=YEARLY;BYMONTH=3;BYDAY=-1SU
END:DAYLIGHT
BEGIN:STANDARD
TZNAME:CET
TZOFFSETFROM:+0200
TZOFFSETTO:+0100
DTSTART:19961027T030000
RRULE:FREQ=YEARLY;BYMONTH=10;BYDAY=-1SU
END:STANDARD
END:VTIMEZONE
BEGIN:VEVENT
DTSTAMP:20260423T185924Z
DTSTART;TZID=Europe/Berlin:20241120T194500
DTEND;TZID=Europe/Berlin:20241120T224500
SUMMARY:O40-G2 Emmen vs Goldau (0)
UID:66c71e9f-b1ff-4b6a-afa2-084c5b208545
STATUS:CONFIRMED
LAST-MODIFIED:20241122T141827Z
DESCRIPTION:Sen O40 Gruppe 2\nBegegnungs-Nr: 0\nHeim: Emmen\nGast: Goldau\n\nAdresse: Rüeggisingerstrasse 26\, 6020 Emmenbrücke\n
LOCATION:Rüeggisingerstrasse 26\, 6020 Emmenbrücke
CATEGORIES:Saison 2024/25
END:VEVENT
BEGIN:VEVENT
DTSTAMP:20260423T185924Z
DTSTART;TZID=Europe/Berlin:20240904T194500
DTEND;TZID=Europe/Berlin:20240904T224500
SUMMARY:O40-G2 Emmen vs Kriens (0)
UID:c7644641-a0b7-40b1-81b9-237bf4767d8e
STATUS:CONFIRMED
LAST-MODIFIED:20240912T091018Z
DESCRIPTION:Sen O40 Gruppe 2\nBegegnungs-Nr: 0\nHeim: Emmen\nGast: Kriens\n\nAdresse: Rüeggisingerstrasse 26\, 6020 Emmenbrücke\n
LOCATION:Rüeggisingerstrasse 26\, 6020 Emmenbrücke
CATEGORIES:Saison 2024/25
END:VEVENT
BEGIN:VEVENT
DTSTAMP:20260423T185924Z
DTSTART;TZID=Europe/Berlin:20241125T194500
DTEND;TZID=Europe/Berlin:20241125T224500
SUMMARY:O40-G2 Willisau vs Emmen (0)
UID:1d026086-d9b6-4be8-b182-1733401cfc0a
STATUS:CONFIRMED
LAST-MODIFIED:20241129T104326Z
DESCRIPTION:Sen O40 Gruppe 2\nBegegnungs-Nr: 0\nHeim: Willisau\nGast: Emmen\n\nAdresse: Berufsbildung-Zentrum\, 6130 Willisau\n
LOCATION:Berufsbildung-Zentrum\, 6130 Willisau
CATEGORIES:Saison 2024/25
END:VEVENT
BEGIN:VEVENT
DTSTAMP:20260423T185924Z
DTSTART;TZID=Europe/Berlin:20250107T200000
DTEND;TZID=Europe/Berlin:20250107T230000
SUMMARY:O40-G2 Reussbühl vs Emmen (0)
UID:6f8ae13c-c290-44d6-b4b4-201074525490
STATUS:CONFIRMED
LAST-MODIFIED:20250112T155318Z
DESCRIPTION:Sen O40 Gruppe 2\nBegegnungs-Nr: 0\nHeim: Reussbühl\nGast: Emmen\n\nAdresse: Obermättlistrasse 44\, 6015 Luzern\n
LOCATION:Obermättlistrasse 44\, 6015 Luzern
CATEGORIES:Saison 2024/25
END:VEVENT
END:VCALENDAR
